Workbook

Sheet Deckblatt
B1: zurück zum Cockpit
C7: immocation
C18: Bei dieser Excel-Datei handelt es sich um ein kostenpflichtiges Produkt, welches unter der u.s. Internetadresse erworben werden kann. Die Datei darf ohne Zustimmung weder vervielfältigt, noch weitergegeben oder sonst irgendwie anderen Benutzern zugänglich gemacht werden. Microsoft Excel ist ein Produkt der Firma Microsoft. Wir stehen in keinerlei rechtlicher Beziehung zu Microsoft und handeln auch nicht in Microsofts Namen. Wir weisen ausdrücklich darauf hin, dass wir keinerlei Rechts-, Steuer- oder Finanzberatung erbringen und die geschilderte Rechtslage zum Teil zur besseren Verständlichkeit und Lesbarkeit außerdem auch vereinfacht dargestellt wurde. Alle von uns erteilten Ratschläge fußen ausschließlich auf unserer persönlichen Erfahrung und unserer persönlichen Meinung. Auch wenn wir jede unserer Empfehlungen mit größtmöglicher Sorgfalt und umfangreicher Recherche entwickelt und fortlaufend kritisch hinterfragt haben, können wir hierfür keinerlei Gewähr bieten. Gleiches gilt auch für die Vollständigkeit und Richtigkeit der dargestellten Rechtslage. Die erteilten Ratschläge können ferner auch keine fundierte und auf den Einzelfall zugeschnittene Rechts-, Steuer- oder Finanzberatung ersetzen. Wir können daher weder eine Erfolgsgarantie für die von uns abgegebenen Empfehlungen noch eine Haftung für evtl. Folgen ihrer Anwendung übernehmen. Auch sämtliche Kalkulationstools wurden mit größter Sorgfalt erstellt. Wir haben durch mehrfache Überprüfungen bestmöglich versucht, Berechnungsfehler auszuschließen. Trotzdem können Fehler nicht vollständig ausgeschlossen werden. Daher können wir keine juristische Verantwortung und keinerlei Haftung für eventuell verbliebene Fehler und deren Folgen übernehmen. Um etwaige Fehler so weit wie möglich auszuschließen, empfehlen wir dringend und in jedem Fall eigenständige Kontrollrechnungen durchzuführen und ggf. zusätzlichen Fachrat eines Rechts-, Steuer- oder Finanzberaters einzuholen.
C41: Copyright 2021
C42: www.immocation.de

Sheet Cockpit
B1: Fix & Flip | E1: Cockpit | G1: Bankgespräch | J1: Sanierungsplaner | M1: Einheiten-Planer | P1: Konfiguration
B6: Objekt und Ankauf | G6: Finanzierung | J6: Bewirtschaftung | M6: Entwicklung und Verkauf | P6: Ergebnis
B8: Objekt | G8: Gesamt-Finanzierung | J8: Mieteinnahmen | M8: Dauer des Projekts | P8: Gewinn
B9: Adresse | C9: Musterstr. 64 58093 Musterstadt | G9: Darlehenssumme | H9: =H17+H24+H31 -> 250900 | J9: Kaltmiete pro Monat (Ist) | K9: ='Einheiten-Planer'!M19 -> 1600 | M9: Projektdauer in Tagen | N9: 90 | P9: Erwarteter Gesamt-Verkaufspreis | Q9: =N29 -> 625320
B10: Kaufdatum | C10: 43831 | D10: Kürzel* | E10: BB0719 | G10: Eigenkapital | H10: =E38-H9 -> 205465 | J10: Dauer der Mieteinnahmen (Tage) | K10: =N9 -> 90 | P10: - Kaufpreis inkl. Nebenkosten | Q10: =E32 -> 449600
B11: Übergang N./L.* | C11: 43739 | D11: Baujahr* | E11: 1940 | G11: Zinssatz gewichtet | H11: =IF(H9=0,"n/a",((H18*$H$17)+(H25*$H$24)+(H31*H32))/$H$9) -> 0.0225 | J11: Kum. Kaltmiete bis Projektabschluss | K11: =((K9*12)/365)*K10 -> 4734 | M11: Renovierungs- & Sanierungskosten | P11: - Zinskosten | Q11: =H12 -> 5394
B12: Stellplätze* | C12: 2 | D12: Garagen* | E12: 1 | G12: Zinskosten gesamt | H12: =H14-H13 -> 5394 | M12: Szenario LOW | N12: =Sanierungsplaner!H239 -> 4840 | P12: + Erhaltene Kaltmiete | Q12: =K11 -> 4734
B13: Bodenrichtwert* | D13: 2000 | G13: Kumulierte Tilgung bis Projektabschluss | H13: =H20+H27+H34 -> 1600 | J13: Laufende Kosten | M13: Szenario MEDIUM | N13: =Sanierungsplaner!I239 -> 6765 | P13: - Laufende Kosten | Q13: =K20 -> 1290
B14: 1000stel Anteil (bei einer ETW)* | D14: 547 | G14: Summe Finanzierungskosten | H14: =H21+H28+H37 -> 6994 | J14: Heizkosten | K14: 350 | M14: Szenario HIGH | N14: =Sanierungsplaner!J239 -> 8690 | P14: - Renovierungs- und Sanierungskosten | Q14: =N15 -> 6765
J15: Warmwasser | K15: 80 | M15: Mit welchem Szenario soll kalkuliert werden? | N15: 6765 | P15: - Vermarktungskosten | Q15: =N18+N19+N20+N21 -> 23000
B16: Fläche (laut Einheiten-Planer) | G16: Darlehen Bank I | J16: Kostenposition III | P16: = Gewinn vor Steuern & Gewinnbeteil. | Q16: =Q9-Q10-Q11+Q12-Q13-Q14-Q15 -> 144005
B17: Wohnfläche | D17: ='Einheiten-Planer'!E19 -> 200 | G17: Darlehenssumme | H17: 50000 | J17: Kostenposition IV | M17: Vermarktungskosten | P17: - Gewinnbeteiligung | Q17: =Q27 -> 28801
B18: Gewerbefläche | D18: ='Einheiten-Planer'!F19 -> 40 | G18: Zinssatz p. a. | H18: 0.0149 | J18: Weitere | M18: Vertriebsprovisionen | N18: 10000 | P18: = Gewinn vor Steuern | Q18: =Q16-Q17 -> 115204
B19: Gesamt Wohn-/Gewerbefläche | D19: =D17+D18 -> 240 | G19: Kumulierte Zinsen bis Projektabschluss | H19: =((H18*H17)/365*N9) -> 184 | J19: Summe laufende Kosten pro Monat | K19: =SUM(K14:K18) -> 430 | M19: Marketingkosten | N19: 2000 | P19: - Steuern | Q19: =Q34 -> 48386
B20: Nutzfläche | D20: ='Einheiten-Planer'!F17 -> 0 | G20: Kumulierte Tilgung bis Projektabschluss | H20: 500 | J20: Kum. Kosten bis Projektabschluss | K20: =K19/30*N9 -> 1290 | M20: Homestaging | N20: 10000 | P20: = Gewinn nach Steuern | Q20: =Q18-Q19 -> 66818
B21: Gesamt Fläche | D21: =D17+D18+D20 -> 240 | G21: Finanzierungskosten | H21: =((H18*H17)/365*N9)+H20 -> 684 | M21: Sonstiges | N21: 1000
B22: Grundstücksgröße (bei ETW anteilig)* | D22: 560
G23: Darlehen Bank II | M23: Erwarteter Verkaufspreis | P23: Nebenrechnung Steuer
B24: Kaufpreis und Kaufnebenkosten | G24: Darlehenssumme | H24: 900 | M24: Schätzung über Faktor (laut Einheiten-Planer) | N24: ='Einheiten-Planer'!V19 -> 595320 | P24: Erwarteter Verkaufspreis | Q24: =Q9 -> 625320
B25: Kaufpreis | D25: 400000 | G25: Zinssatz p. a. | H25: 0.01 | M25: Schätzung über qm-Preis (laut Einheiten-Planer) | N25: ='Einheiten-Planer'!T19 -> 595000 | P25: - Kaufpreis inkl. Nebenkosten | Q25: =E32 -> 449600
B26: pro m² | D26: =D25/D21 -> 1667 | G26: Kumulierte Zinsen bis Projektabschluss | H26: =((H24*H25)/365*N9) -> 2 | M26: Eigene Schätzung | N26: 700000 | P26: - Zinskosten | Q26: =H12 -> 5394
B27: Makler | D27: 0.059 | E27: =D25*D27 -> 23600 | G27: Kumulierte Tilgung bis Projektabschluss | H27: 100 | M27: Mit welcher Schätzung soll kalkuliert werden? | N27: 595320 | P27: - Gewinnbeteiligung | Q27: =H38*Q16 -> 28801
B28: Notar | D28: 0.015 | E28: =D25*D28 -> 6000 | G28: Finanzierungskosten | H28: =((H24*H25)/365*N9)+H27 -> 102 | M28: Ggf. zusätzlich für Stellplätze | N28: 30000 | P28: + Erhaltene Kaltmiete | Q28: =K11 -> 4734
B29: Grundbuch Amt | D29: 0.005 | E29: =D25*D29 -> 2000 | M29: Gesamt-Verkaufspreis | N29: =N27+N28 -> 625320 | P29: - Laufende Kosten | Q29: =K20 -> 1290
B30: Grunderwerbssteuer | D30: 0.035 | E30: =D25*D30 -> 14000 | G30: Co-Investment | P30: - Renovierungskosten | Q30: =N15 -> 6765
B31: Sonstige | D31: 0.01 | E31: =D25*D31 -> 4000 | G31: Investment | H31: 200000 | P31: - Vermarktungskosten | Q31: =N18+N19+N20+N21 -> 23000
B32: Gesamte Ankaufskosten | D32: =D27+D28+D29+D30+D31 -> 0.124 | E32: =D25+E27+E28+E30+E29+E31 -> 449600 | G32: Zinssatz p. a. | H32: 0.0245 | P32: = zu versteuernder Gewinn | Q32: =Q24-Q25-Q26-Q27+Q28-Q29-Q30-Q31 -> 115204
G33: Kumulierte Zinsen bis Projektabschluss | H33: =((H31*H32)/365*N9) -> 1208 | P33: * Steuersatz | Q33: 0.42
B34: Renovierungs- & Sanierungskosten | G34: Kumulierte Tilgung bis Projektabschluss | H34: 1000 | P34: = Steuern | Q34: =Q32*Q33 -> 48386
B35: In die Planung übernommenes Szenario | E35: =N15 -> 6765 | G35: Pauschalzins einmalig in % | H35: 0.02
G36: Pauschalzins absolut | H36: =(H31*H35) -> 4000 | P36: Gewinnmarge
B37: Gesamtinvestitionskosten (GIK) | G37: Finanzierungskosten Co-Investor | H37: =(H31*H35)+((H31*H32)/365*N9)+H34 -> 6208 | P37: Gewinn vor Steuern & Gewinnbeteiligung | Q37: =Q16/E38 -> 0.32
B38: Summe | E38: =E32+E35 -> 456365 | G38: Zusätzliche Gewinnbeteiligung | H38: 0.2 | P38: zu GIK
P39: Gewinn vor Steuern zu GIK | Q39: =Q18/E38 -> 0.25
P40: Gewinn nach Steuern zu GIK | Q40: =Q20/E38 -> 0.15
P42: Eigenkapitalrendite
P43: Gewinn vor Steuern & Gewinnbeteiligung | Q43: =Q16/H10 -> 0.7
B44: Fußnoten: | P44: zu Eigenkapital
B45: * = Optionale Information ohne Auswirkungen auf die Kalkulation | P45: Gewinn vor Steuern zu Eigenkapital | Q45: =Q18/H10 -> 0.56
P46: Gewinn nach Steuern zu Eigenkapital | Q46: =Q20/H10 -> 0.33
...

Sheet Bankgespräch
C1: zurück zum Cockpit | E1: Bankgespräch
B6: Investitionsübersicht für das Bankgespräch | N6: Erhalte bessere Darlehen:
C8: =Cockpit!C9 -> Musterstr. 64 58093 Musterstadt | I8: =Cockpit!C10 -> 43831 | N8: Drucke diese Übersicht aus, um deiner Bank dein Investment vorzustellen. Alle Zahlen stammen aus den vorhandenen Berechnungen. Für noch mehr Transparenz drucke auch die Tabelle "Cockpit". So zeigst du, dass du deine Zahlen wirklich im Griff hast und erhöhst deine Chance auf beste Konditionen.
C11: Vorher | G11: Nachher
C27: Investition | F27: Finanzierung | I27: Rentabilität
C29: Objektdetails | F29: Haupt-Darlehen | I29: Gewinnkalkulation
C30: Fläche | D30: =Cockpit!D21 -> 240 | F30: Summe | G30: =Cockpit!H17 -> 50000 | I30: Erwarteter Verkaufspreis | J30: =Cockpit!Q9 -> 625320
C31: Kaufpreis pro qm | D31: ='Einheiten-Planer'!S17 -> 1667 | F31: Annahme Zinsen | G31: =Cockpit!H18 -> 0.0149 | I31: - Kaufpreis inkl. Nebenkosten | J31: =Cockpit!Q10 -> 449600
I32: - Zinskosten | J32: =Cockpit!Q11 -> 5394
C33: Kapitalbedarf | F33: Weitere Darlehen & Co-Investment | I33: + Erhaltene Mieten | J33: =Cockpit!Q12 -> 4734
C34: Kaufpreis | D34: =Cockpit!D25 -> 400000 | F34: Summe | G34: =Cockpit!H9-Cockpit!H17 -> 200900 | I34: - Laufende Kosten | J34: =Cockpit!Q13 -> 1290
C35: Kaufnebenkosten | D35: =Cockpit!E32-Cockpit!D25 -> 49600 | F35: Annahme Zinsen | G35: =((Cockpit!H25*Cockpit!H25+Cockpit!H31*Cockpit!H32)/Cockpit!H9) -> 0.0195 | I35: - Renovierungskosten | J35: =Cockpit!Q14 -> 6765
C36: Zusätzl. Investitionsbedarf | D36: =Cockpit!Q14 -> 6765 | I36: - Vermarktungskosten | J36: =Cockpit!Q15 -> 23000
C37: Gesamtinvestitionskosten | D37: =SUM(D34:D36) -> 456365 | F37: Eigenkapital | I37: = Gewinn vor Steuern | J37: =Cockpit!Q16 -> 144005
F38: Summe | G38: =Cockpit!H10 -> 205465
D44: Finanzierungsstruktur | G44: Verkaufsgewinn
D45: Kapitalbeschaffung | H45: Einnahmen | I45: Ausgaben
D46: Eigenkapital | E46: =Cockpit!H10 -> 205465 | G46: Erwarteter Verkaufspreis | H46: =Cockpit!Q9 -> 625320
D47: Fremdkapital Bank I | E47: =Cockpit!H17 -> 50000 | G47: Kaufpreis inkl. Nebenkosten | I47: =Cockpit!Q10 -> 449600
D48: Fremdkapital Bank 2 | E48: =Cockpit!H24 -> 900 | G48: Finanzierungskosten | I48: =Cockpit!Q11 -> 5394
D49: Fremdkapital Co-Investment | E49: =Cockpit!H31 -> 200000 | G49: Erhaltene Miete | H49: =Cockpit!Q12 -> 4734
G50: Laufende Kosten | I50: =Cockpit!Q13 -> 1290
G51: Renovierungskosten | I51: =Cockpit!Q14 -> 6765
G52: Vermarktungskosten | I52: =Cockpit!Q15 -> 23000
B58: Keine Gewähr für die Richtigkeit der Angaben. Dieses Tool ersetzt keine fundierte Rechts-, Steuer- oder Finanzberatung. Mehr Details hier.

Sheet Sanierungsplaner
B1: zurück zum Cockpit | C1: Renovierungs- & Sanierungsplaner
A5: ↓ | B5: Filter
B6: Tätigkeit | C6: Einheit | D6: Kosten p. E. LOW | E6: Kosten p. E. MEDIUM | F6: Kosten p. E. HIGH | G6: Geplanter Aufwand (Einheiten) | H6: Kosten LOW | I6: Kosten MEDIUM | J6: Kosten HIGH | K6: Kommentar
A7: Nur Tätigkeiten mit geplantem Aufwand
B8: Dieser Planer funktioniert wie (d)ein persönlich wachsender Sanierungskatalog. Du füllst ihn nach und nach mit den für deine Investments relevanten Tätigkeiten und den für deinen Standort realistischen Preisen. In Zukunft schätzt du dann vor Sanierungen / Renovierungen nur noch, wie viele Einheiten du von welcher Tätigkeit benötigst. Du kannst die Tätigkeitsgruppen (bspw. "Fassade / Außenhülle") umbenennen und deinen Bedürfnissen anpassen. Möchtest du dir nur die Tätigkeiten anzeigen lassen, für die du tatsächlich Arbeit eingeplant hast? Dann klicke oben Links auf den Filter und wähle "Nur Tätigkeiten mit geplantem Aufwand" aus. Um verschiedenen Ausstattungsniveaus einer Wohnung Rechnung zu tragen, haben wir diese für jede Renovierung unterteilt. "High" steht für eine luxuriöse und "Low" für eine einfache Ausstattung.
A16: =IF(COUNTIF(A17:A31,"Nur Tätigkeiten mit geplantem Aufwand")>0,"Nur Tätigkeiten mit geplantem Aufwand","") -> Nur Tätigkeiten mit geplantem Aufwand | B16: Fassade / Gebäudehülle | H16: =SUM(H17:H31) -> 4400 | I16: =SUM(I17:I31) -> 6150 | J16: =SUM(J17:J31) -> 7900
A17: =IF(OR(I17>0,J17>0),"Nur Tätigkeiten mit geplantem Aufwand","") -> Nur Tätigkeiten mit geplantem Aufwand | B17: Gerüst: Aufstellen, 4 Wochen, Abbau (ohne Staubschutz) | C17: m² Wandfläche | D17: 10 | E17: 15 | F17: 20 | G17: 150 | H17: =D17*G17 -> 1500 | I17: =E17*G17 -> 2250 | J17: =F17*G17 -> 3000
A18: =IF(OR(I18>0,J18>0),"Nur Tätigkeiten mit geplantem Aufwand","") -> Nur Tätigkeiten mit geplantem Aufwand | B18: Anstrich und einfache Beschichtung auf Altplutz inkl. Gerüst | C18: m² Wandfläche | D18: 10 | E18: 15 | F18: 20 | G18: 200 | H18: =D18*G18 -> 2000 | I18: =E18*G18 -> 3000 | J18: =F18*G18 -> 4000
A19: =IF(OR(I19>0,J19>0),"Nur Tätigkeiten mit geplantem Aufwand","") -> Nur Tätigkeiten mit geplantem Aufwand | B19: Reinigungskosten Fassade (Pauschal) | C19: Pauschal | D19: 900 | E19: 900 | F19: 900 | G19: 1 | H19: =D19*G19 -> 900 | I19: =E19*G19 -> 900 | J19: =F19*G19 -> 900
A20: =IF(OR(I20>0,J20>0),"Nur Tätigkeiten mit geplantem Aufwand","") | H20: =D20*G20 -> 0 | I20: =E20*G20 -> 0 | J20: =F20*G20 -> 0
A21: =IF(OR(I21>0,J21>0),"Nur Tätigkeiten mit geplantem Aufwand","") | H21: =D21*G21 -> 0 | I21: =E21*G21 -> 0 | J21: =F21*G21 -> 0
A22: =IF(OR(I22>0,J22>0),"Nur Tätigkeiten mit geplantem Aufwand","") | H22: =D22*G22 -> 0 | I22: =E22*G22 -> 0 | J22: =F22*G22 -> 0
A23: =IF(OR(I23>0,J23>0),"Nur Tätigkeiten mit geplantem Aufwand","") | H23: =D23*G23 -> 0 | I23: =E23*G23 -> 0 | J23: =F23*G23 -> 0
A24: =IF(OR(I24>0,J24>0),"Nur Tätigkeiten mit geplantem Aufwand","") | H24: =D24*G24 -> 0 | I24: =E24*G24 -> 0 | J24: =F24*G24 -> 0
A25: =IF(OR(I25>0,J25>0),"Nur Tätigkeiten mit geplantem Aufwand","") | H25: =D25*G25 -> 0 | I25: =E25*G25 -> 0 | J25: =F25*G25 -> 0
A26: =IF(OR(I26>0,J26>0),"Nur Tätigkeiten mit geplantem Aufwand","") | H26: =D26*G26 -> 0 | I26: =E26*G26 -> 0 | J26: =F26*G26 -> 0
A27: =IF(OR(I27>0,J27>0),"Nur Tätigkeiten mit geplantem Aufwand","") | H27: =D27*G27 -> 0 | I27: =E27*G27 -> 0 | J27: =F27*G27 -> 0
A28: =IF(OR(I28>0,J28>0),"Nur Tätigkeiten mit geplantem Aufwand","") | H28: =D28*G28 -> 0 | I28: =E28*G28 -> 0 | J28: =F28*G28 -> 0
A29: =IF(OR(I29>0,J29>0),"Nur Tätigkeiten mit geplantem Aufwand","") | H29: =D29*G29 -> 0 | I29: =E29*G29 -> 0 | J29: =F29*G29 -> 0
A30: =IF(OR(I30>0,J30>0),"Nur Tätigkeiten mit geplantem Aufwand","") | H30: =D30*G30 -> 0 | I30: =E30*G30 -> 0 | J30: =F30*G30 -> 0
A31: =IF(OR(I31>0,J31>0),"Nur Tätigkeiten mit geplantem Aufwand","") | H31: =D31*G31 -> 0 | I31: =E31*G31 -> 0 | J31: =F31*G31 -> 0
A32: =IF(COUNTIF(A34:A48,"Nur Tätigkeiten mit geplantem Aufwand")>0,"Nur Tätigkeiten mit geplantem Aufwand","")
A33: =IF(COUNTIF(A34:A48,"Nur Tätigkeiten mit geplantem Aufwand")>0,"Nur Tätigkeiten mit geplantem Aufwand","") | B33: Dach (inkl. Dachfenster / Ausbau) | H33: =SUM(H34:H48) -> 0 | I33: =SUM(I34:I48) -> 0 | J33: =SUM(J34:J48) -> 0
A34: =IF(OR(I34>0,J34>0),"Nur Tätigkeiten mit geplantem Aufwand","") | H34: =D34*G34 -> 0 | I34: =E34*G34 -> 0 | J34: =F34*G34 -> 0
A35: =IF(OR(I35>0,J35>0),"Nur Tätigkeiten mit geplantem Aufwand","") | H35: =D35*G35 -> 0 | I35: =E35*G35 -> 0 | J35: =F35*G35 -> 0
A36: =IF(OR(I36>0,J36>0),"Nur Tätigkeiten mit geplantem Aufwand","") | H36: =D36*G36 -> 0 | I36: =E36*G36 -> 0 | J36: =F36*G36 -> 0
A37: =IF(OR(I37>0,J37>0),"Nur Tätigkeiten mit geplantem Aufwand","") | H37: =D37*G37 -> 0 | I37: =E37*G37 -> 0 | J37: =F37*G37 -> 0
A38: =IF(OR(I38>0,J38>0),"Nur Tätigkeiten mit geplantem Aufwand","") | H38: =D38*G38 -> 0 | I38: =E38*G38 -> 0 | J38: =F38*G38 -> 0
A39: =IF(OR(I39>0,J39>0),"Nur Tätigkeiten mit geplantem Aufwand","") | H39: =D39*G39 -> 0 | I39: =E39*G39 -> 0 | J39: =F39*G39 -> 0
A40: =IF(OR(I40>0,J40>0),"Nur Tätigkeiten mit geplantem Aufwand","") | H40: =D40*G40 -> 0 | I40: =E40*G40 -> 0 | J40: =F40*G40 -> 0
A41: =IF(OR(I41>0,J41>0),"Nur Tätigkeiten mit geplantem Aufwand","") | H41: =D41*G41 -> 0 | I41: =E41*G41 -> 0 | J41: =F41*G41 -> 0
A42: =IF(OR(I42>0,J42>0),"Nur Tätigkeiten mit geplantem Aufwand","") | H42: =D42*G42 -> 0 | I42: =E42*G42 -> 0 | J42: =F42*G42 -> 0
A43: =IF(OR(I43>0,J43>0),"Nur Tätigkeiten mit geplantem Aufwand","") | H43: =D43*G43 -> 0 | I43: =E43*G43 -> 0 | J43: =F43*G43 -> 0
A44: =IF(OR(I44>0,J44>0),"Nur Tätigkeiten mit geplantem Aufwand","") | H44: =D44*G44 -> 0 | I44: =E44*G44 -> 0 | J44: =F44*G44 -> 0
A45: =IF(OR(I45>0,J45>0),"Nur Tätigkeiten mit geplantem Aufwand","") | H45: =D45*G45 -> 0 | I45: =E45*G45 -> 0 | J45: =F45*G45 -> 0
... A48: =IF(OR(I48>0,J48>0),"Nur Tätigkeiten mit geplantem Aufwand","") | H48: =D48*G48 -> 0 | I48: =E48*G48 -> 0 | J48: =F48*G48 -> 0
A49: =IF(COUNTIF(A51:A65,"Nur Tätigkeiten mit geplantem Aufwand")>0,"Nur Tätigkeiten mit geplantem Aufwand","")
A50: =IF(COUNTIF(A51:A65,"Nur Tätigkeiten mit geplantem Aufwand")>0,"Nur Tätigkeiten mit geplantem Aufwand","") | B50: Keller | H50: =SUM(H51:H65) -> 0 | I50: =SUM(I51:I65) -> 0 | J50: =SUM(J51:J65) -> 0
A51: =IF(OR(I51>0,J51>0),"Nur Tätigkeiten mit geplantem Aufwand","") | H51: =D51*G51 -> 0 | I51: =E51*G51 -> 0 | J51: =F51*G51 -> 0
A52: =IF(OR(I52>0,J52>0),"Nur Tätigkeiten mit geplantem Aufwand","") | H52: =D52*G52 -> 0 | I52: =E52*G52 -> 0 | J52: =F52*G52 -> 0
...

Sheet Einheiten-Planer
B1: zurück zum Cockpit | D1: Einheiten-Planer
B5: Stammdaten | M5: Verkaufspreis-Kalkulator
B6: Einheit | C6: Wohnungs-nummer | D6: Nutzungsart | E6: Wohnfläche | F6: Gewerbe-fläche | G6: Nutzfläche | H6: Vertrags-beginn | I6: Letzte Miet-erhöhung | J6: Nächste Miet-erhöhung | K6: Kaution | L6: Anzahl der Zimmer | M6: Nettokalt-miete Ist | N6: Miet-erhöhung Nettokalt-miete in % | O6: Nettokalt-miete Soll | P6: Betriebs-kosten | Q6: Nettokalt-miete pro qm Ist | R6: Nettokalt-miete pro qm Soll | S6: Angenomme-ner Verkaufs-preis pro qm | T6: Verkaufspreis auf Basis des qm-Preises | U6: Kauf-preis-faktor | V6: Verkaufspreis auf Basis des Kaufpreisfaktors
B8: Dieser Planer hilft dir die Zahlen deines Fix&Flip-Objektes (ETW oder MFH) übersichtlich darzustellen und, wenn vorhanden, Mieterhöhungspotenziale durch Entwicklung zu identifizieren bzw. in den zu erwarteten Verkaufspreis im Cockpit einzubinden. In die blau hinterlegten Felder kannst du deine Zahlen einpflegen um qm-Preise oder Mieterhöhungspotenziale zu entdecken. Wenn Du eine Wohnung flippen möchtest, die durch Renovierung aufgewertet wird und nicht neu vermietet wird (z.B. für Eigennutzer), nutzt du am besten den qm-Preis der Wohnung, den du mithilfe von Immobilienscout24, Pricehubble, Immowelt oder durch die Erfahrung eines Immobilienmaklers herausfinden kannst.
S16: Einkaufs-preis pro qm | U16: Einkaufs-faktor
S17: =Cockpit!D25/Cockpit!D21 -> 1666.67 | U17: =Cockpit!D25/('Einheiten-Planer'!M19*12) -> 21
E19: =SUM(E20:E49) -> 200 | F19: =SUM(F20:F49) -> 40 | G19: =SUM(G20:G49) -> 10 | K19: =SUM(K20:K49) -> 4100 | M19: =SUM(M20:M49) -> 1600 | N19: =(O19-M19)/M19 -> 0.1406 | O19: =SUM(O20:O49) -> 1825 | P19: =SUM(P20:P49) -> 500 | Q19: =M19/(E19+F19+G19) -> 6.4 | R19: =O19/(E19+F19+G19) -> 7.3 | S19: =T19/(E19+F19+G19) -> 2380 | T19: =SUM(T20:T49) -> 595000 | U19: =V19/(O19*12) -> 27.183562 | V19: =SUM(V20:V49) -> 595320
B20: EG vorne links: Martina Müller | C20: 1 | D20: Wohnen | E20: 50 | H20: 43466 | I20: 42826 | J20: 42887 | K20: 1500 | L20: 3 | M20: 300 | N20: 0.15 | O20: =(M20*N20)+M20 -> 345 | P20: 100 | Q20: =IFERROR((M20/SUM(E20+F20+G20)),"") -> 6 | R20: =IFERROR((O20/SUM(E20+F20+G20)),"") -> 6.9 | S20: 2500 | T20: =(SUM(E20+F20+G20)*S20) -> 125000 | U20: 28 | V20: =(12*O20)*U20 -> 115920
B21: EG vorne links: Maik Müller | C21: 2 | D21: Gewerbe | F21: 40 | H21: 43466 | I21: 42826 | J21: 42887 | K21: 1000 | L21: 2 | M21: 300 | N21: 0.15 | O21: =(M21*N21)+M21 -> 345 | P21: 100 | Q21: =IFERROR((M21/SUM(E21+F21+G21)),"") -> 7.5 | R21: =IFERROR((O21/SUM(E21+F21+G21)),"") -> 8.63 | S21: 2000 | T21: =(SUM(E21+F21+G21)*S21) -> 80000 | U21: 26 | V21: =(12*O21)*U21 -> 107640
B22: EG vorne links: Klaus Schmidt | C22: 3 | D22: Wohnen | E22: 50 | H22: 43862 | I22: 42826 | J22: 42887 | K22: 100 | L22: 2 | M22: 300 | N22: 0.15 | O22: =(M22*N22)+M22 -> 345 | P22: 100 | Q22: =IFERROR((M22/SUM(E22+F22+G22)),"") -> 6 | R22: =IFERROR((O22/SUM(E22+F22+G22)),"") -> 6.9 | S22: 2500 | T22: =(SUM(E22+F22+G22)*S22) -> 125000 | U22: 28 | V22: =(12*O22)*U22 -> 115920
B23: EG vorne links: Vivien Beug | C23: 4 | D23: Wohnen | E23: 50 | H23: 43132 | I23: 42826 | J23: 42887 | K23: 400 | L23: 2 | M23: 300 | N23: 0.15 | O23: =(M23*N23)+M23 -> 345 | P23: 100 | Q23: =IFERROR((M23/SUM(E23+F23+G23)),"") -> 6 | R23: =IFERROR((O23/SUM(E23+F23+G23)),"") -> 6.9 | S23: 2500 | T23: =(SUM(E23+F23+G23)*S23) -> 125000 | U23: 28 | V23: =(12*O23)*U23 -> 115920
B24: EG vorne links: Peter Altenberg | C24: 5 | D24: Wohnen | E24: 50 | H24: 43497 | I24: 42826 | J24: 42887 | K24: 1000 | L24: 2 | M24: 300 | N24: 0.15 | O24: =(M24*N24)+M24 -> 345 | P24: 100 | Q24: =IFERROR((M24/SUM(E24+F24+G24)),"") -> 6 | R24: =IFERROR((O24/SUM(E24+F24+G24)),"") -> 6.9 | S24: 2500 | T24: =(SUM(E24+F24+G24)*S24) -> 125000 | U24: 28 | V24: =(12*O24)*U24 -> 115920
B25: Nutzfläche Keller | C25: - | D25: Nutzfläche | G25: 10 | H25: 43497 | I25: 42826 | J25: 42887 | K25: 100 | L25: 1 | M25: 100 | N25: 0 | O25: =(M25*N25)+M25 -> 100 | P25: 0 | Q25: =IFERROR((M25/SUM(E25+F25+G25)),"") -> 10 | R25: =IFERROR((O25/SUM(E25+F25+G25)),"") -> 10 | S25: 1500 | T25: =(SUM(E25+F25+G25)*S25) -> 15000 | U25: 20 | V25: =(12*O25)*U25 -> 24000
O26: =(M26*N26)+M26 -> 0 | Q26: =IFERROR((M26/SUM(E26+F26+G26)),"") | R26: =IFERROR((O26/SUM(E26+F26+G26)),"") | T26: =(SUM(E26+F26+G26)*S26) -> 0 | V26: =(12*O26)*U26 -> 0
O27: =(M27*N27)+M27 -> 0 | Q27: =IFERROR((M27/SUM(E27+F27+G27)),"") | R27: =IFERROR((O27/SUM(E27+F27+G27)),"") | T27: =(SUM(E27+F27+G27)*S27) -> 0 | V27: =(12*O27)*U27 -> 0
O28: =(M28*N28)+M28 -> 0 | Q28: =IFERROR((M28/SUM(E28+F28+G28)),"") | R28: =IFERROR((O28/SUM(E28+F28+G28)),"") | T28: =(SUM(E28+F28+G28)*S28) -> 0 | V28: =(12*O28)*U28 -> 0
O29: =(M29*N29)+M29 -> 0 | Q29: =IFERROR((M29/SUM(E29+F29+G29)),"") | R29: =IFERROR((O29/SUM(E29+F29+G29)),"") | T29: =(SUM(E29+F29+G29)*S29) -> 0 | V29: =(12*O29)*U29 -> 0
O30: =(M30*N30)+M30 -> 0 | Q30: =IFERROR((M30/SUM(E30+F30+G30)),"") | R30: =IFERROR((O30/SUM(E30+F30+G30)),"") | T30: =(SUM(E30+F30+G30)*S30) -> 0 | V30: =(12*O30)*U30 -> 0
O31: =(M31*N31)+M31 -> 0 | Q31: =IFERROR((M31/SUM(E31+F31+G31)),"") | R31: =IFERROR((O31/SUM(E31+F31+G31)),"") | T31: =(SUM(E31+F31+G31)*S31) -> 0 | V31: =(12*O31)*U31 -> 0
O32: =(M32*N32)+M32 -> 0 | Q32: =IFERROR((M32/SUM(E32+F32+G32)),"") | R32: =IFERROR((O32/SUM(E32+F32+G32)),"") | T32: =(SUM(E32+F32+G32)*S32) -> 0 | V32: =(12*O32)*U32 -> 0
O33: =(M33*N33)+M33 -> 0 | Q33: =IFERROR((M33/SUM(E33+F33+G33)),"") | R33: =IFERROR((O33/SUM(E33+F33+G33)),"") | T33: =(SUM(E33+F33+G33)*S33) -> 0 | V33: =(12*O33)*U33 -> 0
O34: =(M34*N34)+M34 -> 0 | Q34: =IFERROR((M34/SUM(E34+F34+G34)),"") | R34: =IFERROR((O34/SUM(E34+F34+G34)),"") | T34: =(SUM(E34+F34+G34)*S34) -> 0 | V34: =(12*O34)*U34 -> 0
O35: =(M35*N35)+M35 -> 0 | Q35: =IFERROR((M35/SUM(E35+F35+G35)),"") | R35: =IFERROR((O35/SUM(E35+F35+G35)),"") | T35: =(SUM(E35+F35+G35)*S35) -> 0 | V35: =(12*O35)*U35 -> 0
O36: =(M36*N36)+M36 -> 0 | Q36: =IFERROR((M36/SUM(E36+F36+G36)),"") | R36: =IFERROR((O36/SUM(E36+F36+G36)),"") | T36: =(SUM(E36+F36+G36)*S36) -> 0 | V36: =(12*O36)*U36 -> 0
O37: =(M37*N37)+M37 -> 0 | Q37: =IFERROR((M37/SUM(E37+F37+G37)),"") | R37: =IFERROR((O37/SUM(E37+F37+G37)),"") | T37: =(SUM(E37+F37+G37)*S37) -> 0 | V37: =(12*O37)*U37 -> 0
... O49: =(M49*N49)+M49 -> 0 | Q49: =IFERROR((M49/SUM(E49+F49+G49)),"") | R49: =IFERROR((O49/SUM(E49+F49+G49)),"") | T49: =(SUM(E49+F49+G49)*S49) -> 0 | V49: =(12*O49)*U49 -> 0
B259: Keine Gewähr für die Richtigkeit der Angaben. Dieses Tool ersetzt keine fundierte Rechts-, Steuer- oder Finanzberatung. Mehr Details hier.

Sheet Konfiguration
B1: zurück zum Cockpit | E1: Konfiguration
B6: Schwellwerte für Kennzahlen-Farben
B7: Kennzahl | C7: Grün | D7: Gelb | E7: Rot
B8: Gewinn vor Steuern & Gewinnbeteiligung | C8: 50000 | D8: 30000 | E8: 15000
B9: Gewinn vor Steuern | C9: 30000 | D9: 20000 | E9: 10000
B10: Gewinn nach Steuern | C10: 20000 | D10: 10000 | E10: 5000
B11: Gewinnmarge vor Steuern & Gewinnbeteiligung | C11: 0.35 | D11: 0.15 | E11: 0.1 | F11: =IF(NOT(AND(C13>D13,D13>E13)),"Ungültige Kombination. Grün muss > gelb muss > rot sein.","")
B12: Gewinnmarge vor Steuern | C12: 0.25 | D12: 0.1 | E12: 0.05
B13: Gewinnmarge nach Steuern | C13: 0.15 | D13: 0.08 | E13: 0.04
B14: Eigenkapitalrendite vor Steuern & Gewinnbeteiligung | C14: 0.35 | D14: 0.15 | E14: 0.1
B15: Eigenkapitalrendite vor Steuern | C15: 0.25 | D15: 0.1 | E15: 0.05
B16: Eigenkapitalrendite nach Steuern | C16: 0.15 | D16: 0.08 | E16: 0.04
B18: Grunderwerbsteuer nach Bundesländern
B19: bitte wählen | C19: 0
B20: Baden-Württemberg | C20: 0.05
B21: Bayern | C21: 0.035
B22: Berlin | C22: 0.06
B23: Brandenburg | C23: 0.065
B24: Bremen | C24: 0.05
B25: Hamburg | C25: 0.04
B26: Hessen | C26: 0.06
B27: Mecklenburg-Vorpommern | C27: 0.06
B28: Niedersachsen | C28: 0.05
B29: Nordrhein-Westfalen | C29: 0.065
B30: Rheinland-Pfalz | C30: 0.05
... B35: Thüringen | C35: 0.065
B39: Keine Gewähr für die Richtigkeit der Angaben. Dieses Tool ersetzt keine fundierte Rechts-, Steuer- oder Finanzberatung. Mehr Details hier.
