Workbook

Sheet Deckblatt
B1: zurück zum Cockpit
C7: immocation
C18: Bei dieser Excel-Datei handelt es sich um ein kostenpflichtiges Produkt, welches unter der u.s. Internetadresse erworben werden kann. Die Datei darf ohne Zustimmung weder vervielfältigt, noch weitergegeben oder sonst irgendwie anderen Benutzern zugänglich gemacht werden. Microsoft Excel ist ein Produkt der Firma Microsoft. Wir stehen in keinerlei rechtlicher Beziehung zu Microsoft und handeln auch nicht in Microsofts Namen. Wir weisen ausdrücklich darauf hin, dass wir keinerlei Rechts-, Steuer- oder Finanzberatung erbringen und die geschilderte Rechtslage zum Teil zur besseren Verständlichkeit und Lesbarkeit außerdem auch vereinfacht dargestellt wurde. Alle von uns erteilten Ratschläge fußen ausschließlich auf unserer persönlichen Erfahrung und unserer persönlichen Meinung. Auch wenn wir jede unserer Empfehlungen mit größtmöglicher Sorgfalt und umfangreicher Recherche entwickelt und fortlaufend kritisch hinterfragt haben, können wir hierfür keinerlei Gewähr bieten. Gleiches gilt auch für die Vollständigkeit und Richtigkeit der dargestellten Rechtslage. Die erteilten Ratschläge können ferner auch keine fundierte und auf den Einzelfall zugeschnittene Rechts-, Steuer- oder Finanzberatung ersetzen. Wir können daher weder eine Erfolgsgarantie für die von uns abgegebenen Empfehlungen noch eine Haftung für evtl. Folgen ihrer Anwendung übernehmen. Auch sämtliche Kalkulationstools wurden mit größter Sorgfalt erstellt. Wir haben durch mehrfache Überprüfungen bestmöglich versucht, Berechnungsfehler auszuschließen. Trotzdem können Fehler nicht vollständig ausgeschlossen werden. Daher können wir keine juristische Verantwortung und keinerlei Haftung für eventuell verbliebene Fehler und deren Folgen übernehmen. Um etwaige Fehler so weit wie möglich auszuschließen, empfehlen wir dringend und in jedem Fall eigenständige Kontrollrechnungen durchzuführen und ggf. zusätzlichen Fachrat eines Rechts-, Steuer- oder Finanzberaters einzuholen.
C41: Copyright 2023
C42: www.immocation.de

Sheet Roter Faden
C1: Roter Faden
B30: Keine Gewähr für die Richtigkeit der Angaben. Dieses Tool ersetzt keine fundierte Rechts-, Steuer- oder Finanzberatung. Mehr Details hier.

Sheet 0
C1: Roter Faden
B8: Adresse der Wohnung:
B12: Wohnfläche
B14: Kauf-Datum | E14: =TODAY() -> 45601
B24: Keine Gewähr für die Richtigkeit der Angaben. Dieses Tool ersetzt keine fundierte Rechts-, Steuer- oder Finanzberatung. Mehr Details hier.

Sheet 1
C1: Roter Faden
B8: Kaufpreis
B10: Kaltmiete
B13: Bruttomietrendite | E13: =IF(AND(E8>0,E10>0),Cockpit!Q14,"-") -> - | G13: =E13 -> -
B16: =IF(AND(E8>0,E10>0),IF(E13<0.04,"Bei der Wohnung musst du wahrscheinlich monatlich ordentlich Geld drauflegen.",IF(E13<0.06,"Die Wohnung könnte finanziell interessant sein. Ein genauerer Blick lohnt sich.","Die Wohnung ist finanziell sehr interessant. Du hast gute Chancen, dass sie sich von selbst abbezahlt.")),"")
B21: Keine Gewähr für die Richtigkeit der Angaben. Dieses Tool ersetzt keine fundierte Rechts-, Steuer- oder Finanzberatung. Mehr Details hier.

Sheet 2
C1: Roter Faden
B8: Bundesland | D8: bitte wählen
B10: Grunderwerbsteuer | E10: =IFERROR(VLOOKUP(D8,Konfiguration!B15:C31,2,FALSE),0) -> 0
B12: Makler
B14: Notar
B16: Grundbuch Amt
B18: Sonstige
B20: Deine Kaufnebenkosten | E20: =Cockpit!E21 -> 0
B24: Keine Gewähr für die Richtigkeit der Angaben. Dieses Tool ersetzt keine fundierte Rechts-, Steuer- oder Finanzberatung. Mehr Details hier.

Sheet 3
C1: Roter Faden
B8: Maßnahmen sofort
B10: Geplante Sonderumlagen
B12: + Kaufpreis und Nebenkosten | E12: =Cockpit!D14+Cockpit!E21 -> 0
B14: = Kapitalbedarf insgesamt | E14: =E8+E10+E12 -> 0
B16: Maßnahmen bei Mieterwechsel
B23: Keine Gewähr für die Richtigkeit der Angaben. Dieses Tool ersetzt keine fundierte Rechts-, Steuer- oder Finanzberatung. Mehr Details hier.

Sheet 4
C1: Roter Faden
B8: Darlehenshöhe vom Kaufpreis
B10: Darlehenssumme | E10: =Cockpit!N17 -> 0
B12: Zinsen pro Jahr
B14: Anfängliche Tilgung
B20: Keine Gewähr für die Richtigkeit der Angaben. Dieses Tool ersetzt keine fundierte Rechts-, Steuer- oder Finanzberatung. Mehr Details hier.

Sheet 5
C1: Roter Faden
B8: Deine Rate an die Bank | E8: =Cockpit!N13 -> 0
B10: Dann bist du schuldenfrei | E10: =calc_rf!C7 -> sofort
B12: So viel Eigenkapitel brauchst du | E12: =calc_rf!C8 -> 0
B18: Keine Gewähr für die Richtigkeit der Angaben. Dieses Tool ersetzt keine fundierte Rechts-, Steuer- oder Finanzberatung. Mehr Details hier.

Sheet 6
C1: Roter Faden
B8: Nicht umlagefähiges Hausgeld
B11: Rücklage für Mietausfall
B13: Eigene Instandhaltungsrücklage
B20: Keine Gewähr für die Richtigkeit der Angaben. Dieses Tool ersetzt keine fundierte Rechts-, Steuer- oder Finanzberatung. Mehr Details hier.

Sheet 7
C1: Roter Faden
B21: Keine Gewähr für die Richtigkeit der Angaben. Dieses Tool ersetzt keine fundierte Rechts-, Steuer- oder Finanzberatung. Mehr Details hier.

Sheet 8
C1: Roter Faden
B10: Zinsen festschreiben für Jahre
B12: =CONCATENATE("Gleiche Rate in ",IF(calc_rf!C9=1,"einem Jahr",CONCATENATE(calc_rf!C9," Jahren"))," bei:") -> Gleiche Rate in einem Jahr bei: | E12: =calc_rf!C11 -> -
B18: Keine Gewähr für die Richtigkeit der Angaben. Dieses Tool ersetzt keine fundierte Rechts-, Steuer- oder Finanzberatung. Mehr Details hier.

Sheet 9
C1: Roter Faden
B22: Keine Gewähr für die Richtigkeit der Angaben. Dieses Tool ersetzt keine fundierte Rechts-, Steuer- oder Finanzberatung. Mehr Details hier.

Sheet 10
C1: Roter Faden
B8: Wie viel Grund und Boden gehört zu deiner Wohnung?
B20: Keine Gewähr für die Richtigkeit der Angaben. Dieses Tool ersetzt keine fundierte Rechts-, Steuer- oder Finanzberatung. Mehr Details hier.

Sheet 11
C1: Roter Faden
B8: Baujahr des Hauses
B10: Garage im Kaufpreis enthalten?
B12: Gebäudeanteil am Kaufpreis | E12: =calc_rf!C21 -> 0
B14: Abschreibungssatz | E14: =IF(E8=cnfg_rf!B6,2.5%,2%) -> 0.02
B16: Abschreibung pro Monat | E16: ='Kennzahlen im Verlauf'!D24 -> 0
B23: Keine Gewähr für die Richtigkeit der Angaben. Dieses Tool ersetzt keine fundierte Rechts-, Steuer- oder Finanzberatung. Mehr Details hier.

Sheet 12
C1: Roter Faden
B8: Veranlagung
B10: Zu versteuerndes Einkommen
B12: Kirchensteuer
B14: Grenzsteuersatz circa | E14: =ekst_rf!C39 -> 0 | I14: =CONCATENATE("Auf deine Mieteinnahmen zahlst du rechnerisch pro Monat circa ",ROUND(Cockpit!Q34,0)," € Steuern. ") -> Auf deine Mieteinnahmen zahlst du rechnerisch pro Monat circa 0 € Steuern.
B16: Deine monatliche Steuer | E16: =Cockpit!Q34 -> 0 | I16: =CONCATENATE("Die Steuern ergeben sich, indem du von deinen Mieteinnahmen (",ROUND(Cockpit!H9,0)," €) die nicht umlagefähigen Bewirtschaftungskosten ohne Rücklagen (",ROUND(Cockpit!K29-Cockpit!K26-Cockpit!K27,0)," €), die Zinsen (",ROUND(Cockpit!Q30*-1,0)," €) und die Abschreibung (",ROUND(Cockpit!Q31*-1,0)," €) abziehst.") -> Die Steuern ergeben sich, indem du von deinen Mieteinnahmen (0 €) die nicht umlagefähigen Bewirtschaftungskosten ohne Rücklagen (0 €), die Zinsen (0 €) und die Abschreibung (0 €) abziehst.
I17: =CONCATENATE("Was übrig bleibt (",ROUND(Cockpit!Q32,0)," €), multiplizierst du mit deinem Grenzsteuersatz: ",ROUND(Cockpit!Q32,0)," € * ",ROUND(Cockpit!Q33*100,0),"% = ",ROUND(Cockpit!Q34,0)," € Steuern.") -> Was übrig bleibt (0 €), multiplizierst du mit deinem Grenzsteuersatz: 0 € * 0% = 0 € Steuern.
B22: Keine Gewähr für die Richtigkeit der Angaben. Dieses Tool ersetzt keine fundierte Rechts-, Steuer- oder Finanzberatung. Mehr Details hier.

Sheet 13
C1: Roter Faden
B33: Keine Gewähr für die Richtigkeit der Angaben. Dieses Tool ersetzt keine fundierte Rechts-, Steuer- oder Finanzberatung. Mehr Details hier.

Sheet 14
C1: Roter Faden
B26: Keine Gewähr für die Richtigkeit der Angaben. Dieses Tool ersetzt keine fundierte Rechts-, Steuer- oder Finanzberatung. Mehr Details hier.

Sheet 15
C1: Roter Faden
B28: Keine Gewähr für die Richtigkeit der Angaben. Dieses Tool ersetzt keine fundierte Rechts-, Steuer- oder Finanzberatung. Mehr Details hier.

Sheet Cockpit
C1: Roter Faden | E1: Cockpit | G1: Bankgespräch | J1: Kennzahlen im Verlauf | M1: Diagramme | P1: Tabelle entsperren | S1: Profi Funktionen
B6: Objekt und Investition | G6: Miete, Steuern, Rücklagen | J6: Bewirtschaftungskosten | M6: Finanzierung | P6: Kennzahlen heute | S6: Kennzahlen in der Zukunft
B8: Objekt und Kaufdatum | G8: Soll-Miete pro Monat | J8: Bewirtschaftungskosten pro Monat | M8: Gesamt-Finanzierung | P8: Vermögenszuwachs | S8: Betrachtungszeitpunkt
B9: Adresse | C9: =IF('0'!B10="","Bitte gib im roten Faden eine Adresse ein",'0'!B10) -> Bitte gib im roten Faden eine Adresse ein | G9: Nettokaltmiete | H9: ='1'!E10 -> 0 | J9: Umlagefähig | K9: =K21 -> 0 | M9: Darlehenssumme | N9: =N17+N24 -> 0 | P9: Vermögenszuwachs p.a. | Q9: =12*(-Q22+Q25)+'Kennzahlen im Verlauf'!D16 -> 0 | S9: Hochrechnung für das Jahr | T9: 2052
B10: Kaufdatum | C10: =IF('0'!E14="","01.01.2017",'0'!E14) -> 45601 | D10: Kürzel | E10: BoEl19 | G10: + Umlagefähige Kosten | H10: =K9 -> 0 | J10: Nicht umlagefähig | K10: =K29 -> 0 | M10: Eigenkapital | N10: =E33-N9 -> 0 | P10: ohne Wertsteigerung | Q10: =Q9-'Kennzahlen im Verlauf'!D16 -> 0 | S10: entspricht Jahre nach dem Kauf | T10: =T9-'Kennzahlen im Verlauf'!D28 -> 28
B11: Wohnfläche | C11: ='0'!E12 -> 0 | D11: Garage | E11: ='11'!E10 -> 0 | G11: = Warmmiete | H11: =H9+H10 -> 0 | J11: entspricht % der Nettokaltmiete | K11: =IFERROR(K10/H9,"-") -> - | M11: Zinssatz gewichtet | N11: =IF(N9=0,"n/a",((N18*$N$17)+(N25*$N$24))/$N$9) -> n/a
J12: Insgesamt | K12: =K9+K10 -> 0 | M12: Anfängliche Tilgung gewichtet | N12: =IF(N9=0,"n/a",((N19*$N$17)+(N26*$N$24))/$N$9) -> n/a | P12: Miete und Mietrendite | S12: Miete und Wert
B13: Kaufpreis und Kaufnebenkosten | M13: Kapitaldienst pro Monat | N13: =N20+N27 -> 0 | P13: Nettokaltmiete pro Jahr | Q13: =12*H9 -> 0 | S13: Nettokaltmiete pro Jahr | T13: =OFFSET('Kennzahlen im Verlauf'!D8,,Cockpit!T10)*12 -> 0
B14: Kaufpreis | D14: ='1'!E8 -> 0 | G14: Steuern | J14: Hausgeld | P14: Bruttomietrendite | Q14: =IFERROR(Q13/D14,"-") -> - | S14: pro qm und Monat | T14: =IFERROR(T13/12/C11,"-") -> -
B15: pro m² | D15: =IFERROR(D14/C11,"-") -> - | G15: AfA Satz | H15: ='11'!E14 -> 0.02 | J15: Hausgeld insgesamt | K15: =K18+K24 -> 0 | M15: Darlehen I | P15: Faktor | Q15: =IFERROR(D14/Q13,"-") -> - | S15: Wert der Immobilie (Jahresende) | T15: =OFFSET('Kennzahlen im Verlauf'!E14,,Cockpit!T10) -> 0
B16: Makler | D16: ='2'!E12 -> 0 | E16: =D16*$D$14 -> 0 | G16: Anteil Gebäude an Kaufpreis | H16: =calc_rf!C21 -> 0 | M16: Darlehenssumme % Kaufpreis | N16: ='4'!E8 -> 0 | P16: Nettomietrendite | Q16: =IFERROR((Q13-12*K10)/E33,"-") -> - | S16: pro qm | T16: =IFERROR(T15/C11,"-") -> -
B17: Notar | D17: ='2'!E14 -> 0 | E17: =D17*$D$14 -> 0 | G17: Basis für langfristige Abschreibung | H17: =H16*(D14+E21)+SUMIF(D25:D28,"Aktivieren",C25:C28) -> 0 | J17: Umlagefähige Kosten | M17: Darlehenssumme | N17: =N16*D14 -> 0
B18: Grundbuch Amt | D18: ='2'!E16 -> 0 | E18: =D18*$D$14 -> 0 | J18: Hausgeld (umlagefähiger Teil) | M18: Zinssatz | N18: ='4'!E12 -> 0 | P18: Cashflow pro Monat (Überschuss) | S18: Cashflow pro Monat (Überschuss)
B19: Grunderwerbssteuer | D19: ='2'!E10 -> 0 | E19: =D19*$D$14 -> 0 | G19: Rücklagen | J19: Grundsteuer | M19: Anfängliche Tilgung | N19: ='4'!E14 -> 0 | P19: Warmmiete | Q19: =H11 -> 0 | S19: Warmmiete | T19: =OFFSET('Kennzahlen im Verlauf'!D10,,Cockpit!T10) -> 0
B20: Sonstige | D20: ='2'!E18 -> 0 | E20: =D20*$D$14 -> 0 | G20: Kalkulatorischer Mietausfall | H20: ='6'!E11 -> 0 | J20: Sonstiges | K20: =K37 -> 0 | M20: Kapitaldienst pro Monat | N20: =(N18+N19)*N17/12 -> 0 | P20: - Bewirtschaftungskosten | Q20: =-K12 -> 0 | S20: - Bewirtschaftungskosten | T20: =-(K12-K27)*(1+H25)^T10-H20*T19 -> 0
B21: Summe | D21: =SUM(D16:D20) -> 0 | E21: =SUM(E16:E20) -> 0 | G21: Eigene Instandhalt.-Rückl. (pro m² p.a.) | H21: ='6'!E13 -> 0 | J21: Summe | K21: =SUM(K18:K20) -> 0 | M21: Jahr der Volltilgung | N21: =IFERROR(HLOOKUP(0,'Kennzahlen im Verlauf'!D41:BA62,22,FALSE),"-") -> 2024 | P21: - Zinsen | Q21: =IFERROR(-N11*N9/12,0) -> 0 | S21: - Zinsen | T21: =-OFFSET('Kennzahlen im Verlauf'!D67,,Cockpit!T10)/12 -> 0
G22: Empfohlene eigene Instandhalt.-Rückl. | H22: =IFERROR(((H16*D14)*(1/80*1.5)-(12*K25))/C11,"-") -> - | P22: - Tilgung | Q22: =IFERROR(-N12*N9/12,0) -> 0 | S22: - Tilgung | T22: =-OFFSET('Kennzahlen im Verlauf'!D71,,Cockpit!T10)/12 -> 0
B23: Anfängliche Investitionen | J23: Nicht umlagefähige Kosten | M23: Darlehen II | P23: = Cashflow operativ | Q23: =SUM(Q19:Q22) -> 0 | S23: = Cashflow operativ | T23: =SUM(T19:T22) -> 0
B24: Was | C24: Kosten | D24: Steuerlich | E24: Wertsteig. | G24: Prognose | J24: Hausgeld (nicht umlagefähiger Teil) | K24: ='6'!E8 -> 0 | M24: Darlehenssumme | P24: - Steuern | Q24: =-Q34 -> 0 | S24: - Steuern | T24: =-T34 -> 0
B25: Sofort n. Kauf | C25: ='3'!E8 -> 0 | D25: Sofort | E25: =C25 -> 0 | G25: Kostensteigerung p.a. | H25: 0.02 | J25: davon WEG Rücklage | K25: 23 | M25: Zinssatz | P25: = Cashflow nach Steuern | Q25: =Q23+Q24 -> 0 | S25: = Cashflow nach Steuern | T25: =T23+T24 -> 0
B26: Sonderumlagen | C26: ='3'!E10 -> 0 | D26: Sofort | E26: =C26 -> 0 | G26: Mietsteigerung p.a. | H26: 0.02 | J26: + Eigene Instandhaltungsrücklage | K26: =C11*H21/12 -> 0 | M26: Anfängliche Tilgung
B27: Sonstiges | C27: 0 | D27: Aktivieren | G27: Wertsteigerung p.a. | H27: 0.02 | J27: + Kalkulatorischer Mietausfall | K27: =H20*H11 -> 0 | M27: Kapitaldienst pro Monat | N27: =(N25+N26)*N24/12 -> 0 | P27: Nebenrechnung Steuer (Monatsbasis) | S27: Nebenrechnung Steuer (Monatsbasis)
B28: Sonstiges | C28: 0 | D28: Aktivieren | J28: + Sonstiges | K28: =K45 -> 0 | M28: Jahr der Volltilgung | N28: =HLOOKUP(0,'Kennzahlen im Verlauf'!D58:BA62,5,FALSE) -> 2024 | P28: Warmmiete | Q28: =Q19 -> 0 | S28: Warmmiete | T28: =T19 -> 0
B29: Summe | C29: =SUM(C25:C28) -> 0 | D29: Summe | E29: =SUM(E25:E28) -> 0 | J29: = Summe | K29: =K24+K26+K27+K28 -> 0 | P29: - Bewirt.-Kosten ohne eigene Rückl. | Q29: =-K12+K26+K27 -> 0 | S29: - Bewirt.-Kosten ohne eigene Rückl. | T29: =-(K12-K26-K27)*(1+H25)^T10 -> 0
B30: 15% Grenze | C30: =0.15*H16*(D14+E21)*1.19 -> 0 | D30: Neuer Wert | E30: =D14+E29 -> 0 | P30: - Zinsen | Q30: =Q21 -> 0 | S30: - Zinsen | T30: =T21 -> 0
J31: Sonstige umlagefähige Kosten (Details) | P31: - Abschreibung (AfA) | Q31: =-'Kennzahlen im Verlauf'!D24 -> 0 | S31: - Abschreibung (AfA) | T31: =-OFFSET('Kennzahlen im Verlauf'!D24,,Cockpit!T10) -> 0
B32: Gesamtinvestitionskosten | J32: Kostenposition I | P32: = zu versteuernder Cashflow | Q32: =SUM(Q28:Q31) -> 0 | S32: = zu versteuernder Cashflow | T32: =SUM(T28:T31) -> 0
B33: Summe | E33: =D14+E21+C29 -> 0 | J33: Kostenposition II | P33: * persönlicher Grenzsteuersatz | Q33: ='12'!E14 -> 0 | S33: * persönlicher Grenzsteuersatz | T33: =Q33 -> 0
J34: Kostenposition III | P34: = Steuern | Q34: =Q33*Q32 -> 0 | S34: = Steuern | T34: =T33*T32 -> 0
J35: Kostenposition IV
J36: Weitere Kosten | P36: Eigenkapitalrendite | S36: Zinsänderungsrisiko
J37: Summe | K37: =SUM(K32:K36) -> 0 | P37: Eigenkapitalrendite p.a. | Q37: =IFERROR(Q9/N10,"-") -> - | S37: Monatl. Zinsen für CF 0 nach Steuern | T37: =-(T21-T25/(1-T33)) -> 0
P38: ohne Wertsteigerung | Q38: =IFERROR(Q10/N10,"-") -> - | S38: = Zinssatz gewichtet (p.a.) | T38: =IF(OFFSET('Kennzahlen im Verlauf'!D63,,Cockpit!T10)=0,"-",T37*12/OFFSET('Kennzahlen im Verlauf'!D63,,Cockpit!T10)) -> -
J39: Sonstige nicht umlagefähige Kosten (Details)
J40: Kostenposition I
J41: Kostenposition II
J42: Kostenposition III
J43: Kostenposition IV
J44: Weitere Kosten
J45: Summe | K45: =SUM(K40:K44) -> 0
...

Sheet Bankgespräch
C1: zurück zum Cockpit | E1: Bankgespräch
B6: Investitionsübersicht für das Bankgespräch | N6: Erhalte bessere Darlehen:
C8: =Cockpit!C9 -> Bitte gib im roten Faden eine Adresse ein | I8: =Cockpit!C10 -> 45601 | N8: Drucke diese Übersicht aus, um deiner Bank dein Investment vorzustellen. Alle Zahlen stammen aus den vorhandenen Berechnungen. Für noch mehr Transparenz drucke auch die Tabelle "Cockpit". So zeigst du, dass du deine Zahlen wirklich im Griff hast und erhöhst deine Chance auf beste Konditionen.
N18: Um deiner Bank deine persönlichen finanziellen Verhältnisse darzustellen, kannst du folgende Vorlagen verwenden:
N23: zur Vorlage: Haushaltsrechnung
N24: zur Vorlage: Vermögensübersicht
C25: Investition | F25: Finanzierung | I25: Rentabilität
C27: Objektdetails | F27: Haupt-Darlehen | I27: Erwartete Mieteinkünfte | N27: Um die Bilder zu ändern, klicke mit rechts auf das Bild und wähle "Bild ändern".
C28: Wohnfläche | D28: =Cockpit!C11 -> 0 | F28: Summe | G28: =Cockpit!N17 -> 0 | I28: Nettokaltmiete | J28: =Cockpit!H9 -> 0
C29: Kaufpreis pro qm | D29: =Cockpit!D15 -> - | F29: Anfängliche Tilgung | G29: =Cockpit!N19 -> 0 | I29: Bruttomietrendite | J29: =Cockpit!Q14 -> -
F30: Annahme Zinsen | G30: =Cockpit!N18 -> 0 | I30: Kaufpreis Multiplikator | J30: =Cockpit!Q15 -> -
C32: Kapitalbedarf | F32: Weitere Darlehen | I32: Monatlicher Cashflow (Jahr 1)
C33: Kaufpreis | D33: =Cockpit!D14 -> 0 | F33: Summe | G33: =Cockpit!N9-Cockpit!N17 -> 0 | I33: Nettokaltmiete | J33: =Cockpit!H9 -> 0
C34: Kaufnebenkosten | D34: =Cockpit!E21 -> 0 | F34: Anfängliche Tilgung | G34: =IFERROR((Cockpit!N12*Cockpit!N9-Cockpit!N19*Cockpit!N17)/(Cockpit!N9-Cockpit!N17),"-") -> - | I34: =CONCATENATE("- Bewirtschaftungskosten",IFERROR(CONCATENATE(" (",TEXT(Cockpit!K11*100,"#"),"%)"),"")) -> - Bewirtschaftungskosten | J34: =Cockpit!K10 -> 0
C35: Zusätzl. Investitionsbedarf | D35: =Cockpit!C29 -> 0 | F35: Annahme Zinsen | G35: =IFERROR((Cockpit!N11*Cockpit!N9-Cockpit!N18*Cockpit!N17)/(Cockpit!N9-Cockpit!N17),"-") -> - | I35: - Zinsen | J35: =-Cockpit!Q21 -> 0
C36: Gesamtinvestitionskosten | D36: =SUM(D33:D35) -> 0 | I36: - Tilgung | J36: =-Cockpit!Q22 -> 0
F37: Eigenkapital | I37: = monatlicher Cashflow | J37: =J33-SUM(J34:J36) -> 0
F38: Summe | G38: =Cockpit!N10 -> 0
I42: Einnahme | J42: Ausgabe
H43: Nettokaltmiete | I43: =Cockpit!H9 -> 0
H44: Bewirt.-Kosten (nicht umlagefähig) | J44: =Cockpit!K10 -> 0
H45: Zinsen | J45: =-Cockpit!Q21 -> 0
H46: Tilgung | J46: =-Cockpit!Q22 -> 0
B56: Keine Gewähr für die Richtigkeit der Angaben. Dieses Tool ersetzt keine fundierte Rechts-, Steuer- oder Finanzberatung. Mehr Details hier.

Sheet Kennzahlen im Verlauf
B1: zurück zum Cockpit | E1: Miete, Wert, Abschreibung und Darlehen im Verlauf
B6: Miete pro Monat
D7: ='Kennzahlen im Verlauf'!D13 -> 2024 | E7: ='Kennzahlen im Verlauf'!E13 -> 2025 | F7: ='Kennzahlen im Verlauf'!F13 -> 2026 | G7: ='Kennzahlen im Verlauf'!G13 -> 2027 | H7: ='Kennzahlen im Verlauf'!H13 -> 2028 | I7: ='Kennzahlen im Verlauf'!I13 -> 2029 | J7: ='Kennzahlen im Verlauf'!J13 -> 2030 | K7: ='Kennzahlen im Verlauf'!K13 -> 2031 | ... CH7: ='Kennzahlen im Verlauf'!CH13 -> 2106
B8: = Nettokaltmiete (effektiv) | D8: =Cockpit!H9 -> 0 | E8: =D8*(1+Cockpit!$H$26) -> 0 | F8: =E8*(1+Cockpit!$H$26) -> 0 | G8: =F8*(1+Cockpit!$H$26) -> 0 | H8: =G8*(1+Cockpit!$H$26) -> 0 | I8: =H8*(1+Cockpit!$H$26) -> 0 | J8: =I8*(1+Cockpit!$H$26) -> 0 | K8: =J8*(1+Cockpit!$H$26) -> 0 | L8: =K8*(1+Cockpit!$H$26) -> 0 | ... CH8: =CG8*(1+Cockpit!$H$26) -> 0
B9: + umlagefähige Kosten | D9: =Cockpit!K9 -> 0 | E9: =D9*(1+Cockpit!$H$25) -> 0 | F9: =E9*(1+Cockpit!$H$25) -> 0 | G9: =F9*(1+Cockpit!$H$25) -> 0 | H9: =G9*(1+Cockpit!$H$25) -> 0 | I9: =H9*(1+Cockpit!$H$25) -> 0 | J9: =I9*(1+Cockpit!$H$25) -> 0 | K9: =J9*(1+Cockpit!$H$25) -> 0 | L9: =K9*(1+Cockpit!$H$25) -> 0 | ... CH9: =CG9*(1+Cockpit!$H$25) -> 0
B10: = Warmmiete | D10: =D8+D9 -> 0 | E10: =E8+E9 -> 0 | F10: =F8+F9 -> 0 | G10: =G8+G9 -> 0 | H10: =H8+H9 -> 0 | I10: =I8+I9 -> 0 | J10: =J8+J9 -> 0 | K10: =K8+K9 -> 0 | ... CH10: =CH8+CH9 -> 0
B12: Wertentwicklung
B13: € | D13: =YEAR(Cockpit!C10) -> 2024 | E13: =D13+1 -> 2025 | F13: =E13+1 -> 2026 | G13: =F13+1 -> 2027 | H13: =G13+1 -> 2028 | I13: =H13+1 -> 2029 | J13: =I13+1 -> 2030 | K13: =J13+1 -> 2031 | L13: =K13+1 -> 2032 | ... CH13: =CG13+1 -> 2106
B14: Wert der Immobilie (Jahresanfang) | D14: =Cockpit!D14+Cockpit!E29 -> 0 | E14: =D17 -> 0 | F14: =E17 -> 0 | G14: =F17 -> 0 | H14: =G17 -> 0 | I14: =H17 -> 0 | J14: =I17 -> 0 | K14: =J17 -> 0 | L14: =K17 -> 0 | ... CH14: =CG17 -> 0
B15: Nettovermögen (Wert - Restschuld) (Jahresanfang) | D15: =D14-'Kennzahlen im Verlauf'!D63 -> 0 | E15: =E14-'Kennzahlen im Verlauf'!E63 -> 0 | F15: =F14-'Kennzahlen im Verlauf'!F63 -> 0 | G15: =G14-'Kennzahlen im Verlauf'!G63 -> 0 | H15: =H14-'Kennzahlen im Verlauf'!H63 -> 0 | I15: =I14-'Kennzahlen im Verlauf'!I63 -> 0 | J15: =J14-'Kennzahlen im Verlauf'!J63 -> 0 | K15: =K14-'Kennzahlen im Verlauf'!K63 -> 0 | ... CH15: =CH14-'Kennzahlen im Verlauf'!CH63 -> 0
B16: Wertentwicklung im Jahr | D16: =D14*Cockpit!$H$27 -> 0 | E16: =E14*Cockpit!$H$27 -> 0 | F16: =F14*Cockpit!$H$27 -> 0 | G16: =G14*Cockpit!$H$27 -> 0 | H16: =H14*Cockpit!$H$27 -> 0 | I16: =I14*Cockpit!$H$27 -> 0 | J16: =J14*Cockpit!$H$27 -> 0 | K16: =K14*Cockpit!$H$27 -> 0 | ... CH16: =CH14*Cockpit!$H$27 -> 0
B17: Wert der Immobilie (Jahresende) | D17: =D14+D16 -> 0 | E17: =E14+E16 -> 0 | F17: =F14+F16 -> 0 | G17: =G14+G16 -> 0 | H17: =H14+H16 -> 0 | I17: =I14+I16 -> 0 | J17: =J14+J16 -> 0 | K17: =K14+K16 -> 0 | ... CH17: =CH14+CH16 -> 0
B19: Abschreibung
B20: € | D20: ='Kennzahlen im Verlauf'!D7 -> 2024 | E20: ='Kennzahlen im Verlauf'!E7 -> 2025 | F20: ='Kennzahlen im Verlauf'!F7 -> 2026 | G20: ='Kennzahlen im Verlauf'!G7 -> 2027 | H20: ='Kennzahlen im Verlauf'!H7 -> 2028 | I20: ='Kennzahlen im Verlauf'!I7 -> 2029 | J20: ='Kennzahlen im Verlauf'!J7 -> 2030 | K20: ='Kennzahlen im Verlauf'!K7 -> 2031 | ... CH20: ='Kennzahlen im Verlauf'!CH7 -> 2106
B21: Basis für langfristige Abschreibung | D21: =Cockpit!H17 -> 0 | E21: =D21 -> 0 | F21: =E21 -> 0 | G21: =F21 -> 0 | H21: =G21 -> 0 | I21: =H21 -> 0 | J21: =I21 -> 0 | K21: =J21 -> 0 | L21: =K21 -> 0 | ... CH21: =CG21 -> 0
B22: * Abschreibungssatz pro Jahr | D22: =Cockpit!H15 -> 0.02 | E22: =D22 -> 0.02 | F22: =E22 -> 0.02 | G22: =F22 -> 0.02 | H22: =G22 -> 0.02 | I22: =H22 -> 0.02 | J22: =I22 -> 0.02 | K22: =J22 -> 0.02 | L22: =K22 -> 0.02 | ... CH22: =CG22 -> 0.02
B23: = Abschreibung pro Jahr | D23: =D22*D21 -> 0 | E23: =MIN(E22*E21,E21-D25) -> 0 | F23: =MIN(F22*F21,F21-E25) -> 0 | G23: =MIN(G22*G21,G21-F25) -> 0 | H23: =MIN(H22*H21,H21-G25) -> 0 | I23: =MIN(I22*I21,I21-H25) -> 0 | J23: =MIN(J22*J21,J21-I25) -> 0 | K23: =MIN(K22*K21,K21-J25) -> 0 | L23: =MIN(L22*L21,L21-K25) -> 0 | ... CH23: =MIN(CH22*CH21,CH21-CG25) -> 0
B24: = pro Monat | D24: =D23/12 -> 0 | E24: =E23/12 -> 0 | F24: =F23/12 -> 0 | G24: =G23/12 -> 0 | H24: =H23/12 -> 0 | I24: =I23/12 -> 0 | J24: =J23/12 -> 0 | K24: =K23/12 -> 0 | ... CH24: =CH23/12 -> 0
B25: Kumulierte Abschreibung Jahresende | D25: =D23 -> 0 | E25: =D25+E23 -> 0 | F25: =E25+F23 -> 0 | G25: =F25+G23 -> 0 | H25: =G25+H23 -> 0 | I25: =H25+I23 -> 0 | J25: =I25+J23 -> 0 | K25: =J25+K23 -> 0 | L25: =K25+L23 -> 0 | ... CH25: =CG25+CH23 -> 0
B27: Darlehen I
B28: € | D28: =D$13 -> 2024 | E28: =E$13 -> 2025 | F28: =F$13 -> 2026 | G28: =G$13 -> 2027 | H28: =H$13 -> 2028 | I28: =I$13 -> 2029 | J28: =J$13 -> 2030 | K28: =K$13 -> 2031 | ... CH28: =CH$13 -> 2106
B29: Zinsänderung
B30: Gültiger Zinssatz | D30: =Cockpit!N18 -> 0 | E30: =IF(E29<>"",E29,D30) -> 0 | F30: =IF(F29<>"",F29,E30) -> 0 | G30: =IF(G29<>"",G29,F30) -> 0 | H30: =IF(H29<>"",H29,G30) -> 0 | I30: =IF(I29<>"",I29,H30) -> 0 | J30: =IF(J29<>"",J29,I30) -> 0 | K30: =IF(K29<>"",K29,J30) -> 0 | L30: =IF(L29<>"",L29,K30) -> 0 | ... CH30: =IF(CH29<>"",CH29,CG30) -> 0
B32: Restschuld Periodenbeginn | D32: =Cockpit!N17 -> 0 | E32: =D41 -> 0 | F32: =E41 -> 0 | G32: =F41 -> 0 | H32: =G41 -> 0 | I32: =H41 -> 0 | J32: =I41 -> 0 | K32: =J41 -> 0 | L32: =K41 -> 0 | ... CH32: =CG41 -> 0
B33: Zinsen | D33: =D30*D32 -> 0 | E33: =E30*E32 -> 0 | F33: =F30*F32 -> 0 | G33: =G30*G32 -> 0 | H33: =H30*H32 -> 0 | I33: =I30*I32 -> 0 | J33: =J30*J32 -> 0 | K33: =K30*K32 -> 0 | ... CH33: =CH30*CH32 -> 0
B35: Neue Soll-Tilgung
B36: Effektive Tilgung | D36: =Cockpit!$N$19*D32 -> 0 | E36: =MIN(D41,IF(E35<>"",E35,MAX(D39-E33,0))) -> 0 | F36: =MIN(E41,IF(F35<>"",F35,MAX(E39-F33,0))) -> 0 | G36: =MIN(F41,IF(G35<>"",G35,MAX(F39-G33,0))) -> 0 | H36: =MIN(G41,IF(H35<>"",H35,MAX(G39-H33,0))) -> 0 | I36: =MIN(H41,IF(I35<>"",I35,MAX(H39-I33,0))) -> 0 | J36: =MIN(I41,IF(J35<>"",J35,MAX(I39-J33,0))) -> 0 | K36: =MIN(J41,IF(K35<>"",K35,MAX(J39-K33,0))) -> 0 | L36: =MIN(K41,IF(L35<>"",L35,MAX(K39-L33,0))) -> 0 | ... CH36: =MIN(CG41,IF(CH35<>"",CH35,MAX(CG39-CH33,0))) -> 0
B37: entspricht % der Restschuld | D37: =IF(D32>0,D36/D32,) -> 0 | E37: =IF(E32>0,E36/E32,) -> 0 | F37: =IF(F32>0,F36/F32,) -> 0 | G37: =IF(G32>0,G36/G32,) -> 0 | H37: =IF(H32>0,H36/H32,) -> 0 | I37: =IF(I32>0,I36/I32,) -> 0 | J37: =IF(J32>0,J36/J32,) -> 0 | K37: =IF(K32>0,K36/K32,) -> 0 | ... CH37: =IF(CH32>0,CH36/CH32,) -> 0
B39: Annuität | D39: =D33+D36 -> 0 | E39: =E33+E36 -> 0 | F39: =F33+F36 -> 0 | G39: =G33+G36 -> 0 | H39: =H33+H36 -> 0 | I39: =I33+I36 -> 0 | J39: =J33+J36 -> 0 | K39: =K33+K36 -> 0 | ... CH39: =CH33+CH36 -> 0
B40: Einmalige Sondertilgung
B41: Restschuld Periodenende | D41: =MAX(D32-D36-D40,0) -> 0 | E41: =MAX(E32-E36-E40,0) -> 0 | F41: =MAX(F32-F36-F40,0) -> 0 | G41: =MAX(G32-G36-G40,0) -> 0 | H41: =MAX(H32-H36-H40,0) -> 0 | I41: =MAX(I32-I36-I40,0) -> 0 | J41: =MAX(J32-J36-J40,0) -> 0 | K41: =MAX(K32-K36-K40,0) -> 0 | ... CH41: =MAX(CH32-CH36-CH40,0) -> 0
B42: Kapitaldienst pro Monat | D42: =D39/12 -> 0 | E42: =E39/12 -> 0 | F42: =F39/12 -> 0 | G42: =G39/12 -> 0 | H42: =H39/12 -> 0 | I42: =I39/12 -> 0 | J42: =J39/12 -> 0 | K42: =K39/12 -> 0 | ... CH42: =CH39/12 -> 0
B44: Darlehen II
B45: € | D45: =D$13 -> 2024 | E45: =E$13 -> 2025 | F45: =F$13 -> 2026 | G45: =G$13 -> 2027 | H45: =H$13 -> 2028 | I45: =I$13 -> 2029 | J45: =J$13 -> 2030 | K45: =K$13 -> 2031 | ... CH45: =CH$13 -> 2106
B46: Zinsänderung
B47: Gültiger Zinssatz | D47: =Cockpit!N25 -> 0 | E47: =IF(E46<>"",E46,D47) -> 0 | F47: =IF(F46<>"",F46,E47) -> 0 | G47: =IF(G46<>"",G46,F47) -> 0 | H47: =IF(H46<>"",H46,G47) -> 0 | I47: =IF(I46<>"",I46,H47) -> 0 | J47: =IF(J46<>"",J46,I47) -> 0 | K47: =IF(K46<>"",K46,J47) -> 0 | L47: =IF(L46<>"",L46,K47) -> 0 | ... CH47: =IF(CH46<>"",CH46,CG47) -> 0
B49: Restschuld Periodenbeginn | D49: =Cockpit!N24 -> 0 | E49: =D58 -> 0 | F49: =E58 -> 0 | G49: =F58 -> 0 | H49: =G58 -> 0 | I49: =H58 -> 0 | J49: =I58 -> 0 | K49: =J58 -> 0 | L49: =K58 -> 0 | ... CH49: =CG58 -> 0
B50: Zinsen | D50: =D47*D49 -> 0 | E50: =E47*E49 -> 0 | F50: =F47*F49 -> 0 | G50: =G47*G49 -> 0 | H50: =H47*H49 -> 0 | I50: =I47*I49 -> 0 | J50: =J47*J49 -> 0 | K50: =K47*K49 -> 0 | ... CH50: =CH47*CH49 -> 0
B52: Neue Soll-Tilgung
B53: Effektive Tilgung | D53: =Cockpit!$N$26*D49 -> 0 | E53: =MIN(D58,IF(E52<>"",E52,MAX(D56-E50,0))) -> 0 | F53: =MIN(E58,IF(F52<>"",F52,MAX(E56-F50,0))) -> 0 | G53: =MIN(F58,IF(G52<>"",G52,MAX(F56-G50,0))) -> 0 | H53: =MIN(G58,IF(H52<>"",H52,MAX(G56-H50,0))) -> 0 | I53: =MIN(H58,IF(I52<>"",I52,MAX(H56-I50,0))) -> 0 | J53: =MIN(I58,IF(J52<>"",J52,MAX(I56-J50,0))) -> 0 | K53: =MIN(J58,IF(K52<>"",K52,MAX(J56-K50,0))) -> 0 | L53: =MIN(K58,IF(L52<>"",L52,MAX(K56-L50,0))) -> 0 | ... CH53: =MIN(CG58,IF(CH52<>"",CH52,MAX(CG56-CH50,0))) -> 0
...

Sheet Diagramme
B1: zurück zum Cockpit | E1: Diagramme
B6: =Cockpit!C9 -> Bitte gib im roten Faden eine Adresse ein
M9: Einnahmen | N9: Ausgaben
C10: Kaufpreis | D10: =Cockpit!D14 -> 0 | H10: Hauptdarlehen | I10: =IF((Cockpit!N17)=0,#N/A,Cockpit!N17) -> #N/A | L10: Warmmiete | M10: =Cockpit!Q19 -> 0
C11: Nebenkosten | D11: =IF(Cockpit!E21=0,#N/A,Cockpit!E21) -> #N/A | H11: Weitere Darlehen | I11: =IF((Cockpit!N9-Cockpit!N17)=0,#N/A,Cockpit!N9-Cockpit!N17) -> #N/A | L11: Kaltmiete | M11: =Cockpit!H9 -> 0
C12: Anfängl. Invest. | D12: =IF(Cockpit!C29=0,#N/A,Cockpit!C29) -> #N/A | H12: Eigenkapital | I12: =Cockpit!N10 -> 0 | L12: BWK ohne umlagef. | N12: =Cockpit!K29 -> 0
L13: Bewirtschaftungskosten | N13: =-Cockpit!Q20 -> 0
L14: Zinsen | N14: =-Cockpit!Q21 -> 0
L15: Tilgung | N15: =-Cockpit!Q22 -> 0
L16: Steuern | N16: =-Cockpit!Q24 -> 0
B77: Keine Gewähr für die Richtigkeit der Angaben. Dieses Tool ersetzt keine fundierte Rechts-, Steuer- oder Finanzberatung. Mehr Details hier.

Sheet Konfiguration
B1: zurück zum Cockpit | E1: Konfiguration
B6: Schwellwerte für Kennzahlen-Farben
B7: Kennzahl | C7: Grün | D7: Gelb | E7: Rot
B8: Bruttomietrendite | C8: 0.05 | D8: 0.04 | E8: 0.03 | F8: =IF(NOT(AND(C8>D8,D8>E8)),"Ungültige Kombination. Grün muss > gelb muss > rot sein.","")
B9: Nettomietrendite | C9: 0.04 | D9: 0.03 | E9: 0.02 | F9: =IF(NOT(AND(C9>D9,D9>E9)),"Ungültige Kombination. Grün muss > gelb muss > rot sein.","")
B10: Eigenkapitalrendite | C10: 0.2 | D10: 0.1 | E10: 0.05 | F10: =IF(NOT(AND(C10>D10,D10>E10)),"Ungültige Kombination. Grün muss > gelb muss > rot sein.","")
B11: Cashflow operativ | C11: =Cockpit!Q22/4 -> 0 | D11: =Cockpit!Q22/2 -> 0 | E11: =Cockpit!Q22 -> 0 | F11: =IF(NOT(AND(C11>D11,D11>E11)),"Ungültige Kombination. Grün muss > gelb muss > rot sein.","") -> Ungültige Kombination. Grün muss > gelb muss > rot sein.
B12: Cashflow nach Steuern | C12: =Cockpit!Q22/4 -> 0 | D12: =Cockpit!Q22/2 -> 0 | E12: =Cockpit!Q22 -> 0 | F12: =IF(NOT(AND(C12>D12,D12>E12)),"Ungültige Kombination. Grün muss > gelb muss > rot sein.","") -> Ungültige Kombination. Grün muss > gelb muss > rot sein.
B14: Grunderwerbsteuer nach Bundesländern
B15: bitte wählen | C15: 0
B16: Baden-Württemberg | C16: 0.05
B17: Bayern | C17: 0.035
B18: Berlin | C18: 0.06
B19: Brandenburg | C19: 0.065
B20: Bremen | C20: 0.05
B21: Hamburg | C21: 0.055
B22: Hessen | C22: 0.06
B23: Mecklenburg-Vorpommern | C23: 0.06
B24: Niedersachsen | C24: 0.05
B25: Nordrhein-Westfalen | C25: 0.065
B26: Rheinland-Pfalz | C26: 0.05
... B31: Thüringen | C31: 0.065
B35: Keine Gewähr für die Richtigkeit der Angaben. Dieses Tool ersetzt keine fundierte Rechts-, Steuer- oder Finanzberatung. Mehr Details hier.

Sheet Haushaltsrechnung
B1: zurück zum Bankgespräch | G1: Vorlage: Haushaltsrechnung
C7: Haushaltsrechnung
C8: Max Mustermann | O8: Stichtag: 01.01.2017
C10: Persönliche Angaben
C11: Name: | D11: Max Mustermann | K11: Familienstand: | M11: Verheiratet
C12: Anschrift: | D12: Musterstraße 11 | K12: Güterstand: | M12: Gesetzlich
D13: 12345 Musterstadt | K13: Kinder: | M13: Keine
C15: Einkommensverhältnisse
C17: Einkünfte | H17: Betrag p.a. | I17: mntl. | K17: Kommentar
C18: Lohn / Gehalt (netto) I | H18: =12*I18 -> 26400 | I18: 2200
C19: Lohn / Gehalt (netto) II | H19: =12*I19 -> 2400 | I19: 200
C20: Einkünfte aus selbstständiger Arbeit | H20: =12*I20 -> 0 | I20: 0
C21: Rente / Pension | H21: =12*I21 -> 0 | I21: 0
C22: Zinsen | H22: =12*I22 -> 600 | I22: 50
C23: Miet- / Pachteinnahmen (netto/kalt) | H23: =12*I23 -> 3600 | I23: 300
C24: Staatliche Leistungen | H24: =12*I24 -> 0 | I24: 0
C25: Sonstige Einkünfte | H25: =12*I25 -> 0 | I25: 0
C26: Summe | H26: =12*I26 -> 33000 | I26: =SUM(I18:I25) -> 2750
C28: Ausgaben | H28: Betrag p.a. | I28: mntl. | K28: Kommentar
C29: Wohnen inkl. Nebenkosten | H29: =I29*12 -> 7800 | I29: 650 | K29: inkl. Strom, Internet, TV etc.
C30: Nahrungs- und Genussmittel | H30: =I30*12 -> 2400 | I30: 200
C31: Anschaffungen | H31: =I31*12 -> 1200 | I31: 100 | K31: inkl. Bekleidung
C32: Freizeit, Kultur und Hobby | H32: =I32*12 -> 1200 | I32: 100 | K32: Fitness-Center, Fotografie-Ausstattung
C33: Urlaub | H33: =I33*12 -> 900 | I33: 75
C34: Mobilität | H34: =I34*12 -> 1800 | I34: 150 | K34: PKW in Eigentum
C35: Kommunikation | H35: =I35*12 -> 300 | I35: 25
C36: Spenden | H36: =I36*12 -> 600 | I36: 50
C37: Laufende Sparverträge | H37: =I37*12 -> 600 | I37: 50 | K37: Aktienanlage
C38: Beiträge zur Altersvorsorge | H38: =I38*12 -> 1944 | I38: 162 | K38: Riester
C39: Private Versicherungen | H39: =I39*12 -> 960 | I39: 80 | K39: BU, Unfall, Risiko-Leben
C40: Vermietete Immobilien: Bewirtschaftung | H40: =I40*12 -> 1044 | I40: 87 | K40: nicht umagefähig, inkl. Rücklagen
C41: Vermietete Immobilien: Kapitaldienst | H41: =I41*12 -> 2244 | I41: 187
C42: Ausgaben aus selbstständiger Arbeit | H42: =I42*12 -> 0 | I42: 0
C43: Unterhaltszahlungen | H43: =I43*12 -> 0 | I43: 0
C44: Sonstiges | H44: =I44*12 -> 1200 | I44: 100
C45: Summe | H45: =I45*12 -> 24192 | I45: =SUM(I29:I44) -> 2016
C47: Haushaltsüberschuss | H47: Betrag p.a. | I47: mntl. | K47: Kommentar
C48: Einnahmen | H48: =12*I48 -> 33000 | I48: =I26 -> 2750
C49: Ausgaben | H49: =12*I49 -> 24192 | I49: =I45 -> 2016
C50: Differenz | H50: =12*I50 -> 8808 | I50: =I48-I49 -> 734 | K50: = Haushaltsüberschuss
...

Sheet Vermögensaufstellung
B1: zurück zum Bankgespräch | G1: Vorlage: Vermögensaufstellung
C7: Vermögensaufstellung
C8: Max Mustermann | O8: Stichtag: 01.01.2017
C10: Persönliche Angaben
C11: Name: | D11: Max Mustermann | K11: Familienstand: | M11: Verheiratet
C12: Anschrift: | D12: Musterstraße 11 | K12: Güterstand: | M12: Gesetzlich
D13: 12345 Musterstadt | K13: Kinder: | M13: Keine
C15: Vermögensverhältnisse
C17: Vermögensgegenstände | H17: Betrag | I17: Verpfändet | K17: Kommentar
C18: Girokonto Deutsche Bank | H18: 5100 | I18: Nein
C19: Girokonto Postbank | H19: 4200 | I19: Nein | K19: Ehe-Konto
C20: Wertpapier Depot Deutsche Bank | H20: 22000 | I20: Nein | K20: aktueller Kurswert
C21: Tagesgeldkonto Deutsche Bank | H21: 4500 | I21: Nein
C22: Immobilienvermögen | H22: 179000 | I22: Nein | K22: siehe separate Übersicht
C23: Lebensversicherung Allianz | H23: 24000 | I23: Nein | K23: aktueller Rückkaufswert
C24: Bausparvertrag Schwäbisch Hall | H24: 22000 | I24: Nein | K24: aktuelles Guthaben
C25: Summe | H25: =SUM(H18:H24) -> 260800
C27: Verbindlichkeiten | H27: Valuta | K27: Kommentar
C28: Dispositionskredite | H28: 0 | K28: keine
C29: Konsumkredite | H29: 16000 | K29: Finanzierung PKW
C30: Immobiliendarlehen | H30: 122000 | K30: siehe separate Übersicht
C31: Übernommene Bürgschaften | H31: 0 | K31: keine
C32: Steuerschulden | H32: 0 | K32: keine
C33: Summe | H33: =SUM(H28:H32) -> 138000
C35: Vermögensaufstellung | H35: Betrag | K35: Kommentar
C36: Vermögensgegenstände | H36: =H25 -> 260800
C37: Verbindlichkeiten | H37: =-H33 -> -138000
C38: Differenz | H38: =SUM(H36:H37) -> 122800 | K38: = Netto-Vermögen
B41: Keine Gewähr für die Richtigkeit der Angaben. Dieses Tool ersetzt keine fundierte Rechts-, Steuer- oder Finanzberatung. Mehr Details hier.

Sheet calc_rf
B2: Nebenrechnung für roten Faden
B4: Weitere Werte | E4: Betrachtungszeitpunkt zusätzliche Rente
B5: Jahr der Volltilgung | C5: =IFERROR(HLOOKUP(0,'Kennzahlen im Verlauf'!75:77,3,FALSE),"-") -> 2024 | E5: Hochrechnung für das Jahr | F5: =calc_rf!C5+1 -> 2025
B6: entspricht Jahre nach dem Kauf | C6: =C5-'Kennzahlen im Verlauf'!D28 -> 0 | E6: entspricht Jahre nach dem Kauf | F6: =F5-'Kennzahlen im Verlauf'!D28 -> 1
B7: entsprechendes Label | C7: =IFERROR(IF(C6=0,"sofort",IF(C6=1,"in einem Jahr",CONCATENATE("in ",C6," Jahren"))),"in >99 Jahren") -> sofort
B8: Eigenkapital | C8: =Cockpit!N10 -> 0 | E8: Cashflow pro Monat (Überschuss)
B9: =CONCATENATE("Gleiche Rate in ",IF(C9=1,"1 Jahr:",CONCATENATE(C9," Jahren:"))) -> Gleiche Rate in 1 Jahr: | C9: =MAX('8'!E10,1) -> 1 | E9: Warmmiete | F9: =OFFSET('Kennzahlen im Verlauf'!D10,,F6) -> 0
B10: =CONCATENATE("Restschulden in ",C9," Jahren") -> Restschulden in 1 Jahren | C10: =OFFSET('Kennzahlen im Verlauf'!D63,,C9) -> 0 | E10: - Bewirtschaftungskosten | F10: =-(Cockpit!K12-Cockpit!K27)*(1+Cockpit!H25)^F6-Cockpit!H20*F9 -> 0
B11: =CONCATENATE("Zins gleiche Rate ",C9," Jahre") -> Zins gleiche Rate 1 Jahre | C11: =IFERROR((OFFSET('Kennzahlen im Verlauf'!D74,,C9)-'Kennzahlen im Verlauf'!D71)/C10,"-") -> - | E11: - Zinsen | F11: =-OFFSET('Kennzahlen im Verlauf'!D67,,F6)/12 -> 0
B12: Jedes % mehr kostet | C12: =0.01*C10/12 -> 0 | E12: - Tilgung | F12: =-OFFSET('Kennzahlen im Verlauf'!D71,,F6)/12 -> 0
E13: = Cashflow operativ | F13: =SUM(F9:F12) -> 0
B14: Faktor Wohnraum Grundstück | C14: =IF('10'!H8="Besonders wenig",0.5,IF('10'!H8="Besonders viel",3,1.5)) -> 1.5 | E14: - Steuern | F14: =-F24 -> 0
B15: Kalk. Grundstücksteil | C15: =Cockpit!C11*C14 -> 0 | E15: = Cashflow nach Steuern | F15: =F13+F14 -> 0
B16: Kalk. Bodenwert pro m² Grundstück | C16: =VLOOKUP(Cockpit!D15,cnfg_rf!B18:C25,2,TRUE) -> #N/A
B17: Kalk. Bodenwert | C17: =C16*C15 -> #N/A | E17: Nebenrechnung Steuer (Monatsbasis)
B18: Kalk. Gebäudekosten pro m² | C18: =IFERROR(VLOOKUP('11'!E8,cnfg_rf!B6:C14,2,FALSE),0) -> 0 | E18: Warmmiete | F18: =F9 -> 0
B19: Kalk. Geb. Kosten Garage | C19: =IF('11'!E10="Ja",8*calc_rf!C18,0) -> 0 | E19: - Bewirt.-Kosten ohne eigene Rückl. | F19: =-(Cockpit!K12-Cockpit!K26-Cockpit!K27)*(1+Cockpit!H25)^F6 -> 0
B20: Kalk. Gebäudekosten | C20: =C18*Cockpit!C11+C19 -> 0 | E20: - Zinsen | F20: =F11 -> 0
B21: Gebäudeanteil am Kaufpreis | C21: =IFERROR(C20/(C17+C20),0) -> 0 | E21: - Abschreibung (AfA) | F21: =-OFFSET('Kennzahlen im Verlauf'!D24,,F6) -> 0
E22: = zu versteuernder Cashflow | F22: =SUM(F18:F21) -> 0
E23: * persönlicher Grenzsteuersatz | F23: 0.25
E24: = Steuern | F24: =F23*F22 -> 0

Sheet cnfg_rf
B2: Konfigurationsdaten für roten Faden
B4: Gebäudekosten pro m² Wohnfläche | E4: Kennzahlen anzeigen
B5: Alter | C5: Euro | E5: Kennzahl | F5: Wert | G5: Wert anzeigen | H5: Gefüllt? -> | I5: Wohnfläche | J5: Kaufdatum | K5: Kaufpreis | L5: Kaltmiete | M5: Bundesland | N5: Darlehen | O5: Zinsen | P5: Tilgung | Q5: Hausgeld | R5: Mietausfall | S5: IHR | T5: Festschreibung | U5: Gebäudetyp | V5: Baujahr | W5: Garage | X5: Veranlagung | Y5: Einkommen | Z5: Kirche
B6: vor 1925 | C6: 462 | H6: Anzeigen | I6: =IF('0'!E12<>"",1,0) -> 0 | J6: =IF('0'!E14<>"",1,0) -> 1 | K6: =IF('1'!E8<>"",1,0) -> 0 | L6: =IF('1'!E10<>"",1,0) -> 0 | M6: =IF('2'!D8<>Konfiguration!B15,1,0) -> 0 | N6: =IF('4'!E8<>"",1,0) -> 0 | O6: =IF('4'!E12<>"",1,0) -> 0 | P6: =IF('4'!E14<>"",1,0) -> 0 | Q6: =IF('6'!E8<>"",1,0) -> 0 | R6: =IF('6'!E11<>"",1,0) -> 0 | S6: =IF('6'!E13<>"",1,0) -> 0 | T6: =IF('8'!E10<>"",1,0) -> 0 | U6: =IF('10'!H8<>"",1,0) -> 0 | V6: =IF('11'!E8<>"",1,0) -> 0 | W6: =IF('11'!E10<>"",1,0) -> 0 | X6: =IF('12'!D8<>"",1,0) -> 0 | Y6: =IF('12'!E10<>"",1,0) -> 0 | Z6: =IF('12'!E12<>"",1,0) -> 0
B7: 1925-1950 | C7: 462 | E7: Eigenkapital | F7: =Cockpit!N10 -> 0 | G7: =IF(H7="x",F7,"-") -> - | H7: =IF(SUMPRODUCT($I$6:$Z$6,I7:Z7)=SUM(I7:Z7),"x","") | K7: 1 | N7: 1
B8: 1951-1960 | C8: 462 | E8: Schuldenfrei | F8: =calc_rf!C7 -> sofort | G8: =IF(H8="x",F8,"-") -> - | H8: =IF(SUMPRODUCT($I$6:$Z$6,I8:Z8)=SUM(I8:Z8),"x","") | J8: 1 | K8: 1 | N8: 1 | O8: 1 | P8: 1
B9: 1961-1970 | C9: 538 | E9: CF vor Steuern | F9: =Cockpit!Q23 -> 0 | G9: =IF(H9="x",F9,"-") -> - | H9: =IF(SUMPRODUCT($I$6:$Z$6,I9:Z9)=SUM(I9:Z9),"x","") | I9: 1 | J9: 1 | K9: 1 | L9: 1 | M9: 1 | N9: 1 | O9: 1 | P9: 1 | Q9: 1 | R9: 1 | S9: 1
B10: 1971-1980 | C10: 730 | E10: CF nach Steuern | F10: =Cockpit!Q25 -> 0 | G10: =IF(H10="x",F10,"-") -> - | H10: =IF(SUMPRODUCT($I$6:$Z$6,I10:Z10)=SUM(I10:Z10),"x","") | I10: 1 | J10: 1 | K10: 1 | L10: 1 | M10: 1 | N10: 1 | O10: 1 | P10: 1 | Q10: 1 | R10: 1 | S10: 1 | T10: 1 | U10: 1 | V10: 1 | W10: 1 | X10: 1 | Y10: 1 | Z10: 1
B11: 1981-1990 | C11: 922 | E11: Zusätzliche Rente | F11: =IFERROR(calc_rf!F15,"-") -> 0 | G11: =IF(H11="x",F11,"-") -> - | H11: =IF(SUMPRODUCT($I$6:$Z$6,I11:Z11)=SUM(I11:Z11),"x","") | I11: 1 | J11: 1 | K11: 1 | L11: 1 | M11: 1 | N11: 1 | O11: 1 | P11: 1 | Q11: 1 | R11: 1 | S11: 1 | T11: 1 | U11: 1 | V11: 1 | W11: 1 | X11: 1 | Y11: 1 | Z11: 1
B12: 1991-2000 | C12: 1281 | E12: Gleiche Rate | F12: =calc_rf!C11 -> - | G12: =IF(H12="x",F12,"-") -> - | H12: =IF(SUMPRODUCT($I$6:$Z$6,I12:Z12)=SUM(I12:Z12),"x","") | I12: 1 | J12: 1 | K12: 1 | L12: 1 | M12: 1 | N12: 1 | O12: 1 | P12: 1 | Q12: 1 | R12: 1 | S12: 1 | T12: 1
B13: 2001-2010 | C13: 1793
B14: ab 2010 | C14: 2057
B16: Bodenwert pro m² | E16: Kennzahlen hevorheben
B17: Kaufpreis / m² Wohnfläche | C17: Euro | E17: Kennzahl | F17: Gefüllt? -> | I17: Wohnfläche | J17: Kaufdatum | K17: Kaufpreis | L17: Kaltmiete | M17: Bundesland | N17: Darlehen | O17: Zinsen | P17: Tilgung | Q17: Hausgeld | R17: Mietausfall | S17: IHR | T17: Festschreibung | U17: Gebäudetyp | V17: Baujahr | W17: Garage | X17: Veranlagung | Y17: Einkommen | Z17: Kirche
B18: 0 | C18: 150 | F18: Anzeigen | G18: Hevorheben | I18: =I6 -> 0 | J18: =J6 -> 1 | K18: =K6 -> 0 | L18: =L6 -> 0 | M18: =M6 -> 0 | N18: =N6 -> 0 | O18: =O6 -> 0 | P18: =P6 -> 0 | ... Z18: =Z6 -> 0
B19: 1000 | C19: 250 | E19: Eigenkapital | F19: =H7 | G19: =IF(AND(F19="x",SUMPRODUCT($I$18:$Z$18,I19:Z19)=SUMIF(I19:Z19,1)),"x","") | I19: 1 | J19: 1 | K19: 1 | L19: 1 | M19: 1 | N19: 1 | O19: 1 | P19: 1 | Q19: -1 | R19: -1 | S19: -1 | T19: -1 | U19: -1 | V19: -1 | W19: -1 | X19: -1 | Y19: -1 | Z19: -1
B20: 1500 | C20: 300 | E20: Schuldenfrei | F20: =H8 | G20: =IF(AND(F20="x",SUMPRODUCT($I$18:$Z$18,I20:Z20)=SUMIF(I20:Z20,1)),"x","") | I20: 1 | J20: 1 | K20: 1 | L20: 1 | M20: 1 | N20: 1 | O20: 1 | P20: 1 | Q20: -1 | R20: -1 | S20: -1 | T20: -1 | U20: -1 | V20: -1 | W20: -1 | X20: -1 | Y20: -1 | Z20: -1
B21: 2000 | C21: 500 | E21: CF vor Steuern | F21: =H9 | G21: =IF(AND(F21="x",SUMPRODUCT($I$18:$Z$18,I21:Z21)=SUMIF(I21:Z21,1)),"x","") | I21: 1 | J21: 1 | K21: 1 | L21: 1 | M21: 1 | N21: 1 | O21: 1 | P21: 1 | Q21: 1 | R21: 1 | S21: 1 | T21: -1 | U21: -1 | V21: -1 | W21: -1 | X21: -1 | Y21: -1 | Z21: -1
B22: 2500 | C22: 750 | E22: CF nach Steuern | F22: =H10 | G22: =IF(AND(F22="x",SUMPRODUCT($I$18:$Z$18,I22:Z22)=SUMIF(I22:Z22,1)),"x","") | I22: 1 | J22: 1 | K22: 1 | L22: 1 | M22: 1 | N22: 1 | O22: 1 | P22: 1 | Q22: 1 | R22: 1 | S22: 1 | T22: 1 | U22: 1 | V22: 1 | W22: 1 | X22: 1 | Y22: 1 | Z22: 1
B23: 3000 | C23: 1000 | E23: Zusätzliche Rente | F23: =H11 | G23: =IF(AND(F23="x",SUMPRODUCT($I$18:$Z$18,I23:Z23)=SUMIF(I23:Z23,1)),"x","") | I23: 1 | J23: 1 | K23: 1 | L23: 1 | M23: 1 | N23: 1 | O23: 1 | P23: 1 | Q23: 1 | R23: 1 | S23: 1 | T23: 1 | U23: 1 | V23: 1 | W23: 1 | X23: 1 | Y23: 1 | Z23: 1
B24: 4000 | C24: 1500 | E24: Gleiche Rate | F24: =H12 | G24: =IF(AND(F24="x",SUMPRODUCT($I$18:$Z$18,I24:Z24)=SUMIF(I24:Z24,1)),"x","") | I24: 1 | J24: 1 | K24: 1 | L24: 1 | M24: 1 | N24: 1 | O24: 1 | P24: 1 | Q24: 1 | R24: 1 | S24: 1 | T24: 1 | U24: -1 | V24: -1 | W24: -1 | X24: -1 | Y24: -1 | Z24: -1
B25: 5000 | C25: 2000
B27: Veranlagungsklassen | E27: Farbcodes für verlinkte Bilder
B28: Einzeln
B29: Gemeinsam (verheiratet) | E29: Cashflow Farbcode
E33: Hevorgehobene Markierung - 240px - rumherum keine Formatierungen
G34: ↓
E36: Eigenkapital
E38: Schuldenfrei
E40: CF vor Steuern
E42: CF nach Steuern
E44: Zusätzliche Rente
E46: Gleiche Rate

Sheet txt_rf
B2: Dynamische Textdaten für roten Faden
B5: Wo | C5: Position | D5: Typ | E5: Text / Formel
B6: Cashflow vor Steuern | C6: Ergebnis Box Header | D6: Text | E6: Herzlichen Glückwunsch!
B7: Cashflow vor Steuern | C7: Ergebnis Box Header | D7: Anzeige | E7: =IF(cnfg_rf!H9="x",E6,"")
B8: Cashflow vor Steuern | C8: Ergebnis Box Mitte | D8: Anzeige | E8: =IF(cnfg_rf!H9="x","Du weißt jetzt, wie viel von deiner Miete monatlich vor Steuern übrig bleibt.","Bitte fülle alle erforderlichen Eingabefelder, um den Cashflow vor Steuern zu berechnen.") -> Bitte fülle alle erforderlichen Eingabefelder, um den Cashflow vor Steuern zu berechnen.
B9: Cashflow vor Steuern | C9: Ergebnis Box Unten | D9: Text | E9: =CONCATENATE("Der Überschuss ergibt sich aus deiner Miete (",TEXT(ROUND(Cockpit!H9,0),"#.###")," €) abzüglich der Rate an die Bank (",TEXT(ROUND(Cockpit!N13,0),"#.###")," €), der nicht umlagefähigen Kosten (",TEXT(ROUND(Cockpit!K29-Cockpit!K26-Cockpit!K27,0),"#.###")," €) und deiner eigenen Rücklagen (",TEXT(ROUND(Cockpit!K26+Cockpit!K27,0),"#.###")," €).") -> Der Überschuss ergibt sich aus deiner Miete ( €) abzüglich der Rate an die Bank ( €), der nicht umlagefähigen Kosten ( €) und deiner eigenen Rücklagen ( €).
B10: Cashflow vor Steuern | C10: Ergebnis Box Unten | D10: Anzeige | E10: =IF(cnfg_rf!H9="x",txt_rf!E9,"")
B12: Cashflow vor Steuern | C12: Ergebnis Box Header | D12: Anzeige | E12: =IF(cnfg_rf!H10="x","Herzlichen Glückwunsch!","")
B13: Cashflow vor Steuern | C13: Ergebnis Box Mitte | D13: Anzeige | E13: =IF(cnfg_rf!H10="x","Du weißt jetzt, wie viel von deiner Miete monatlich nach Steuern übrig bleibt.","Bitte fülle alle Eingabefelder, um den Cashflow nach Steuern zu berechnen.") -> Bitte fülle alle Eingabefelder, um den Cashflow nach Steuern zu berechnen.
B14: Cashflow vor Steuern | C14: Ergebnis Box Unten | D14: Text | E14: =CONCATENATE("Der Überschuss ergibt sich aus deiner Miete (",TEXT(ROUND(Cockpit!H9,0),"#.###")," €) abzüglich der Rate an die Bank (",TEXT(ROUND(Cockpit!N13,0),"#.###")," €), der nicht umlagefähigen Kosten (",TEXT(ROUND(Cockpit!K29-Cockpit!K26-Cockpit!K27,0),"#.###")," €) und deiner eigenen Rücklagen (",TEXT(ROUND(Cockpit!K26+Cockpit!K27,0),"#.###")," €) und der Steuern (",TEXT(ROUND(Cockpit!Q34,0),"#.###")," €).") -> Der Überschuss ergibt sich aus deiner Miete ( €) abzüglich der Rate an die Bank ( €), der nicht umlagefähigen Kosten ( €) und deiner eigenen Rücklagen ( €) und der Steuern ( €).
B15: Cashflow vor Steuern | C15: Ergebnis Box Unten | D15: Anzeige | E15: =IF(cnfg_rf!H10="x",txt_rf!E14,"")
B18: Interpretationshilfe | C18: Hinweis EK Mieterwechsel | D18: Anzeige | E18: =IF('3'!E16>0,CONCATENATE("Bitte berücksichtige dabei auch, dass du ",TEXT(ROUND('3'!E16,0),"#.###")," Euro für Maßnahmen bei einem Mieterwechsel eingeplant hast."),"")
B20: Zinsrisiko | C20: Restschulden Erklärung | D20: Anzeige | E20: =CONCATENATE("In ",IF(calc_rf!C9=1,"einem Jahr",CONCATENATE(calc_rf!C9," Jahren"))," hast du noch ",TEXT(ROUND(calc_rf!C10,0),"#.###0")," Euro Schulden. Bei einem neuen Zinssatz von ",IFERROR(TEXT(ROUND(calc_rf!C11*100,1),"#,0"),"-")," % bleibt deine Rate an die Bank genau gleich hoch wie jetzt am Anfang. Bei jedem Prozent darüber steigt deine Rate an die Bank um ",TEXT(ROUND(calc_rf!C12,0),"#.###0")," Euro.") -> In einem Jahr hast du noch 0 Euro Schulden. Bei einem neuen Zinssatz von - % bleibt deine Rate an die Bank genau gleich hoch wie jetzt am Anfang. Bei jedem Prozent darüber steigt deine Rate an die Bank um 0 Euro.

Sheet ekst_rf
B2: Ermittlung Grenzsteuersatz für roten Faden
B4: Position | C4: Grundtabelle 2017 | E4: Splittingtabelle 2017
B7: Zu versteuerndes Einkommen | C7: ='12'!E10 -> 0 | E7: ='12'!E10 -> 0
B9: zvE abgerundet | C9: =ROUNDDOWN(C7,0) -> 0 | E9: =ROUNDDOWN(E7,0) -> 0
B12: Angenommene Erhöhung des zvE | C12: 1 | E12: 1
B14: x-Wert | C14: =C9 -> 0 | E14: =E9 -> 0
B16: x-Wert | C16: =C14 -> 0 | E16: =(E14/2) -> 0
B17: y-Wert | C17: =(C14-8472)/10000 -> -0.8472 | E17: =(E16-8472)/10000 -> -0.8472
B18: z-Wert | C18: =(C14-13469)/10000 -> -1.3469 | E18: =(E16-13469)/10000 -> -1.3469
B22: zvE (vor Abrundung) mit Erhöhung | C22: =C9+C12 -> 1 | E22: =E9+E12 -> 1
B24: abgerundetes zvE (mit Erhöhung) | C24: =ROUNDDOWN(C22,0) -> 1 | E24: =ROUNDDOWN(E22,0) -> 1
B26: x-Wert | C26: =C24 -> 1 | E26: =E22/2 -> 0.5
B27: y-Wert | C27: =(C24-8472)/10000 -> -0.8471 | E27: =(E26-8472)/10000 -> -0.84715
B28: z-Wert | C28: =(C24-13469)/10000 -> -1.3468 | E28: =(E26-13469)/10000 -> -1.34685
B30: Einkommensteuer vor Erhöhung | C30: =IF(C14<=8354,0,IF(C14<=13469,(974.58*C17+1400)*C17,IF(C14<=52881,(228.74*C18+2397)*C18+971,IF(C14<=250730,0.42*C16-8239,0.45*C16-15761)))) -> 0 | E30: =IF(E16<=8354,0,IF(E16<=13469,(974.58*E17+1400)*E17,IF(E16<=52881,(228.74*E18+2397)*E18+971,IF(E16<=250730,0.42*E16-8239,0.45*E16-15761))))*2 -> 0
B31: Einkommensteuer unter Berücksichtigung der Erhöhung | C31: =IF(C24<=8354,0,IF(C24<=13469,(974.58*C27+1400)*C27,IF(C24<=52881,(228.74*C28+2397)*C28+971,IF(C24<=250730,0.42*C26-8239,0.45*C26-15761)))) -> 0 | E31: =IF(E26<=8354,0,IF(E26<=13469,(974.58*E27+1400)*E27,IF(E26<=52881,(228.74*E28+2397)*E28+971,IF(E26<=250730,0.42*E26-8239,0.45*E26-15761))))*2 -> 0
B33: Grenzsteuersatz für das erhöhte Einkommen | C33: =(C31-C30)/(C12) -> 0 | E33: =(E31-E30)/(E12) -> 0
B35: Grenzsteuersatz inkl. Solidaritätszuschlag | C35: =C33*1.055 -> 0 | E35: =E33*1.055 -> 0
B37: Kirchensteuer durchschnittl. 8,5% | C37: =C35*1.085 -> 0 | E37: =E35*1.085 -> 0
B39: Laut Auswahl roter Faden | C39: =IF('12'!D8=cnfg_rf!B29,IF('12'!E12="Ja",ekst_rf!E37,ekst_rf!E35),IF('12'!E12="Ja",ekst_rf!C37,ekst_rf!C35)) -> 0
