Workbook

Sheet Deckblatt
B1: zurück zum Cockpit
C7: immocation
C18: Bei dieser Excel-Datei handelt es sich um ein kostenpflichtiges Produkt, welches unter der u.s. Internetadresse erworben werden kann. Die Datei darf ohne Zustimmung weder vervielfältigt, noch weitergegeben oder sonst irgendwie anderen Benutzern zugänglich gemacht werden. Microsoft Excel ist ein Produkt der Firma Microsoft. Wir stehen in keinerlei rechtlicher Beziehung zu Microsoft und handeln auch nicht in Microsofts Namen. Wir weisen ausdrücklich darauf hin, dass wir keinerlei Rechts-, Steuer- oder Finanzberatung erbringen und die geschilderte Rechtslage zum Teil zur besseren Verständlichkeit und Lesbarkeit außerdem auch vereinfacht dargestellt wurde. Alle von uns erteilten Ratschläge fußen ausschließlich auf unserer persönlichen Erfahrung und unserer persönlichen Meinung. Auch wenn wir jede unserer Empfehlungen mit größtmöglicher Sorgfalt und umfangreicher Recherche entwickelt und fortlaufend kritisch hinterfragt haben, können wir hierfür keinerlei Gewähr bieten. Gleiches gilt auch für die Vollständigkeit und Richtigkeit der dargestellten Rechtslage. Die erteilten Ratschläge können ferner auch keine fundierte und auf den Einzelfall zugeschnittene Rechts-, Steuer- oder Finanzberatung ersetzen. Wir können daher weder eine Erfolgsgarantie für die von uns abgegebenen Empfehlungen noch eine Haftung für evtl. Folgen ihrer Anwendung übernehmen. Auch sämtliche Kalkulationstools wurden mit größter Sorgfalt erstellt. Wir haben durch mehrfache Überprüfungen bestmöglich versucht, Berechnungsfehler auszuschließen. Trotzdem können Fehler nicht vollständig ausgeschlossen werden. Daher können wir keine juristische Verantwortung und keinerlei Haftung für eventuell verbliebene Fehler und deren Folgen übernehmen. Um etwaige Fehler so weit wie möglich auszuschließen, empfehlen wir dringend und in jedem Fall eigenständige Kontrollrechnungen durchzuführen und ggf. zusätzlichen Fachrat eines Rechts-, Steuer- oder Finanzberaters einzuholen.
C41: Copyright 2022
C42: www.immocation.de

Sheet Cockpit
C1: Cockpit | D1: Bankgespräch | G1: Kennzahlen im Verlauf | J1: Szenarien-Vergleich | M1: Diagramme | N1: MFH | P1: Sanierungsplaner | S1: Tabelle entsperren
B6: Objekt und Investition | G6: Miete, Steuern, Rücklagen | J6: Bewirtschaftungskosten | M6: Finanzierung | P6: Kennzahlen heute | S6: Kennzahlen in der Zukunft | V6: Profi Kenzahlen
B8: Objekt und Kaufdatum | G8: Soll-Miete pro Monat | J8: Bewirtschaftungskosten pro Monat | M8: Gesamt-Finanzierung | P8: Vermögenszuwachs | S8: Betrachtungszeitpunkt | V8: Break-Even
B9: Adresse | C9: Andréstraße 19-21 | G9: Kaltmiete Wohnfläche pro qm | H9: 16 | J9: Umlagefähig | K9: =K22 -> 259.49333 | M9: Darlehenssumme | N9: =N17+N25+N32+N39 -> 318000 | P9: Vermögenszuwachs p.a. | Q9: =12*(-Q22+Q25)+'Wert, AfA, Darlehen'!D11 -> 14984.3 | S9: Hochrechnung für das Jahr | T9: 2044 | V9: Cashflow nach Steuern erstmals positiv | W9: =IFERROR(OFFSET('Miete, Cashflow, Steuern'!C51,0,MATCH(TRUE,INDEX('Miete, Cashflow, Steuern'!$D$62:$BA$62>0,0),0)),"-") -> 2020
B10: Kaufdatum | C10: 43983 | D10: Kürzel | G10: Kaltmiete Wohnfläche gesamt | H10: =C11*H9 -> 1248 | J10: Nicht umlagefähig | K10: =K30 -> 58.333333 | M10: Eigenkapital | N10: =E34-N9 -> 78528.1 | P10: ohne Wertsteigerung | Q10: =Q9-'Wert, AfA, Darlehen'!D11 -> 7836.3001 | S10: entspricht Jahre nach dem Kauf | T10: =T9-'Wert, AfA, Darlehen'!D33 -> 24 | V10: Kumulierter Cashflow bis dahin | W10: =OFFSET('Miete, Cashflow, Steuern'!C66,0,MATCH(TRUE,INDEX('Miete, Cashflow, Steuern'!$D$62:$BA$62>0,0),0)-1) -> 0
B11: Wohnfläche | C11: 78 | D11: Stellplätze | E11: 1 | G11: + Stellplätze | H11: 85 | J11: entspricht % der Nettokaltmiete | K11: =K10/H15 -> 0.04376094 | M11: Zinssatz gewichtet | N11: =IF(N9=0,"n/a",((N18*$N$17)+(N26*$N$25)+(N33*$N$32)+(N40*$N$39))/$N$9) -> 0.0198 | V11: Kumulierter Cashflow erstmals positiv | W11: =IFERROR(OFFSET('Miete, Cashflow, Steuern'!C51,0,MATCH(TRUE,INDEX('Miete, Cashflow, Steuern'!$D$66:$BA$66>0,0),0)),"-") -> 2020
G12: + Sonstiges | H12: 0 | J12: Insgesamt | K12: =K9+K10 -> 317.82667 | M12: Anfängliche Tilgung gewichtet | N12: =IF(N9=0,"n/a",((N19*$N$17)+(N27*$N$25)+(N34*$N$32)+(N41*$N$39))/$N$9) -> 0.0175 | P12: Miete und Mietrendite | S12: Miete und Wert | V12: Kum. Cashflow inkl. EK erstmals positiv | W12: =IFERROR(OFFSET('Miete, Cashflow, Steuern'!C51,0,MATCH(TRUE,INDEX('Miete, Cashflow, Steuern'!$D$67:$BA$67>0,0),0)),"-") -> 2047
B13: Kaufpreis und Kaufnebenkosten | G13: = Nettokaltmiete | H13: =H10+H11+H12 -> 1333 | M13: Kapitaldienst pro Monat | N13: =N20+N28+N35+N42 -> 988.45 | P13: Nettokaltmiete pro Jahr | Q13: =12*H15 -> 15996 | S13: Nettokaltmiete pro Jahr | T13: =OFFSET('Miete, Cashflow, Steuern'!D12,,Cockpit!T10)*12 -> 20647.303
B14: Kaufpreis | D14: 357400 | G14: Nettokaltmiete laut MFH-Kalkulator | H14: ='MFH-Kalkulator'!E12 -> 1268.75 | P14: Bruttomietrendite | Q14: =Q13/D14 -> 0.044756575 | S14: pro qm und Monat | T14: =T13/12/C11 -> 22.059084 | V14: Wertschätzung über Kaufpreisfaktor
B15: pro m² | D15: =D14/C11 -> 4582.0513 | G15: = Nettokaltmiete (effektiv) | H15: =IF('MFH-Kalkulator'!$C$6="Ein",H14,H13) -> 1333 | J15: Hausgeld | M15: Darlehen I | P15: Faktor | Q15: =D14/Q13 -> 22.343086 | S15: Wert der Immobilie (Jahresende) | T15: =OFFSET('Wert, AfA, Darlehen'!E8,,Cockpit!T10) -> 586352.58 | V15: Nettokaltmiete pro Jahr | W15: =OFFSET('Miete, Cashflow, Steuern'!D12,,Cockpit!T10)*12 -> 20647.303
B16: Makler | D16: 0 | E16: =D16*$D$14 -> 0 | G16: + Umlagefähige Kosten | H16: =K9 -> 259.49333 | J16: Hausgeld insgesamt | K16: =K19+K25 -> 262.44333 | M16: Darlehenssumme % Kaufpreis | N16: =318000/D14 -> 0.88975937 | P16: Nettomietrendite | Q16: =(Q13-12*K10)/E34 -> 0.03857482 | S16: pro qm | T16: =T15/C11 -> 7517.3408 | V16: Faktor | W16: 30
B17: Notar | D17: 0.0065 | E17: =D17*$D$14 -> 2323.1 | G17: = Warmmiete | H17: =H15+H16 -> 1592.4933 | M17: Darlehenssumme | N17: =N16*D14 -> 318000 | V17: Wert der Immobilie | W17: =W15*W16 -> 619419.08
B18: Grundbuch Amt | D18: 0.005 | E18: =D18*$D$14 -> 1787 | J18: Umlagefähige Kosten | M18: Zinssatz | N18: 0.0198 | P18: Cashflow pro Monat (Überschuss) | S18: Cashflow pro Monat (Überschuss) | V18: pro qm | W18: =W17/C11 -> 7941.2702
B19: Grunderwerbssteuer | D19: 0.06 | E19: =D19*$D$14 -> 21444 | G19: Steuern | J19: Hausgeld (umlagefähiger Teil) | K19: 204.11 | M19: Anfängliche Tilgung | N19: 0.0175 | P19: Warmmiete | Q19: =H17 -> 1592.4933 | S19: Warmmiete | T19: =OFFSET('Miete, Cashflow, Steuern'!D14,,Cockpit!T10) -> 2050.0962
B20: Sonstige | D20: 0.01 | E20: =D20*$D$14 -> 3574 | G20: AfA Satz | H20: 0.02 | J20: Grundsteuer | K20: =(166.15+166.15+332.3)/12 -> 55.383333 | M20: Kapitaldienst pro Monat | N20: =(N18+N19)*N17/12 -> 988.45 | P20: - Bewirtschaftungskosten | Q20: =-K12 -> -317.82667 | S20: - Bewirtschaftungskosten | T20: =OFFSET('Miete, Cashflow, Steuern'!D57,,Cockpit!T10) -> -403.55553 | V20: Zinsänderungsrisiko
B21: Summe | D21: =SUM(D16:D20) -> 0.0815 | E21: =SUM(E16:E20) -> 29128.1 | G21: Anteil Gebäude an Kaufpreis | H21: 0.78 | J21: Sonstiges | K21: =K38 -> 0 | M21: Jahr der Volltilgung | N21: =IFERROR(HLOOKUP(0,'Wert, AfA, Darlehen'!D46:BA101,56,FALSE),"-") -> 2058 | P21: - Zinsen | Q21: =-N11*N9/12 -> -524.7 | S21: - Zinsen | T21: =-OFFSET('Wert, AfA, Darlehen'!D106,,Cockpit!T10)/12 -> -246.0395 | V21: Monatl. Zinsen für CF 0 nach Steuern | W21: =-(T21-T25/(1-T33)) -> 742.46111
G22: Basis für langfristige Abschreibung | H22: =H21*(D14+E21)+SUMIF(D26:D29,"Aktivieren",C26:C29) -> 311491.92 | J22: Summe | K22: =SUM(K19:K21) -> 259.49333 | P22: - Tilgung | Q22: =-N12*N9/12 -> -463.75 | S22: - Tilgung | T22: =-OFFSET('Wert, AfA, Darlehen'!D110,,Cockpit!T10)/12 -> -742.4105 | V22: = Zinssatz gewichtet (p.a.) | W22: =IF(OFFSET('Wert, AfA, Darlehen'!D102,,Cockpit!T10)=0,"n/a",W21*12/OFFSET('Wert, AfA, Darlehen'!D102,,Cockpit!T10)) -> 0.059749471
P23: = Cashflow operativ | Q23: =SUM(Q19:Q22) -> 286.21667 | S23: = Cashflow operativ | T23: =SUM(T19:T22) -> 658.09069
B24: Anfängliche Investitionen | G24: Rücklagen | J24: Nicht umlagefähige Kosten | M24: Darlehen II | P24: - Steuern | Q24: =-Q34 -> -96.941657 | S24: - Steuern | T24: =-T34 -> -370.16616 | V24: Vermögenszuwachs bis Jahresende
B25: Was | C25: Kosten | D25: Steuerlich | E25: Wertsteig. | G25: Kalkulatorischer Mietausfall | H25: 0 | J25: Hausgeld (nicht umlagefähiger Teil) | K25: =700/12 -> 58.333333 | M25: Darlehenssumme | N25: 0 | P25: = Cashflow nach Steuern | Q25: =Q23+Q24 -> 189.27501 | S25: = Cashflow nach Steuern | T25: =T23+T24 -> 287.92453 | V25: Wert der Immobilie | W25: =OFFSET('Wert, AfA, Darlehen'!E8,,Cockpit!T10) -> 586352.58
B26: Küche | C26: 5000 | D26: Aktivieren | E26: 0 | G26: Eigene Instandhalt.-Rückl. (pro m² p.a.) | H26: 0 | J26: davon WEG Rücklage | K26: =333/12 -> 27.75 | M26: Zinssatz | N26: 0 | V26: - Restschuld Darlehen | W26: =-OFFSET('Wert, AfA, Darlehen'!D114,,Cockpit!T10) -> -140205.92
B27: Sonstiges | C27: 5000 | D27: Aktivieren | G27: Empfohlene eigene Instandhalt.-Rückl. | H27: =((H21*D14)*(1/80*1.5)-(12*K26))/C11 -> 62.743269 | J27: + Eigene Instandhaltungsrücklage | K27: =C11*H26/12 -> 0 | M27: Anfängliche Tilgung | N27: 0 | P27: Nebenrechnung Steuer (Monatsbasis) | S27: Nebenrechnung Steuer (Monatsbasis) | V27: - Eigenkapital Einsatz | W27: =-N10 -> -78528.1
B28: Sonstiges | C28: 0 | D28: Aktivieren | J28: + Kalkulatorischer Mietausfall | K28: =H25*H17 -> 0 | M28: Kapitaldienst pro Monat | N28: =(N26+N27)*N25/12 -> 0 | P28: Warmmiete | Q28: =Q19 -> 1592.4933 | S28: Warmmiete | T28: =T19 -> 2050.0962 | V28: + Kumulierter Cashflow | W28: =OFFSET('Miete, Cashflow, Steuern'!D66,,Cockpit!T10) -> 71567.727
B29: Sonstiges | C29: 0 | D29: Aktivieren | G29: Prognose | J29: + Sonstiges | K29: =K46 -> 0 | M29: Jahr der Volltilgung | N29: =HLOOKUP(0,'Wert, AfA, Darlehen'!D63:BA101,39,FALSE) -> 2020 | P29: - Bewirt.-Kosten ohne eigene Rückl. | Q29: =-K12+K27+K28 -> -317.82667 | S29: - Bewirt.-Kosten ohne eigene Rückl. | T29: =OFFSET('Miete, Cashflow, Steuern'!D72,,Cockpit!T10) -> -403.55553 | V29: = Vermögenszuwachs | W29: =SUM(W25:W28) -> 439186.29
B30: Summe | C30: =SUM(C26:C29) -> 10000 | D30: Summe | E30: =SUM(E26:E29) -> 0 | G30: Kostensteigerung p.a. | H30: 0.01 | J30: = Summe | K30: =K25+K27+K28+K29 -> 58.333333 | P30: - Zinsen | Q30: =Q21 -> -524.7 | S30: - Zinsen | T30: =T21 -> -246.0395
B31: 15% Grenze | C31: =0.15*H21*(D14+E21)*1.19 -> 53816.307 | D31: Neuer Wert | E31: =D14+E30 -> 357400 | G31: Mietsteigerung p.a. | H31: 0.015 | M31: Darlehen III | P31: - Abschreibung (AfA) | Q31: =-'Wert, AfA, Darlehen'!D21-'Wert, AfA, Darlehen'!D29 -> -519.1532 | S31: - Abschreibung (AfA) | T31: =-OFFSET('Wert, AfA, Darlehen'!D21,,Cockpit!T10)-OFFSET('Wert, AfA, Darlehen'!D29,,Cockpit!T10) -> -519.1532 | V31: Beleihungsreserve
G32: Wertsteigerung p.a. | H32: 0.02 | J32: Sonstige umlagefähige Kosten (Details) | M32: Darlehenssumme | N32: 0 | P32: = zu versteuernder Cashflow | Q32: =SUM(Q28:Q31) -> 230.81347 | S32: = zu versteuernder Cashflow | T32: =SUM(T28:T31) -> 881.34799 | V32: Wert der Immobilie | W32: =W25 -> 586352.58
B33: Gesamtinvestitionskosten | J33: Kostenposition I | M33: Zinssatz | N33: 0 | P33: * persönlicher Grenzsteuersatz | Q33: 0.42 | S33: * persönlicher Grenzsteuersatz | T33: =OFFSET('Miete, Cashflow, Steuern'!D76,,Cockpit!T10) -> 0.42 | V33: - Restschuld Darlehen | W33: =W26 -> -140205.92
B34: Summe | E34: =D14+E21+C30 -> 396528.1 | J34: Kostenposition II | M34: Anfängliche Tilgung | N34: 0 | P34: = Steuern | Q34: =Q33*Q32 -> 96.941657 | S34: = Steuern | T34: =T33*T32 -> 370.16616 | V34: = Beleihungsreserve | W34: =W32+W33 -> 446146.66
J35: Kostenposition III | M35: Kapitaldienst pro Monat | N35: =(N33+N34)*N32/12 -> 0
J36: Kostenposition IV | M36: Jahr der Volltilgung | N36: =HLOOKUP(0,'Wert, AfA, Darlehen'!D80:BA101,22,FALSE) -> 2020 | P36: Eigenkapitalrendite | V36: Kontostand
J37: Weitere Kosten | P37: Eigenkapitalrendite p.a. | Q37: =IF(N10>0,Q9/N10,"n/a") -> 0.1908145 | V37: Eigenkapital Einsatz (anfänglich) | W37: =W27 -> -78528.1
J38: Summe | K38: =SUM(K33:K37) -> 0 | M38: Darlehen IV | P38: ohne Wertsteigerung | Q38: =Q10/N10 -> 0.099789758 | V38: + Kumulierter Cashflow | W38: =W28 -> 71567.727
M39: Darlehenssumme | N39: 0 | V39: = Kontostand | W39: =W37+W38 -> -6960.3728
J40: Sonstige nicht umlagefähige Kosten (Details) | M40: Zinssatz
J41: Kostenposition I | M41: Anfängliche Tilgung
J42: Kostenposition II | M42: Kapitaldienst pro Monat | N42: =(N40+N41)*N39/12 -> 0
J43: Kostenposition III | M43: Jahr der Volltilgung | N43: =HLOOKUP(0,'Wert, AfA, Darlehen'!D97:BA101,5,FALSE) -> 2020
J44: Kostenposition IV
J45: Weitere Kosten
...

Sheet Bankgespräch
C1: zurück zum Cockpit | E1: Bankgespräch
B6: Investitionsübersicht für das Bankgespräch | N6: Erhalte bessere Darlehen:
C8: =Cockpit!C9 -> Andréstraße 19-21 | I8: =Cockpit!C10 -> 43983 | N8: Drucke diese Übersicht aus, um deiner Bank dein Investment vorzustellen. Alle Zahlen stammen aus den vorhandenen Berechnungen. Für noch mehr Transparenz drucke auch die Tabelle "Cockpit". So zeigst du, dass du deine Zahlen wirklich im Griff hast und erhöhst deine Chance auf beste Konditionen.
N18: Um deiner Bank deine persönlichen finanziellen Verhältnisse darzustellen, kannst du folgende Vorlagen verwenden:
N23: zur Vorlage: Haushaltsrechnung
N24: zur Vorlage: Vermögensübersicht
C25: Investition | F25: Finanzierung | I25: Rentabilität
C27: Objektdetails | F27: Haupt-Darlehen | I27: Erwartete Mieteinkünfte | N27: Um die Bilder zu ändern, klicke mit rechts auf das Bild und wähle "Bild ändern".
C28: Wohnfläche | D28: =Cockpit!C11 -> 78 | F28: Summe | G28: =Cockpit!N17 -> 318000 | I28: Nettokaltmiete | J28: =Cockpit!H15 -> 1333
C29: Kaufpreis pro qm | D29: =D33/D28 -> 4582.0513 | F29: Anfängliche Tilgung | G29: =Cockpit!N19 -> 0.0175 | I29: Bruttomietrendite | J29: =Cockpit!Q14 -> 0.044756575
F30: Annahme Zinsen | G30: =Cockpit!N18 -> 0.0198 | I30: Kaufpreis Multiplikator | J30: =Cockpit!Q15 -> 22.343086
C32: Kapitalbedarf | F32: Weitere Darlehen | I32: Monatlicher Cashflow (Jahr 1)
C33: Kaufpreis | D33: =Cockpit!D14 -> 357400 | F33: Summe | G33: =Cockpit!N9-Cockpit!N17 -> 0 | I33: Nettokaltmiete | J33: =Cockpit!H15 -> 1333
C34: Kaufnebenkosten | D34: =Cockpit!E21 -> 29128.1 | F34: Anfängliche Tilgung | G34: =(Cockpit!N12*Cockpit!N9-Cockpit!N19*Cockpit!N17)/(Cockpit!N9-Cockpit!N17) -> #DIV/0! | I34: =CONCATENATE("- Bewirtschaftungskosten (",TEXT(Cockpit!K11*100,"#"),"%)") -> - Bewirtschaftungskosten (4%) | J34: =Cockpit!K10 -> 58.333333
C35: Zusätzl. Investitionsbedarf | D35: =Cockpit!C30 -> 10000 | F35: Annahme Zinsen | G35: =(Cockpit!N11*Cockpit!N9-Cockpit!N18*Cockpit!N17)/(Cockpit!N9-Cockpit!N17) -> #DIV/0! | I35: - Zinsen | J35: =-Cockpit!Q21 -> 524.7
C36: Gesamtinvestitionskosten | D36: =SUM(D33:D35) -> 396528.1 | I36: - Tilgung | J36: =-Cockpit!Q22 -> 463.75
F37: Eigenkapital | I37: = monatlicher Cashflow | J37: =J33-SUM(J34:J36) -> 286.21667
F38: Summe | G38: =Cockpit!N10 -> 78528.1
I42: Einnahme | J42: Ausgabe
H43: Nettokaltmiete | I43: =Cockpit!H15 -> 1333
H44: Bewirt.-Kosten (nicht umlagefähig) | J44: =Cockpit!K10 -> 58.333333
H45: Zinsen | J45: =-Cockpit!Q21 -> 524.7
H46: Tilgung | J46: =-Cockpit!Q22 -> 463.75
B56: Keine Gewähr für die Richtigkeit der Angaben. Dieses Tool ersetzt keine fundierte Rechts-, Steuer- oder Finanzberatung. Mehr Details hier.

Sheet Miete, Cashflow, Steuern
B1: zurück zum Cockpit | E1: Miete, Investments, Cashflow, Steuern | J1: zu Wert, Abschreibung und Darlehen wechseln
B6: Miete pro Monat
D7: ='Wert, AfA, Darlehen'!D7 -> 2020 | E7: ='Wert, AfA, Darlehen'!E7 -> 2021 | F7: ='Wert, AfA, Darlehen'!F7 -> 2022 | G7: ='Wert, AfA, Darlehen'!G7 -> 2023 | H7: ='Wert, AfA, Darlehen'!H7 -> 2024 | I7: ='Wert, AfA, Darlehen'!I7 -> 2025 | J7: ='Wert, AfA, Darlehen'!J7 -> 2026 | K7: ='Wert, AfA, Darlehen'!K7 -> 2027 | ... BA7: ='Wert, AfA, Darlehen'!BA7 -> 2069
B8: Nettokaltmiete vor Erhöhung | E8: =D10 -> 1333 | F8: =E10 -> 1333 | G8: =F10 -> 1363.659 | H8: =G10 -> 1363.659 | I8: =H10 -> 1397.7505 | J8: =I10 -> 1397.7505 | K8: =J10 -> 1431.2965 | L8: =K10 -> 1431.2965 | ... BA8: =AZ10 -> 2182.1477
B9: + geplante Mieterhöhung | E9: 0 | F9: 0.023 | G9: 0 | H9: 0.025 | I9: 0 | J9: 0.024 | K9: 0 | L9: 0.023 | M9: 0 | N9: 0.023 | O9: 0 | P9: 0.02 | Q9: 0 | R9: 0.02 | S9: 0 | T9: 0.02 | U9: 0 | V9: 0.02 | W9: 0 | X9: 0.02 | Y9: 0 | Z9: 0.02 | AA9: 0 | AB9: 0.02 | AC9: 0 | AD9: 0.02 | AE9: 0 | AF9: 0.02 | AG9: 0 | AH9: 0.02 | AI9: 0 | AJ9: 0.02 | AK9: 0 | AL9: 0.02 | AM9: 0 | AN9: 0.02 | AO9: 0 | AP9: 0.02 | AQ9: 0 | AR9: 0.02 | AS9: 0 | AT9: 0.02 | AU9: 0 | AV9: 0.02 | AW9: 0 | AX9: 0.02 | AY9: 0 | AZ9: 0.02 | BA9: 0
B10: = Nettokaltmiete | D10: =Cockpit!H15 -> 1333 | E10: =E8*(1+E9) -> 1333 | F10: =F8*(1+F9) -> 1363.659 | G10: =G8*(1+G9) -> 1363.659 | H10: =H8*(1+H9) -> 1397.7505 | I10: =I8*(1+I9) -> 1397.7505 | J10: =J8*(1+J9) -> 1431.2965 | K10: =K8*(1+K9) -> 1431.2965 | L10: =L8*(1+L9) -> 1464.2163 | ... BA10: =BA8*(1+BA9) -> 2182.1477
B11: Nettokaltmiete laut MFH-Kalkulator | D11: ='MFH-Kalkulator'!E12 -> 1268.75 | E11: ='MFH-Kalkulator'!F12 -> 1287.7812 | F11: ='MFH-Kalkulator'!G12 -> 1307.098 | G11: ='MFH-Kalkulator'!H12 -> 1326.7044 | H11: ='MFH-Kalkulator'!I12 -> 1346.605 | I11: ='MFH-Kalkulator'!J12 -> 1366.8041 | J11: ='MFH-Kalkulator'!K12 -> 1387.3061 | K11: ='MFH-Kalkulator'!L12 -> 1408.1157 | ... BA11: ='MFH-Kalkulator'!BB12 -> 2631.553
B12: = Nettokaltmiete (effektiv) | D12: =IF('MFH-Kalkulator'!$C$6="Ein",'Miete, Cashflow, Steuern'!D11,'Miete, Cashflow, Steuern'!D10) -> 1333 | E12: =IF('MFH-Kalkulator'!$C$6="Ein",'Miete, Cashflow, Steuern'!E11,'Miete, Cashflow, Steuern'!E10) -> 1333 | F12: =IF('MFH-Kalkulator'!$C$6="Ein",'Miete, Cashflow, Steuern'!F11,'Miete, Cashflow, Steuern'!F10) -> 1363.659 | G12: =IF('MFH-Kalkulator'!$C$6="Ein",'Miete, Cashflow, Steuern'!G11,'Miete, Cashflow, Steuern'!G10) -> 1363.659 | H12: =IF('MFH-Kalkulator'!$C$6="Ein",'Miete, Cashflow, Steuern'!H11,'Miete, Cashflow, Steuern'!H10) -> 1397.7505 | I12: =IF('MFH-Kalkulator'!$C$6="Ein",'Miete, Cashflow, Steuern'!I11,'Miete, Cashflow, Steuern'!I10) -> 1397.7505 | J12: =IF('MFH-Kalkulator'!$C$6="Ein",'Miete, Cashflow, Steuern'!J11,'Miete, Cashflow, Steuern'!J10) -> 1431.2965 | K12: =IF('MFH-Kalkulator'!$C$6="Ein",'Miete, Cashflow, Steuern'!K11,'Miete, Cashflow, Steuern'!K10) -> 1431.2965 | ... BA12: =IF('MFH-Kalkulator'!$C$6="Ein",'Miete, Cashflow, Steuern'!BA11,'Miete, Cashflow, Steuern'!BA10) -> 2182.1477
B13: + umlagefähige Kosten | D13: =Cockpit!K9 -> 259.49333 | E13: =D13*(1+Cockpit!$H$30) -> 262.08827 | F13: =E13*(1+Cockpit!$H$30) -> 264.70915 | G13: =F13*(1+Cockpit!$H$30) -> 267.35624 | H13: =G13*(1+Cockpit!$H$30) -> 270.0298 | I13: =H13*(1+Cockpit!$H$30) -> 272.7301 | J13: =I13*(1+Cockpit!$H$30) -> 275.4574 | K13: =J13*(1+Cockpit!$H$30) -> 278.21198 | L13: =K13*(1+Cockpit!$H$30) -> 280.9941 | ... BA13: =AZ13*(1+Cockpit!$H$30) -> 422.54554
B14: = Warmmiete | D14: =D12+D13 -> 1592.4933 | E14: =E12+E13 -> 1595.0883 | F14: =F12+F13 -> 1628.3681 | G14: =G12+G13 -> 1631.0152 | H14: =H12+H13 -> 1667.7803 | I14: =I12+I13 -> 1670.4806 | J14: =J12+J13 -> 1706.7539 | K14: =K12+K13 -> 1709.5085 | ... BA14: =BA12+BA13 -> 2604.6932
B16: Investitionsmaßnahmen
D17: =D7 -> 2020 | E17: =E7 -> 2021 | F17: =F7 -> 2022 | G17: =G7 -> 2023 | H17: =H7 -> 2024 | I17: =I7 -> 2025 | J17: =J7 -> 2026 | K17: =K7 -> 2027 | ... BA17: =BA7 -> 2069
B47: = Summe | D47: =SUM(D18:D46) -> 0 | E47: =SUM(E18:E46) -> 0 | F47: =SUM(F18:F46) -> 0 | G47: =SUM(G18:G46) -> 0 | H47: =SUM(H18:H46) -> 0 | I47: =SUM(I18:I46) -> 0 | J47: =SUM(J18:J46) -> 0 | K47: =SUM(K18:K46) -> 0 | ... BA47: =SUM(BA18:BA46) -> 0
B50: Cashflow pro Monat
D51: =D7 -> 2020 | E51: =E7 -> 2021 | F51: =F7 -> 2022 | G51: =G7 -> 2023 | H51: =H7 -> 2024 | I51: =I7 -> 2025 | J51: =J7 -> 2026 | K51: =K7 -> 2027 | ... BA51: =BA7 -> 2069
B52: Warmmiete | D52: =D14 -> 1592.4933 | E52: =E14 -> 1595.0883 | F52: =F14 -> 1628.3681 | G52: =G14 -> 1631.0152 | H52: =H14 -> 1667.7803 | I52: =I14 -> 1670.4806 | J52: =J14 -> 1706.7539 | K52: =K14 -> 1709.5085 | ... BA52: =BA14 -> 2604.6932
B53: - Bewirtschaftungskosten ohne eigene Rücklagen | D53: =-(Cockpit!K12-Cockpit!K27-Cockpit!K28) -> -317.82667 | E53: =D53*(1+Cockpit!$H$30) -> -321.00493 | F53: =E53*(1+Cockpit!$H$30) -> -324.21498 | G53: =F53*(1+Cockpit!$H$30) -> -327.45713 | H53: =G53*(1+Cockpit!$H$30) -> -330.7317 | I53: =H53*(1+Cockpit!$H$30) -> -334.03902 | J53: =I53*(1+Cockpit!$H$30) -> -337.37941 | K53: =J53*(1+Cockpit!$H$30) -> -340.75321 | L53: =K53*(1+Cockpit!$H$30) -> -344.16074 | ... BA53: =AZ53*(1+Cockpit!$H$30) -> -517.53252
B54: - Eigene Instandhaltungsrücklage | D54: =-Cockpit!K27 -> 0 | E54: =D54*(1+Cockpit!$H$30) -> 0 | F54: =E54*(1+Cockpit!$H$30) -> 0 | G54: =F54*(1+Cockpit!$H$30) -> 0 | H54: =G54*(1+Cockpit!$H$30) -> 0 | I54: =H54*(1+Cockpit!$H$30) -> 0 | J54: =I54*(1+Cockpit!$H$30) -> 0 | K54: =J54*(1+Cockpit!$H$30) -> 0 | L54: =K54*(1+Cockpit!$H$30) -> 0 | ... BA54: =AZ54*(1+Cockpit!$H$30) -> 0
B55: - Rücklage Kalkulatorischer Mietausfall | D55: =-Cockpit!K28 -> 0 | E55: =-Cockpit!$H$25*'Miete, Cashflow, Steuern'!E14 -> 0 | F55: =-Cockpit!$H$25*'Miete, Cashflow, Steuern'!F14 -> 0 | G55: =-Cockpit!$H$25*'Miete, Cashflow, Steuern'!G14 -> 0 | H55: =-Cockpit!$H$25*'Miete, Cashflow, Steuern'!H14 -> 0 | I55: =-Cockpit!$H$25*'Miete, Cashflow, Steuern'!I14 -> 0 | J55: =-Cockpit!$H$25*'Miete, Cashflow, Steuern'!J14 -> 0 | K55: =-Cockpit!$H$25*'Miete, Cashflow, Steuern'!K14 -> 0 | L55: =-Cockpit!$H$25*'Miete, Cashflow, Steuern'!L14 -> 0 | ... BA55: =-Cockpit!$H$25*'Miete, Cashflow, Steuern'!BA14 -> 0
B56: - Geplante Investitionsmaßnahmen | D56: =-D47/12 -> 0 | E56: =-E47/12 -> 0 | F56: =-F47/12 -> 0 | G56: =-G47/12 -> 0 | H56: =-H47/12 -> 0 | I56: =-I47/12 -> 0 | J56: =-J47/12 -> 0 | K56: =-K47/12 -> 0 | ... BA56: =-BA47/12 -> 0
B57: Summe Bewirtschaftungskosten | D57: =D53+D54+D55+D56 -> -317.82667 | E57: =E53+E54+E55+E56 -> -321.00493 | F57: =F53+F54+F55+F56 -> -324.21498 | G57: =G53+G54+G55+G56 -> -327.45713 | H57: =H53+H54+H55+H56 -> -330.7317 | I57: =I53+I54+I55+I56 -> -334.03902 | J57: =J53+J54+J55+J56 -> -337.37941 | K57: =K53+K54+K55+K56 -> -340.75321 | ... BA57: =BA53+BA54+BA55+BA56 -> -517.53252
B58: - Zinsen | D58: =-'Wert, AfA, Darlehen'!D106/12 -> -524.7 | E58: =-'Wert, AfA, Darlehen'!E106/12 -> -515.51775 | F58: =-'Wert, AfA, Darlehen'!F106/12 -> -506.15369 | G58: =-'Wert, AfA, Darlehen'!G106/12 -> -496.60422 | H58: =-'Wert, AfA, Darlehen'!H106/12 -> -486.86568 | I58: =-'Wert, AfA, Darlehen'!I106/12 -> -476.93431 | J58: =-'Wert, AfA, Darlehen'!J106/12 -> -466.8063 | K58: =-'Wert, AfA, Darlehen'!K106/12 -> -456.47775 | ... BA58: =-'Wert, AfA, Darlehen'!BA106/12 -> 0
B59: - Tilgung | C59: - Tilgung | D59: =-'Wert, AfA, Darlehen'!D110/12 -> -463.75 | E59: =-'Wert, AfA, Darlehen'!E110/12 -> -472.93225 | F59: =-'Wert, AfA, Darlehen'!F110/12 -> -482.29631 | G59: =-'Wert, AfA, Darlehen'!G110/12 -> -491.84578 | H59: =-'Wert, AfA, Darlehen'!H110/12 -> -501.58432 | I59: =-'Wert, AfA, Darlehen'!I110/12 -> -511.51569 | J59: =-'Wert, AfA, Darlehen'!J110/12 -> -521.6437 | K59: =-'Wert, AfA, Darlehen'!K110/12 -> -531.97225 | ... BA59: =-'Wert, AfA, Darlehen'!BA110/12 -> 0
B60: = Cashflow operativ | C60: = Cashflow operativ | D60: =D52+D57+D58+D59 -> 286.21667 | E60: =E52+E57+E58+E59 -> 285.63333 | F60: =F52+F57+F58+F59 -> 315.70317 | G60: =G52+G57+G58+G59 -> 315.10811 | H60: =H52+H57+H58+H59 -> 348.59857 | I60: =I52+I57+I58+I59 -> 347.99156 | J60: =J52+J57+J58+J59 -> 380.92448 | K60: =K52+K57+K58+K59 -> 380.30526 | ... BA60: =BA52+BA57+BA58+BA59 -> 2087.1607
B61: - Steuern | C61: - Steuern | D61: =-D77 -> -96.941657 | E61: =-E77 -> -100.5532 | F61: =-F77 -> -117.11544 | G61: =-G77 -> -120.87629 | H61: =-H77 -> -139.03247 | I61: =-I77 -> -142.9487 | J61: =-J77 -> -161.03429 | K61: =-K77 -> -165.11221 | ... BA61: =-BA77 -> -658.56314
B62: = Cashflow nach Steuern | D62: =D60+D61 -> 189.27501 | E62: =E60+E61 -> 185.08013 | F62: =F60+F61 -> 198.58773 | G62: =G60+G61 -> 194.23182 | H62: =H60+H61 -> 209.5661 | I62: =I60+I61 -> 205.04285 | J62: =J60+J61 -> 219.89018 | K62: =K60+K61 -> 215.19305 | ... BA62: =BA60+BA61 -> 1428.5975
B64: Break Even Rechnung
D65: =D7 -> 2020 | E65: =E7 -> 2021 | F65: =F7 -> 2022 | G65: =G7 -> 2023 | H65: =H7 -> 2024 | I65: =I7 -> 2025 | J65: =J7 -> 2026 | K65: =K7 -> 2027 | ... BA65: =BA7 -> 2069
B66: Kumulierter Cashflow am Jahresende | D66: =12*D62 -> 2271.3001 | E66: =D66+12*E62 -> 4492.2617 | F66: =E66+12*F62 -> 6875.3144 | G66: =F66+12*G62 -> 9206.0963 | H66: =G66+12*H62 -> 11720.889 | I66: =H66+12*I62 -> 14181.404 | J66: =I66+12*J62 -> 16820.086 | K66: =J66+12*K62 -> 19402.403 | L66: =K66+12*L62 -> 22156.402 | ... BA66: =AZ66+12*BA62 -> 309448.48
B67: Kumulierter Cashflow inkl. Eigenkapitaleinsatz | D67: =-Cockpit!$N$10+D66 -> -76256.8 | E67: =-Cockpit!$N$10+E66 -> -74035.838 | F67: =-Cockpit!$N$10+F66 -> -71652.786 | G67: =-Cockpit!$N$10+G66 -> -69322.004 | H67: =-Cockpit!$N$10+H66 -> -66807.211 | I67: =-Cockpit!$N$10+I66 -> -64346.696 | J67: =-Cockpit!$N$10+J66 -> -61708.014 | K67: =-Cockpit!$N$10+K66 -> -59125.697 | ... BA67: =-Cockpit!$N$10+BA66 -> 230920.38
B69: Nebenrechnung Steuer pro Monat
D70: =D7 -> 2020 | E70: =E7 -> 2021 | F70: =F7 -> 2022 | G70: =G7 -> 2023 | H70: =H7 -> 2024 | I70: =I7 -> 2025 | J70: =J7 -> 2026 | K70: =K7 -> 2027 | ... BA70: =BA7 -> 2069
B71: Warmmiete | D71: =D14 -> 1592.4933 | E71: =E14 -> 1595.0883 | F71: =F14 -> 1628.3681 | G71: =G14 -> 1631.0152 | H71: =H14 -> 1667.7803 | I71: =I14 -> 1670.4806 | J71: =J14 -> 1706.7539 | K71: =K14 -> 1709.5085 | ... BA71: =BA14 -> 2604.6932
B72: - Bewirtschaftungskosten ohne eigene Rücklagen | D72: =D57-D54-D55 -> -317.82667 | E72: =E57-E54-E55 -> -321.00493 | F72: =F57-F54-F55 -> -324.21498 | G72: =G57-G54-G55 -> -327.45713 | H72: =H57-H54-H55 -> -330.7317 | I72: =I57-I54-I55 -> -334.03902 | J72: =J57-J54-J55 -> -337.37941 | K72: =K57-K54-K55 -> -340.75321 | ... BA72: =BA57-BA54-BA55 -> -517.53252
B73: - Zinsen | D73: =-'Wert, AfA, Darlehen'!D106/12 -> -524.7 | E73: =-'Wert, AfA, Darlehen'!E106/12 -> -515.51775 | F73: =-'Wert, AfA, Darlehen'!F106/12 -> -506.15369 | G73: =-'Wert, AfA, Darlehen'!G106/12 -> -496.60422 | H73: =-'Wert, AfA, Darlehen'!H106/12 -> -486.86568 | I73: =-'Wert, AfA, Darlehen'!I106/12 -> -476.93431 | J73: =-'Wert, AfA, Darlehen'!J106/12 -> -466.8063 | K73: =-'Wert, AfA, Darlehen'!K106/12 -> -456.47775 | ... BA73: =-'Wert, AfA, Darlehen'!BA106/12 -> 0
B74: - Abschreibung für Abnutzung (AfA) | D74: =-'Wert, AfA, Darlehen'!D21-'Wert, AfA, Darlehen'!D29 -> -519.1532 | E74: =-'Wert, AfA, Darlehen'!E21-'Wert, AfA, Darlehen'!E29 -> -519.1532 | F74: =-'Wert, AfA, Darlehen'!F21-'Wert, AfA, Darlehen'!F29 -> -519.1532 | G74: =-'Wert, AfA, Darlehen'!G21-'Wert, AfA, Darlehen'!G29 -> -519.1532 | H74: =-'Wert, AfA, Darlehen'!H21-'Wert, AfA, Darlehen'!H29 -> -519.1532 | I74: =-'Wert, AfA, Darlehen'!I21-'Wert, AfA, Darlehen'!I29 -> -519.1532 | J74: =-'Wert, AfA, Darlehen'!J21-'Wert, AfA, Darlehen'!J29 -> -519.1532 | K74: =-'Wert, AfA, Darlehen'!K21-'Wert, AfA, Darlehen'!K29 -> -519.1532 | ... BA74: =-'Wert, AfA, Darlehen'!BA21-'Wert, AfA, Darlehen'!BA29 -> -519.1532
B75: = zu versteuernder Cashflow | D75: =SUM(D71:D74) -> 230.81347 | E75: =SUM(E71:E74) -> 239.41239 | F75: =SUM(F71:F74) -> 278.84628 | G75: =SUM(G71:G74) -> 287.80069 | H75: =SUM(H71:H74) -> 331.0297 | I75: =SUM(I71:I74) -> 340.35405 | J75: =SUM(J71:J74) -> 383.41498 | K75: =SUM(K71:K74) -> 393.12431 | ... BA75: =SUM(BA71:BA74) -> 1568.0075
B76: * persönlicher Grenzsteuersatz | D76: =Cockpit!Q33 -> 0.42 | E76: =D76 -> 0.42 | F76: =E76 -> 0.42 | G76: =F76 -> 0.42 | H76: =G76 -> 0.42 | I76: =H76 -> 0.42 | J76: =I76 -> 0.42 | K76: =J76 -> 0.42 | L76: =K76 -> 0.42 | ... BA76: =AZ76 -> 0.42
B77: = Steuern | D77: =D76*D75 -> 96.941657 | E77: =E76*E75 -> 100.5532 | F77: =F76*F75 -> 117.11544 | G77: =G76*G75 -> 120.87629 | H77: =H76*H75 -> 139.03247 | I77: =I76*I75 -> 142.9487 | J77: =J76*J75 -> 161.03429 | K77: =K76*K75 -> 165.11221 | ... BA77: =BA76*BA75 -> 658.56314
B79: Keine Gewähr für die Richtigkeit der Angaben. Dieses Tool ersetzt keine fundierte Rechts-, Steuer- oder Finanzberatung. Mehr Details hier.

Sheet Wert, AfA, Darlehen
B1: zurück zum Cockpit | E1: Wert, Abschreibung und Darlehen | J1: zu Miete, Investments, Cashflow, Steuern wechseln
B6: Wertentwicklung
B7: € | D7: =YEAR(Cockpit!C10) -> 2020 | E7: =D7+1 -> 2021 | F7: =E7+1 -> 2022 | G7: =F7+1 -> 2023 | H7: =G7+1 -> 2024 | I7: =H7+1 -> 2025 | J7: =I7+1 -> 2026 | K7: =J7+1 -> 2027 | L7: =K7+1 -> 2028 | ... BA7: =AZ7+1 -> 2069
B8: Wert der Immobilie (Jahresanfang) | D8: =Cockpit!D14+Cockpit!E30 -> 357400 | E8: =D12 -> 364548 | F8: =E12 -> 371838.96 | G8: =F12 -> 379275.74 | H8: =G12 -> 386861.25 | I8: =H12 -> 394598.48 | J8: =I12 -> 402490.45 | K8: =J12 -> 410540.26 | L8: =K12 -> 418751.06 | ... BA8: =AZ12 -> 943111.33
B9: Nettovermögen (Wert - Restschuld) (Jahresanfang) | D9: =D8-'Wert, AfA, Darlehen'!D102 -> 39400 | E9: =E8-'Wert, AfA, Darlehen'!E102 -> 52113 | F9: =F8-'Wert, AfA, Darlehen'!F102 -> 65079.147 | G9: =G8-'Wert, AfA, Darlehen'!G102 -> 78303.482 | H9: =H8-'Wert, AfA, Darlehen'!H102 -> 91791.146 | I9: =I8-'Wert, AfA, Darlehen'!I102 -> 105547.38 | J9: =J8-'Wert, AfA, Darlehen'!J102 -> 119577.54 | K9: =K8-'Wert, AfA, Darlehen'!K102 -> 133887.07 | ... BA9: =BA8-'Wert, AfA, Darlehen'!BA102 -> 943111.33
B10: Wertentwicklung im Jahr | D10: =Cockpit!$H$32 -> 0.02 | E10: =D10 -> 0.02 | F10: =E10 -> 0.02 | G10: =F10 -> 0.02 | H10: =G10 -> 0.02 | I10: =H10 -> 0.02 | J10: =I10 -> 0.02 | K10: =J10 -> 0.02 | L10: =K10 -> 0.02 | ... BA10: =AZ10 -> 0.02
B11: Wertentwicklung im Jahr | D11: =D8*D10 -> 7148 | E11: =E8*E10 -> 7290.96 | F11: =F8*F10 -> 7436.7792 | G11: =G8*G10 -> 7585.5148 | H11: =H8*H10 -> 7737.2251 | I11: =I8*I10 -> 7891.9696 | J11: =J8*J10 -> 8049.809 | K11: =K8*K10 -> 8210.8052 | ... BA11: =BA8*BA10 -> 18862.227
B12: Wert der Immobilie (Jahresende) | D12: =D8+D11 -> 364548 | E12: =E8+E11 -> 371838.96 | F12: =F8+F11 -> 379275.74 | G12: =G8+G11 -> 386861.25 | H12: =H8+H11 -> 394598.48 | I12: =I8+I11 -> 402490.45 | J12: =J8+J11 -> 410540.26 | K12: =K8+K11 -> 418751.06 | ... BA12: =BA8+BA11 -> 961973.56
B14: Abschreibung Regulär
B15: € | D15: ='Miete, Cashflow, Steuern'!D7 -> 2020 | E15: ='Miete, Cashflow, Steuern'!E7 -> 2021 | F15: ='Miete, Cashflow, Steuern'!F7 -> 2022 | G15: ='Miete, Cashflow, Steuern'!G7 -> 2023 | H15: ='Miete, Cashflow, Steuern'!H7 -> 2024 | I15: ='Miete, Cashflow, Steuern'!I7 -> 2025 | J15: ='Miete, Cashflow, Steuern'!J7 -> 2026 | K15: ='Miete, Cashflow, Steuern'!K7 -> 2027 | ... BA15: ='Miete, Cashflow, Steuern'!BA7 -> 2069
B16: Basis für langfristige Abschreibung | D16: =Cockpit!H22 -> 311491.92 | E16: =D16 -> 311491.92 | F16: =E16 -> 311491.92 | G16: =F16 -> 311491.92 | H16: =G16 -> 311491.92 | I16: =H16 -> 311491.92 | J16: =I16 -> 311491.92 | K16: =J16 -> 311491.92 | L16: =K16 -> 311491.92 | ... BA16: =AZ16 -> 311491.92
B17: - Basis für Denkmal Abschreibung | D17: =-D26 -> 0 | E17: =-E26 -> 0 | F17: =-F26 -> 0 | G17: =-G26 -> 0 | H17: =-H26 -> 0 | I17: =-I26 -> 0 | J17: =-J26 -> 0 | K17: =-K26 -> 0 | ... BA17: =-BA26 -> 0
B18: = Basis für reguläre Abschreibung | D18: =D16+D17 -> 311491.92 | E18: =E16+E17 -> 311491.92 | F18: =F16+F17 -> 311491.92 | G18: =G16+G17 -> 311491.92 | H18: =H16+H17 -> 311491.92 | I18: =I16+I17 -> 311491.92 | J18: =J16+J17 -> 311491.92 | K18: =K16+K17 -> 311491.92 | ... BA18: =BA16+BA17 -> 311491.92
B19: * Abschreibungssatz pro Jahr | D19: =Cockpit!H20 -> 0.02 | E19: =D19 -> 0.02 | F19: =E19 -> 0.02 | G19: =F19 -> 0.02 | H19: =G19 -> 0.02 | I19: =H19 -> 0.02 | J19: =I19 -> 0.02 | K19: =J19 -> 0.02 | L19: =K19 -> 0.02 | ... BA19: =AZ19 -> 0.02
B20: = Abschreibung pro Jahr | D20: =D19*D18 -> 6229.8384 | E20: =MIN(E19*E18,E18-D22) -> 6229.8384 | F20: =MIN(F19*F18,F18-E22) -> 6229.8384 | G20: =MIN(G19*G18,G18-F22) -> 6229.8384 | H20: =MIN(H19*H18,H18-G22) -> 6229.8384 | I20: =MIN(I19*I18,I18-H22) -> 6229.8384 | J20: =MIN(J19*J18,J18-I22) -> 6229.8384 | K20: =MIN(K19*K18,K18-J22) -> 6229.8384 | L20: =MIN(L19*L18,L18-K22) -> 6229.8384 | ... BA20: =MIN(BA19*BA18,BA18-AZ22) -> 6229.8384
B21: = pro Monat | D21: =D20/12 -> 519.1532 | E21: =E20/12 -> 519.1532 | F21: =F20/12 -> 519.1532 | G21: =G20/12 -> 519.1532 | H21: =H20/12 -> 519.1532 | I21: =I20/12 -> 519.1532 | J21: =J20/12 -> 519.1532 | K21: =K20/12 -> 519.1532 | ... BA21: =BA20/12 -> 519.1532
B22: Kumulierte Abschreibung Jahresende | D22: =D20 -> 6229.8384 | E22: =D22+E20 -> 12459.677 | F22: =E22+F20 -> 18689.515 | G22: =F22+G20 -> 24919.353 | H22: =G22+H20 -> 31149.192 | I22: =H22+I20 -> 37379.03 | J22: =I22+J20 -> 43608.869 | K22: =J22+K20 -> 49838.707 | L22: =K22+L20 -> 56068.545 | ... BA22: =AZ22+BA20 -> 311491.92
B24: Abschreibung Denkmal
B25: € | D25: =D7 -> 2020 | E25: =E7 -> 2021 | F25: =F7 -> 2022 | G25: =G7 -> 2023 | H25: =H7 -> 2024 | I25: =I7 -> 2025 | J25: =J7 -> 2026 | K25: =K7 -> 2027 | ... BA25: =BA7 -> 2069
B26: Basis für Denkmal Abschreibung | D26: 0 | E26: =D26 -> 0 | F26: =E26 -> 0 | G26: =F26 -> 0 | H26: =G26 -> 0 | I26: =H26 -> 0 | J26: =I26 -> 0 | K26: =J26 -> 0 | L26: =K26 -> 0 | ... BA26: =AZ26 -> 0
B27: * Abschreibungssatz pro Jahr | D27: 0.09 | E27: 0.09 | F27: 0.09 | G27: 0.09 | H27: 0.09 | I27: 0.09 | J27: 0.09 | K27: 0.09 | L27: 0.07 | M27: 0.07 | N27: 0.07 | O27: 0.07
B28: = Abschreibung pro Jahr | D28: =D27*D26 -> 0 | E28: =MIN(E27*E26,E26-D30) -> 0 | F28: =MIN(F27*F26,F26-E30) -> 0 | G28: =MIN(G27*G26,G26-F30) -> 0 | H28: =MIN(H27*H26,H26-G30) -> 0 | I28: =MIN(I27*I26,I26-H30) -> 0 | J28: =MIN(J27*J26,J26-I30) -> 0 | K28: =MIN(K27*K26,K26-J30) -> 0 | L28: =MIN(L27*L26,L26-K30) -> 0 | ... BA28: =MIN(BA27*BA26,BA26-AZ30) -> 0
B29: = pro Monat | D29: =D28/12 -> 0 | E29: =E28/12 -> 0 | F29: =F28/12 -> 0 | G29: =G28/12 -> 0 | H29: =H28/12 -> 0 | I29: =I28/12 -> 0 | J29: =J28/12 -> 0 | K29: =K28/12 -> 0 | ... BA29: =BA28/12 -> 0
B30: Kumulierte Abschreibung Jahresende | D30: =D28 -> 0 | E30: =D30+E28 -> 0 | F30: =E30+F28 -> 0 | G30: =F30+G28 -> 0 | H30: =G30+H28 -> 0 | I30: =H30+I28 -> 0 | J30: =I30+J28 -> 0 | K30: =J30+K28 -> 0 | L30: =K30+L28 -> 0 | ... BA30: =AZ30+BA28 -> 0
B32: Darlehen I
B33: € | D33: =D$7 -> 2020 | E33: =E$7 -> 2021 | F33: =F$7 -> 2022 | G33: =G$7 -> 2023 | H33: =H$7 -> 2024 | I33: =I$7 -> 2025 | J33: =J$7 -> 2026 | K33: =K$7 -> 2027 | ... BA33: =BA$7 -> 2069
B34: Zinsänderung
B35: Gültiger Zinssatz | D35: =Cockpit!N18 -> 0.0198 | E35: =IF(E34<>"",E34,D35) -> 0.0198 | F35: =IF(F34<>"",F34,E35) -> 0.0198 | G35: =IF(G34<>"",G34,F35) -> 0.0198 | H35: =IF(H34<>"",H34,G35) -> 0.0198 | I35: =IF(I34<>"",I34,H35) -> 0.0198 | J35: =IF(J34<>"",J34,I35) -> 0.0198 | K35: =IF(K34<>"",K34,J35) -> 0.0198 | L35: =IF(L34<>"",L34,K35) -> 0.0198 | ... BA35: =IF(BA34<>"",BA34,AZ35) -> 0.0198
B37: Restschuld Periodenbeginn | D37: =Cockpit!N17 -> 318000 | E37: =D46 -> 312435 | F37: =E46 -> 306759.81 | G37: =F46 -> 300972.26 | H37: =G46 -> 295070.11 | I37: =H46 -> 289051.1 | J37: =I46 -> 282912.91 | K37: =J46 -> 276653.18 | L37: =K46 -> 270269.52 | ... BA37: =AZ46 -> 0
B38: Zinsen | D38: =D35*D37 -> 6296.4 | E38: =E35*E37 -> 6186.213 | F38: =F35*F37 -> 6073.8443 | G38: =G35*G37 -> 5959.2507 | H38: =H35*H37 -> 5842.3881 | I38: =I35*I37 -> 5723.2117 | J38: =J35*J37 -> 5601.6756 | K38: =K35*K37 -> 5477.733 | ... BA38: =BA35*BA37 -> 0
B40: Neue Soll-Tilgung
B41: Effektive Tilgung | D41: =Cockpit!$N$19*D37 -> 5565 | E41: =MIN(D46,IF(E40<>"",E40,MAX(D44-E38,0))) -> 5675.187 | F41: =MIN(E46,IF(F40<>"",F40,MAX(E44-F38,0))) -> 5787.5557 | G41: =MIN(F46,IF(G40<>"",G40,MAX(F44-G38,0))) -> 5902.1493 | H41: =MIN(G46,IF(H40<>"",H40,MAX(G44-H38,0))) -> 6019.0119 | I41: =MIN(H46,IF(I40<>"",I40,MAX(H44-I38,0))) -> 6138.1883 | J41: =MIN(I46,IF(J40<>"",J40,MAX(I44-J38,0))) -> 6259.7244 | K41: =MIN(J46,IF(K40<>"",K40,MAX(J44-K38,0))) -> 6383.667 | L41: =MIN(K46,IF(L40<>"",L40,MAX(K44-L38,0))) -> 6510.0636 | ... BA41: =MIN(AZ46,IF(BA40<>"",BA40,MAX(AZ44-BA38,0))) -> 0
B42: entspricht % der Restschuld | D42: =IF(D37>0,D41/D37,) -> 0.0175 | E42: =IF(E37>0,E41/E37,) -> 0.018164377 | F42: =IF(F37>0,F41/F37,) -> 0.018866734 | G42: =IF(G37>0,G41/G37,) -> 0.019610277 | H42: =IF(H37>0,H41/H37,) -> 0.020398582 | I42: =IF(I37>0,I41/I37,) -> 0.021235651 | J42: =IF(J37>0,J41/J37,) -> 0.022125977 | K42: =IF(K37>0,K41/K37,) -> 0.02307462 | ... BA42: =IF(BA37>0,BA41/BA37,) -> 0
B44: Annuität | D44: =D38+D41 -> 11861.4 | E44: =E38+E41 -> 11861.4 | F44: =F38+F41 -> 11861.4 | G44: =G38+G41 -> 11861.4 | H44: =H38+H41 -> 11861.4 | I44: =I38+I41 -> 11861.4 | J44: =J38+J41 -> 11861.4 | K44: =K38+K41 -> 11861.4 | ... BA44: =BA38+BA41 -> 0
B45: Einmalige Sondertilgung
B46: Restschuld Periodenende | D46: =MAX(D37-D41-D45,0) -> 312435 | E46: =MAX(E37-E41-E45,0) -> 306759.81 | F46: =MAX(F37-F41-F45,0) -> 300972.26 | G46: =MAX(G37-G41-G45,0) -> 295070.11 | H46: =MAX(H37-H41-H45,0) -> 289051.1 | I46: =MAX(I37-I41-I45,0) -> 282912.91 | J46: =MAX(J37-J41-J45,0) -> 276653.18 | K46: =MAX(K37-K41-K45,0) -> 270269.52 | ... BA46: =MAX(BA37-BA41-BA45,0) -> 0
B47: Kapitaldienst pro Monat | D47: =D44/12 -> 988.45 | E47: =E44/12 -> 988.45 | F47: =F44/12 -> 988.45 | G47: =G44/12 -> 988.45 | H47: =H44/12 -> 988.45 | I47: =I44/12 -> 988.45 | J47: =J44/12 -> 988.45 | K47: =K44/12 -> 988.45 | ... BA47: =BA44/12 -> 0
B49: Darlehen II
B50: € | D50: =D$7 -> 2020 | E50: =E$7 -> 2021 | F50: =F$7 -> 2022 | G50: =G$7 -> 2023 | H50: =H$7 -> 2024 | I50: =I$7 -> 2025 | J50: =J$7 -> 2026 | K50: =K$7 -> 2027 | ... BA50: =BA$7 -> 2069
B51: Zinsänderung
...

Sheet Szenarien
C1: zurück zum Cockpit | P1: Szenarien-Vergleich
B6: Sprünge | U6: Sprünge
B7: 5000 | C7: Darlehen I % Kaufpreis | D7: Darlehen I Summe | E7: Darlehen I Zinssatz | F7: Darlehen I Tilgung | G7: Kaltmiete | H7: Warmmiete | I7: Bewirtschaftungskosten | J7: Zinsen | K7: Tilgung | L7: CF operativ | M7: Hausgeld und weitere Kosten | N7: AfA | O7: Steuern | P7: Cashflow nach Steuern (Monat) | R7: Kaufpreis | S7: Darlehen I % Kaufpreis | T7: Darlehen I Summe | U7: 0.001 | V7: Darlehen I Tilgung | W7: Kaltmiete | X7: Warmmiete | Y7: Bewirtschaftungskosten | Z7: Zinsen | AA7: Tilgung | AB7: CF operativ | AC7: Hausgeld und weitere Kosten | AD7: AfA | AE7: Steuern | AF7: Cashflow nach Steuern (Monat) | AH7: Ausgangsdaten
B8: Kaufpreis | U8: Zinssatz
B9: =B10+$B$7 -> 377400 | C9: =$AL$10 -> 0.88975937 | D9: =B9*C9 -> 335795.19 | E9: =$AL$11 -> 0.0198 | F9: =$AL$12 -> 0.0175 | G9: =$AL$13 -> 1333 | H9: =G9+Cockpit!$K$9 -> 1592.4933 | I9: =-Cockpit!$K$12-Cockpit!$H$25*(Szenarien!G9-Szenarien!$AL$13) -> -317.82667 | J9: =Cockpit!$Q$21-E9*(D9-$D13)/12 -> -554.06206 | K9: =Cockpit!$Q$22-F9*(D9-$D13)/12 -> -489.70132 | L9: =H9+I9+J9+K9 -> 230.90329 | M9: =Cockpit!$Q$29 -> -317.82667 | N9: =Cockpit!$Q$31-Cockpit!$H$20*Cockpit!$H$21*(1+Cockpit!$D$21)*(B9-$B13)/12 -> -547.2722 | O9: =(H9+J9+M9+N9)*Cockpit!$Q$33 -> 72.799612 | P9: =L9-O9 -> 158.10368 | R9: =$AL$9 -> 357400 | S9: =$AL$10 -> 0.88975937 | T9: =R9*S9 -> 318000 | U9: =U10+$U$7 -> 0.0238 | V9: =$AL$12 -> 0.0175 | W9: =$AL$13 -> 1333 | X9: =W9+Cockpit!$K$9 -> 1592.4933 | Y9: =-Cockpit!$K$12-Cockpit!$H$25*(Szenarien!W9-Szenarien!$AL$13) -> -317.82667 | Z9: =Cockpit!$Q$21-U9*(T9-$T$13)/12-(U9-$U$13)*$T$13/12 -> -630.7 | AA9: =Cockpit!$Q$22-V9*(T9-$T$13)/12-(V9-$V$13)*$T$13/12 -> -463.75 | AB9: =X9+Y9+Z9+AA9 -> 180.21667 | AC9: =Cockpit!$Q$29 -> -317.82667 | AD9: =Cockpit!$Q$31-Cockpit!$H$20*Cockpit!$H$21*(1+Cockpit!$D$21)*(R9-$R13)/12 -> -519.1532 | AE9: =(X9+Z9+AC9+AD9)*Cockpit!$Q$33 -> 52.421657 | AF9: =AB9-AE9 -> 127.79501 | AH9: Kaufpreis | AL9: =Cockpit!D14 -> 357400
B10: =B11+$B$7 -> 372400 | C10: =$AL$10 -> 0.88975937 | D10: =B10*C10 -> 331346.39 | E10: =$AL$11 -> 0.0198 | F10: =$AL$12 -> 0.0175 | G10: =$AL$13 -> 1333 | H10: =G10+Cockpit!$K$9 -> 1592.4933 | I10: =-Cockpit!$K$12-Cockpit!$H$25*(Szenarien!G10-Szenarien!$AL$13) -> -317.82667 | J10: =Cockpit!$Q$21-E10*(D10-$D13)/12 -> -546.72154 | K10: =Cockpit!$Q$22-F10*(D10-$D13)/12 -> -483.21349 | L10: =H10+I10+J10+K10 -> 244.73164 | M10: =Cockpit!$Q$29 -> -317.82667 | N10: =Cockpit!$Q$31-Cockpit!$H$20*Cockpit!$H$21*(1+Cockpit!$D$21)*(B10-$B13)/12 -> -540.24245 | O10: =(H10+J10+M10+N10)*Cockpit!$Q$33 -> 78.835124 | P10: =L10-O10 -> 165.89651 | R10: =$AL$9 -> 357400 | S10: =$AL$10 -> 0.88975937 | T10: =R10*S10 -> 318000 | U10: =U11+$U$7 -> 0.0228 | V10: =$AL$12 -> 0.0175 | W10: =$AL$13 -> 1333 | X10: =W10+Cockpit!$K$9 -> 1592.4933 | Y10: =-Cockpit!$K$12-Cockpit!$H$25*(Szenarien!W10-Szenarien!$AL$13) -> -317.82667 | Z10: =Cockpit!$Q$21-U10*(T10-$T$13)/12-(U10-$U$13)*$T$13/12 -> -604.2 | AA10: =Cockpit!$Q$22-V10*(T10-$T$13)/12-(V10-$V$13)*$T$13/12 -> -463.75 | AB10: =X10+Y10+Z10+AA10 -> 206.71667 | AC10: =Cockpit!$Q$29 -> -317.82667 | AD10: =Cockpit!$Q$31-Cockpit!$H$20*Cockpit!$H$21*(1+Cockpit!$D$21)*(R10-$R13)/12 -> -519.1532 | AE10: =(X10+Z10+AC10+AD10)*Cockpit!$Q$33 -> 63.551657 | AF10: =AB10-AE10 -> 143.16501 | AH10: Darlehen I % Kaufpreis | AL10: =Cockpit!N17/AL9 -> 0.88975937
B11: =B12+$B$7 -> 367400 | C11: =$AL$10 -> 0.88975937 | D11: =B11*C11 -> 326897.59 | E11: =$AL$11 -> 0.0198 | F11: =$AL$12 -> 0.0175 | G11: =$AL$13 -> 1333 | H11: =G11+Cockpit!$K$9 -> 1592.4933 | I11: =-Cockpit!$K$12-Cockpit!$H$25*(Szenarien!G11-Szenarien!$AL$13) -> -317.82667 | J11: =Cockpit!$Q$21-E11*(D11-$D13)/12 -> -539.38103 | K11: =Cockpit!$Q$22-F11*(D11-$D13)/12 -> -476.72566 | L11: =H11+I11+J11+K11 -> 258.55998 | M11: =Cockpit!$Q$29 -> -317.82667 | N11: =Cockpit!$Q$31-Cockpit!$H$20*Cockpit!$H$21*(1+Cockpit!$D$21)*(B11-$B13)/12 -> -533.2127 | O11: =(H11+J11+M11+N11)*Cockpit!$Q$33 -> 84.870635 | P11: =L11-O11 -> 173.68934 | R11: =$AL$9 -> 357400 | S11: =$AL$10 -> 0.88975937 | T11: =R11*S11 -> 318000 | U11: =U12+$U$7 -> 0.0218 | V11: =$AL$12 -> 0.0175 | W11: =$AL$13 -> 1333 | X11: =W11+Cockpit!$K$9 -> 1592.4933 | Y11: =-Cockpit!$K$12-Cockpit!$H$25*(Szenarien!W11-Szenarien!$AL$13) -> -317.82667 | Z11: =Cockpit!$Q$21-U11*(T11-$T$13)/12-(U11-$U$13)*$T$13/12 -> -577.7 | AA11: =Cockpit!$Q$22-V11*(T11-$T$13)/12-(V11-$V$13)*$T$13/12 -> -463.75 | AB11: =X11+Y11+Z11+AA11 -> 233.21667 | AC11: =Cockpit!$Q$29 -> -317.82667 | AD11: =Cockpit!$Q$31-Cockpit!$H$20*Cockpit!$H$21*(1+Cockpit!$D$21)*(R11-$R13)/12 -> -519.1532 | AE11: =(X11+Z11+AC11+AD11)*Cockpit!$Q$33 -> 74.681657 | AF11: =AB11-AE11 -> 158.53501 | AH11: Zinssatz Darlehen I | AL11: =Cockpit!N18 -> 0.0198
B12: =B13+$B$7 -> 362400 | C12: =$AL$10 -> 0.88975937 | D12: =B12*C12 -> 322448.8 | E12: =$AL$11 -> 0.0198 | F12: =$AL$12 -> 0.0175 | G12: =$AL$13 -> 1333 | H12: =G12+Cockpit!$K$9 -> 1592.4933 | I12: =-Cockpit!$K$12-Cockpit!$H$25*(Szenarien!G12-Szenarien!$AL$13) -> -317.82667 | J12: =Cockpit!$Q$21-E12*(D12-$D13)/12 -> -532.04051 | K12: =Cockpit!$Q$22-F12*(D12-$D13)/12 -> -470.23783 | L12: =H12+I12+J12+K12 -> 272.38832 | M12: =Cockpit!$Q$29 -> -317.82667 | N12: =Cockpit!$Q$31-Cockpit!$H$20*Cockpit!$H$21*(1+Cockpit!$D$21)*(B12-$B13)/12 -> -526.18295 | O12: =(H12+J12+M12+N12)*Cockpit!$Q$33 -> 90.906146 | P12: =L12-O12 -> 181.48218 | R12: =$AL$9 -> 357400 | S12: =$AL$10 -> 0.88975937 | T12: =R12*S12 -> 318000 | U12: =U13+$U$7 -> 0.0208 | V12: =$AL$12 -> 0.0175 | W12: =$AL$13 -> 1333 | X12: =W12+Cockpit!$K$9 -> 1592.4933 | Y12: =-Cockpit!$K$12-Cockpit!$H$25*(Szenarien!W12-Szenarien!$AL$13) -> -317.82667 | Z12: =Cockpit!$Q$21-U12*(T12-$T$13)/12-(U12-$U$13)*$T$13/12 -> -551.2 | AA12: =Cockpit!$Q$22-V12*(T12-$T$13)/12-(V12-$V$13)*$T$13/12 -> -463.75 | AB12: =X12+Y12+Z12+AA12 -> 259.71667 | AC12: =Cockpit!$Q$29 -> -317.82667 | AD12: =Cockpit!$Q$31-Cockpit!$H$20*Cockpit!$H$21*(1+Cockpit!$D$21)*(R12-$R13)/12 -> -519.1532 | AE12: =(X12+Z12+AC12+AD12)*Cockpit!$Q$33 -> 85.811657 | AF12: =AB12-AE12 -> 173.90501 | AH12: Anfängliche Tilgung Darlehen I | AL12: =Cockpit!N19 -> 0.0175
B13: =$AL$9 -> 357400 | C13: =$AL$10 -> 0.88975937 | D13: =B13*C13 -> 318000 | E13: =$AL$11 -> 0.0198 | F13: =$AL$12 -> 0.0175 | G13: =$AL$13 -> 1333 | H13: =G13+Cockpit!$K$9 -> 1592.4933 | I13: =-Cockpit!$K$12-Cockpit!$H$25*(Szenarien!G13-Szenarien!$AL$13) -> -317.82667 | J13: =Cockpit!$Q$21-E13*(D13-$D13)/12 -> -524.7 | K13: =Cockpit!$Q$22-F13*(D13-$D13)/12 -> -463.75 | L13: =H13+I13+J13+K13 -> 286.21667 | M13: =Cockpit!$Q$29 -> -317.82667 | N13: =Cockpit!$Q$31-Cockpit!$H$20*Cockpit!$H$21*(1+Cockpit!$D$21)*(B13-$B13)/12 -> -519.1532 | O13: =(H13+J13+M13+N13)*Cockpit!$Q$33 -> 96.941657 | P13: =L13-O13 -> 189.27501 | R13: =$AL$9 -> 357400 | S13: =$AL$10 -> 0.88975937 | T13: =R13*S13 -> 318000 | U13: =$AL$11 -> 0.0198 | V13: =$AL$12 -> 0.0175 | W13: =$AL$13 -> 1333 | X13: =W13+Cockpit!$K$9 -> 1592.4933 | Y13: =-Cockpit!$K$12-Cockpit!$H$25*(Szenarien!W13-Szenarien!$AL$13) -> -317.82667 | Z13: =Cockpit!$Q$21-U13*(T13-$T$13)/12-(U13-$U$13)*$T$13/12 -> -524.7 | AA13: =Cockpit!$Q$22-V13*(T13-$T$13)/12-(V13-$V$13)*$T$13/12 -> -463.75 | AB13: =X13+Y13+Z13+AA13 -> 286.21667 | AC13: =Cockpit!$Q$29 -> -317.82667 | AD13: =Cockpit!$Q$31-Cockpit!$H$20*Cockpit!$H$21*(1+Cockpit!$D$21)*(R13-$R13)/12 -> -519.1532 | AE13: =(X13+Z13+AC13+AD13)*Cockpit!$Q$33 -> 96.941657 | AF13: =AB13-AE13 -> 189.27501 | AH13: Nettokaltmiete | AL13: =Cockpit!H15 -> 1333
B14: =B13-$B$7 -> 352400 | C14: =$AL$10 -> 0.88975937 | D14: =B14*C14 -> 313551.2 | E14: =$AL$11 -> 0.0198 | F14: =$AL$12 -> 0.0175 | G14: =$AL$13 -> 1333 | H14: =G14+Cockpit!$K$9 -> 1592.4933 | I14: =-Cockpit!$K$12-Cockpit!$H$25*(Szenarien!G14-Szenarien!$AL$13) -> -317.82667 | J14: =Cockpit!$Q$21-E14*(D14-$D13)/12 -> -517.35949 | K14: =Cockpit!$Q$22-F14*(D14-$D13)/12 -> -457.26217 | L14: =H14+I14+J14+K14 -> 300.04501 | M14: =Cockpit!$Q$29 -> -317.82667 | N14: =Cockpit!$Q$31-Cockpit!$H$20*Cockpit!$H$21*(1+Cockpit!$D$21)*(B14-$B13)/12 -> -512.12345 | O14: =(H14+J14+M14+N14)*Cockpit!$Q$33 -> 102.97717 | P14: =L14-O14 -> 197.06784 | R14: =$AL$9 -> 357400 | S14: =$AL$10 -> 0.88975937 | T14: =R14*S14 -> 318000 | U14: =U13-$U$7 -> 0.0188 | V14: =$AL$12 -> 0.0175 | W14: =$AL$13 -> 1333 | X14: =W14+Cockpit!$K$9 -> 1592.4933 | Y14: =-Cockpit!$K$12-Cockpit!$H$25*(Szenarien!W14-Szenarien!$AL$13) -> -317.82667 | Z14: =Cockpit!$Q$21-U14*(T14-$T$13)/12-(U14-$U$13)*$T$13/12 -> -498.2 | AA14: =Cockpit!$Q$22-V14*(T14-$T$13)/12-(V14-$V$13)*$T$13/12 -> -463.75 | AB14: =X14+Y14+Z14+AA14 -> 312.71667 | AC14: =Cockpit!$Q$29 -> -317.82667 | AD14: =Cockpit!$Q$31-Cockpit!$H$20*Cockpit!$H$21*(1+Cockpit!$D$21)*(R14-$R13)/12 -> -519.1532 | AE14: =(X14+Z14+AC14+AD14)*Cockpit!$Q$33 -> 108.07166 | AF14: =AB14-AE14 -> 204.64501
B15: =B14-$B$7 -> 347400 | C15: =$AL$10 -> 0.88975937 | D15: =B15*C15 -> 309102.41 | E15: =$AL$11 -> 0.0198 | F15: =$AL$12 -> 0.0175 | G15: =$AL$13 -> 1333 | H15: =G15+Cockpit!$K$9 -> 1592.4933 | I15: =-Cockpit!$K$12-Cockpit!$H$25*(Szenarien!G15-Szenarien!$AL$13) -> -317.82667 | J15: =Cockpit!$Q$21-E15*(D15-$D13)/12 -> -510.01897 | K15: =Cockpit!$Q$22-F15*(D15-$D13)/12 -> -450.77434 | L15: =H15+I15+J15+K15 -> 313.87335 | M15: =Cockpit!$Q$29 -> -317.82667 | N15: =Cockpit!$Q$31-Cockpit!$H$20*Cockpit!$H$21*(1+Cockpit!$D$21)*(B15-$B13)/12 -> -505.0937 | O15: =(H15+J15+M15+N15)*Cockpit!$Q$33 -> 109.01268 | P15: =L15-O15 -> 204.86067 | R15: =$AL$9 -> 357400 | S15: =$AL$10 -> 0.88975937 | T15: =R15*S15 -> 318000 | U15: =U14-$U$7 -> 0.0178 | V15: =$AL$12 -> 0.0175 | W15: =$AL$13 -> 1333 | X15: =W15+Cockpit!$K$9 -> 1592.4933 | Y15: =-Cockpit!$K$12-Cockpit!$H$25*(Szenarien!W15-Szenarien!$AL$13) -> -317.82667 | Z15: =Cockpit!$Q$21-U15*(T15-$T$13)/12-(U15-$U$13)*$T$13/12 -> -471.7 | AA15: =Cockpit!$Q$22-V15*(T15-$T$13)/12-(V15-$V$13)*$T$13/12 -> -463.75 | AB15: =X15+Y15+Z15+AA15 -> 339.21667 | AC15: =Cockpit!$Q$29 -> -317.82667 | AD15: =Cockpit!$Q$31-Cockpit!$H$20*Cockpit!$H$21*(1+Cockpit!$D$21)*(R15-$R13)/12 -> -519.1532 | AE15: =(X15+Z15+AC15+AD15)*Cockpit!$Q$33 -> 119.20166 | AF15: =AB15-AE15 -> 220.01501
B16: =B15-$B$7 -> 342400 | C16: =$AL$10 -> 0.88975937 | D16: =B16*C16 -> 304653.61 | E16: =$AL$11 -> 0.0198 | F16: =$AL$12 -> 0.0175 | G16: =$AL$13 -> 1333 | H16: =G16+Cockpit!$K$9 -> 1592.4933 | I16: =-Cockpit!$K$12-Cockpit!$H$25*(Szenarien!G16-Szenarien!$AL$13) -> -317.82667 | J16: =Cockpit!$Q$21-E16*(D16-$D13)/12 -> -502.67846 | K16: =Cockpit!$Q$22-F16*(D16-$D13)/12 -> -444.28651 | L16: =H16+I16+J16+K16 -> 327.7017 | M16: =Cockpit!$Q$29 -> -317.82667 | N16: =Cockpit!$Q$31-Cockpit!$H$20*Cockpit!$H$21*(1+Cockpit!$D$21)*(B16-$B13)/12 -> -498.06395 | O16: =(H16+J16+M16+N16)*Cockpit!$Q$33 -> 115.04819 | P16: =L16-O16 -> 212.65351 | R16: =$AL$9 -> 357400 | S16: =$AL$10 -> 0.88975937 | T16: =R16*S16 -> 318000 | U16: =U15-$U$7 -> 0.0168 | V16: =$AL$12 -> 0.0175 | W16: =$AL$13 -> 1333 | X16: =W16+Cockpit!$K$9 -> 1592.4933 | Y16: =-Cockpit!$K$12-Cockpit!$H$25*(Szenarien!W16-Szenarien!$AL$13) -> -317.82667 | Z16: =Cockpit!$Q$21-U16*(T16-$T$13)/12-(U16-$U$13)*$T$13/12 -> -445.2 | AA16: =Cockpit!$Q$22-V16*(T16-$T$13)/12-(V16-$V$13)*$T$13/12 -> -463.75 | AB16: =X16+Y16+Z16+AA16 -> 365.71667 | AC16: =Cockpit!$Q$29 -> -317.82667 | AD16: =Cockpit!$Q$31-Cockpit!$H$20*Cockpit!$H$21*(1+Cockpit!$D$21)*(R16-$R13)/12 -> -519.1532 | AE16: =(X16+Z16+AC16+AD16)*Cockpit!$Q$33 -> 130.33166 | AF16: =AB16-AE16 -> 235.38501
B17: =B16-$B$7 -> 337400 | C17: =$AL$10 -> 0.88975937 | D17: =B17*C17 -> 300204.81 | E17: =$AL$11 -> 0.0198 | F17: =$AL$12 -> 0.0175 | G17: =$AL$13 -> 1333 | H17: =G17+Cockpit!$K$9 -> 1592.4933 | I17: =-Cockpit!$K$12-Cockpit!$H$25*(Szenarien!G17-Szenarien!$AL$13) -> -317.82667 | J17: =Cockpit!$Q$21-E17*(D17-$D13)/12 -> -495.33794 | K17: =Cockpit!$Q$22-F17*(D17-$D13)/12 -> -437.79868 | L17: =H17+I17+J17+K17 -> 341.53004 | M17: =Cockpit!$Q$29 -> -317.82667 | N17: =Cockpit!$Q$31-Cockpit!$H$20*Cockpit!$H$21*(1+Cockpit!$D$21)*(B17-$B13)/12 -> -491.0342 | O17: =(H17+J17+M17+N17)*Cockpit!$Q$33 -> 121.0837 | P17: =L17-O17 -> 220.44634 | R17: =$AL$9 -> 357400 | S17: =$AL$10 -> 0.88975937 | T17: =R17*S17 -> 318000 | U17: =U16-$U$7 -> 0.0158 | V17: =$AL$12 -> 0.0175 | W17: =$AL$13 -> 1333 | X17: =W17+Cockpit!$K$9 -> 1592.4933 | Y17: =-Cockpit!$K$12-Cockpit!$H$25*(Szenarien!W17-Szenarien!$AL$13) -> -317.82667 | Z17: =Cockpit!$Q$21-U17*(T17-$T$13)/12-(U17-$U$13)*$T$13/12 -> -418.7 | AA17: =Cockpit!$Q$22-V17*(T17-$T$13)/12-(V17-$V$13)*$T$13/12 -> -463.75 | AB17: =X17+Y17+Z17+AA17 -> 392.21667 | AC17: =Cockpit!$Q$29 -> -317.82667 | AD17: =Cockpit!$Q$31-Cockpit!$H$20*Cockpit!$H$21*(1+Cockpit!$D$21)*(R17-$R13)/12 -> -519.1532 | AE17: =(X17+Z17+AC17+AD17)*Cockpit!$Q$33 -> 141.46166 | AF17: =AB17-AE17 -> 250.75501
C20: Sprünge | V20: Sprünge | AM20: Sprünge
B21: Kaufpreis | C21: 0.05 | D21: Darlehen I Summe | E21: Darlehen I Zinssatz | F21: Darlehen I Tilgung | G21: Kaltmiete | H21: Warmmiete | I21: Bewirtschaftungskosten | J21: Zinsen | K21: Tilgung | L21: CF operativ | M21: Hausgeld und weitere Kosten | N21: AfA | O21: Steuern | P21: Cashflow nach Steuern (Monat) | R21: Kaufpreis | S21: Darlehen I % Kaufpreis | T21: Darlehen I Summe | U21: Darlehen I Zinssatz | V21: 0.005 | W21: Kaltmiete | X21: Warmmiete | Y21: Bewirtschaftungskosten | Z21: Zinsen | AA21: Tilgung | AB21: CF operativ | AC21: Hausgeld und weitere Kosten | AD21: AfA | AE21: Steuern | AF21: Cashflow nach Steuern (Monat) | AH21: Kaufpreis | AI21: Darlehen I % Kaufpreis | AJ21: Darlehen I Summe | AK21: Darlehen I Zinssatz | AL21: Darlehen I Tilgung | AM21: 26 | AN21: Warmmiete | AO21: Bewirtschaftungskosten | AP21: Zinsen | AQ21: Tilgung | AR21: CF operativ | AS21: Hausgeld und weitere Kosten | AT21: AfA | AU21: Steuern | AV21: Cashflow nach Steuern (Monat)
C22: % Kaufpreis | V22: Tilgung | AM22: Kaltmiete
B23: =$AL$9 -> 357400 | C23: =C24+$C$21 -> 1.0897594 | D23: =C23*B23 -> 389480 | E23: =$AL$11 -> 0.0198 | F23: =$AL$12 -> 0.0175 | G23: =$AL$13 -> 1333 | H23: =G23+Cockpit!$K$9 -> 1592.4933 | I23: =-Cockpit!$K$12-Cockpit!$H$25*(Szenarien!G23-Szenarien!$AL$13) -> -317.82667 | J23: =Cockpit!$Q$21-E23*(D23-$D27)/12 -> -642.642 | K23: =Cockpit!$Q$22-F23*(D23-$D27)/12 -> -567.99167 | L23: =H23+I23+J23+K23 -> 64.033 | M23: =Cockpit!$Q$29 -> -317.82667 | N23: =Cockpit!$Q$31-Cockpit!$H$20*Cockpit!$H$21*(1+Cockpit!$D$21)*(B23-$B27)/12 -> -519.1532 | O23: =(H23+J23+M23+N23)*Cockpit!$Q$33 -> 47.406017 | P23: =L23-O23 -> 16.626983 | R23: =$AL$9 -> 357400 | S23: =$AL$10 -> 0.88975937 | T23: =R23*S23 -> 318000 | U23: =$AL$11 -> 0.0198 | V23: =V24+$V$21 -> 0.0375 | W23: =$AL$13 -> 1333 | X23: =W23+Cockpit!$K$9 -> 1592.4933 | Y23: =-Cockpit!$K$12-Cockpit!$H$25*(Szenarien!W23-Szenarien!$AL$13) -> -317.82667 | Z23: =Cockpit!$Q$21-U23*(T23-$T$13)/12-(U23-$U$13)*$T$13/12 -> -524.7 | AA23: =Cockpit!$Q$22-V23*(T23-$T$13)/12-(V23-$V$13)*$T$13/12 -> -993.75 | AB23: =X23+Y23+Z23+AA23 -> -243.78333 | AC23: =Cockpit!$Q$29 -> -317.82667 | AD23: =Cockpit!$Q$31-Cockpit!$H$20*Cockpit!$H$21*(1+Cockpit!$D$21)*(R23-$R27)/12 -> -519.1532 | AE23: =(X23+Z23+AC23+AD23)*Cockpit!$Q$33 -> 96.941657 | AF23: =AB23-AE23 -> -340.72499 | AH23: =$AL$9 -> 357400 | AI23: =$AL$10 -> 0.88975937 | AJ23: =AH23*AI23 -> 318000 | AK23: =$AL$11 -> 0.0198 | AL23: =$AL$12 -> 0.0175 | AM23: =AM24+$AM$21 -> 1437 | AN23: =AM23+Cockpit!$K$9 -> 1696.4933 | AO23: =-Cockpit!$K$12-Cockpit!$H$25*(Szenarien!AM23-Szenarien!$AL$13) -> -317.82667 | AP23: =Cockpit!$Q$21-AK23*(AJ23-$T$13)/12-(AK23-$U$13)*$T$13/12 -> -524.7 | AQ23: =Cockpit!$Q$22-AL23*(AJ23-$T$13)/12-(AL23-$V$13)*$T$13/12 -> -463.75 | AR23: =AN23+AO23+AP23+AQ23 -> 390.21667 | AS23: =Cockpit!$Q$29 -> -317.82667 | AT23: =Cockpit!$Q$31-Cockpit!$H$20*Cockpit!$H$21*(1+Cockpit!$D$21)*(AH23-$AH27)/12 -> -519.1532 | AU23: =(AN23+AP23+AS23+AT23)*Cockpit!$Q$33 -> 140.62166 | AV23: =AR23-AU23 -> 249.59501
B24: =$AL$9 -> 357400 | C24: =C25+$C$21 -> 1.0397594 | D24: =C24*B24 -> 371610 | E24: =$AL$11 -> 0.0198 | F24: =$AL$12 -> 0.0175 | G24: =$AL$13 -> 1333 | H24: =G24+Cockpit!$K$9 -> 1592.4933 | I24: =-Cockpit!$K$12-Cockpit!$H$25*(Szenarien!G24-Szenarien!$AL$13) -> -317.82667 | J24: =Cockpit!$Q$21-E24*(D24-$D27)/12 -> -613.1565 | K24: =Cockpit!$Q$22-F24*(D24-$D27)/12 -> -541.93125 | L24: =H24+I24+J24+K24 -> 119.57892 | M24: =Cockpit!$Q$29 -> -317.82667 | N24: =Cockpit!$Q$31-Cockpit!$H$20*Cockpit!$H$21*(1+Cockpit!$D$21)*(B24-$B27)/12 -> -519.1532 | O24: =(H24+J24+M24+N24)*Cockpit!$Q$33 -> 59.789927 | P24: =L24-O24 -> 59.788989 | R24: =$AL$9 -> 357400 | S24: =$AL$10 -> 0.88975937 | T24: =R24*S24 -> 318000 | U24: =$AL$11 -> 0.0198 | V24: =V25+$V$21 -> 0.0325 | W24: =$AL$13 -> 1333 | X24: =W24+Cockpit!$K$9 -> 1592.4933 | Y24: =-Cockpit!$K$12-Cockpit!$H$25*(Szenarien!W24-Szenarien!$AL$13) -> -317.82667 | Z24: =Cockpit!$Q$21-U24*(T24-$T$13)/12-(U24-$U$13)*$T$13/12 -> -524.7 | AA24: =Cockpit!$Q$22-V24*(T24-$T$13)/12-(V24-$V$13)*$T$13/12 -> -861.25 | AB24: =X24+Y24+Z24+AA24 -> -111.28333 | AC24: =Cockpit!$Q$29 -> -317.82667 | AD24: =Cockpit!$Q$31-Cockpit!$H$20*Cockpit!$H$21*(1+Cockpit!$D$21)*(R24-$R27)/12 -> -519.1532 | AE24: =(X24+Z24+AC24+AD24)*Cockpit!$Q$33 -> 96.941657 | AF24: =AB24-AE24 -> -208.22499 | AH24: =$AL$9 -> 357400 | AI24: =$AL$10 -> 0.88975937 | AJ24: =AH24*AI24 -> 318000 | AK24: =$AL$11 -> 0.0198 | AL24: =$AL$12 -> 0.0175 | AM24: =AM25+$AM$21 -> 1411 | AN24: =AM24+Cockpit!$K$9 -> 1670.4933 | AO24: =-Cockpit!$K$12-Cockpit!$H$25*(Szenarien!AM24-Szenarien!$AL$13) -> -317.82667 | AP24: =Cockpit!$Q$21-AK24*(AJ24-$T$13)/12-(AK24-$U$13)*$T$13/12 -> -524.7 | AQ24: =Cockpit!$Q$22-AL24*(AJ24-$T$13)/12-(AL24-$V$13)*$T$13/12 -> -463.75 | AR24: =AN24+AO24+AP24+AQ24 -> 364.21667 | AS24: =Cockpit!$Q$29 -> -317.82667 | AT24: =Cockpit!$Q$31-Cockpit!$H$20*Cockpit!$H$21*(1+Cockpit!$D$21)*(AH24-$AH27)/12 -> -519.1532 | AU24: =(AN24+AP24+AS24+AT24)*Cockpit!$Q$33 -> 129.70166 | AV24: =AR24-AU24 -> 234.51501
B25: =$AL$9 -> 357400 | C25: =C26+$C$21 -> 0.98975937 | D25: =C25*B25 -> 353740 | E25: =$AL$11 -> 0.0198 | F25: =$AL$12 -> 0.0175 | G25: =$AL$13 -> 1333 | H25: =G25+Cockpit!$K$9 -> 1592.4933 | I25: =-Cockpit!$K$12-Cockpit!$H$25*(Szenarien!G25-Szenarien!$AL$13) -> -317.82667 | J25: =Cockpit!$Q$21-E25*(D25-$D27)/12 -> -583.671 | K25: =Cockpit!$Q$22-F25*(D25-$D27)/12 -> -515.87083 | L25: =H25+I25+J25+K25 -> 175.12483 | M25: =Cockpit!$Q$29 -> -317.82667 | N25: =Cockpit!$Q$31-Cockpit!$H$20*Cockpit!$H$21*(1+Cockpit!$D$21)*(B25-$B27)/12 -> -519.1532 | O25: =(H25+J25+M25+N25)*Cockpit!$Q$33 -> 72.173837 | P25: =L25-O25 -> 102.951 | R25: =$AL$9 -> 357400 | S25: =$AL$10 -> 0.88975937 | T25: =R25*S25 -> 318000 | U25: =$AL$11 -> 0.0198 | V25: =V26+$V$21 -> 0.0275 | W25: =$AL$13 -> 1333 | X25: =W25+Cockpit!$K$9 -> 1592.4933 | Y25: =-Cockpit!$K$12-Cockpit!$H$25*(Szenarien!W25-Szenarien!$AL$13) -> -317.82667 | Z25: =Cockpit!$Q$21-U25*(T25-$T$13)/12-(U25-$U$13)*$T$13/12 -> -524.7 | AA25: =Cockpit!$Q$22-V25*(T25-$T$13)/12-(V25-$V$13)*$T$13/12 -> -728.75 | AB25: =X25+Y25+Z25+AA25 -> 21.216667 | AC25: =Cockpit!$Q$29 -> -317.82667 | AD25: =Cockpit!$Q$31-Cockpit!$H$20*Cockpit!$H$21*(1+Cockpit!$D$21)*(R25-$R27)/12 -> -519.1532 | AE25: =(X25+Z25+AC25+AD25)*Cockpit!$Q$33 -> 96.941657 | AF25: =AB25-AE25 -> -75.724991 | AH25: =$AL$9 -> 357400 | AI25: =$AL$10 -> 0.88975937 | AJ25: =AH25*AI25 -> 318000 | AK25: =$AL$11 -> 0.0198 | AL25: =$AL$12 -> 0.0175 | AM25: =AM26+$AM$21 -> 1385 | AN25: =AM25+Cockpit!$K$9 -> 1644.4933 | AO25: =-Cockpit!$K$12-Cockpit!$H$25*(Szenarien!AM25-Szenarien!$AL$13) -> -317.82667 | AP25: =Cockpit!$Q$21-AK25*(AJ25-$T$13)/12-(AK25-$U$13)*$T$13/12 -> -524.7 | AQ25: =Cockpit!$Q$22-AL25*(AJ25-$T$13)/12-(AL25-$V$13)*$T$13/12 -> -463.75 | AR25: =AN25+AO25+AP25+AQ25 -> 338.21667 | AS25: =Cockpit!$Q$29 -> -317.82667 | AT25: =Cockpit!$Q$31-Cockpit!$H$20*Cockpit!$H$21*(1+Cockpit!$D$21)*(AH25-$AH27)/12 -> -519.1532 | AU25: =(AN25+AP25+AS25+AT25)*Cockpit!$Q$33 -> 118.78166 | AV25: =AR25-AU25 -> 219.43501
B26: =$AL$9 -> 357400 | C26: =C27+$C$21 -> 0.93975937 | D26: =C26*B26 -> 335870 | E26: =$AL$11 -> 0.0198 | F26: =$AL$12 -> 0.0175 | G26: =$AL$13 -> 1333 | H26: =G26+Cockpit!$K$9 -> 1592.4933 | I26: =-Cockpit!$K$12-Cockpit!$H$25*(Szenarien!G26-Szenarien!$AL$13) -> -317.82667 | J26: =Cockpit!$Q$21-E26*(D26-$D27)/12 -> -554.1855 | K26: =Cockpit!$Q$22-F26*(D26-$D27)/12 -> -489.81042 | L26: =H26+I26+J26+K26 -> 230.67075 | M26: =Cockpit!$Q$29 -> -317.82667 | N26: =Cockpit!$Q$31-Cockpit!$H$20*Cockpit!$H$21*(1+Cockpit!$D$21)*(B26-$B27)/12 -> -519.1532 | O26: =(H26+J26+M26+N26)*Cockpit!$Q$33 -> 84.557747 | P26: =L26-O26 -> 146.113 | R26: =$AL$9 -> 357400 | S26: =$AL$10 -> 0.88975937 | T26: =R26*S26 -> 318000 | U26: =$AL$11 -> 0.0198 | V26: =V27+$V$21 -> 0.0225 | W26: =$AL$13 -> 1333 | X26: =W26+Cockpit!$K$9 -> 1592.4933 | Y26: =-Cockpit!$K$12-Cockpit!$H$25*(Szenarien!W26-Szenarien!$AL$13) -> -317.82667 | Z26: =Cockpit!$Q$21-U26*(T26-$T$13)/12-(U26-$U$13)*$T$13/12 -> -524.7 | AA26: =Cockpit!$Q$22-V26*(T26-$T$13)/12-(V26-$V$13)*$T$13/12 -> -596.25 | AB26: =X26+Y26+Z26+AA26 -> 153.71667 | AC26: =Cockpit!$Q$29 -> -317.82667 | AD26: =Cockpit!$Q$31-Cockpit!$H$20*Cockpit!$H$21*(1+Cockpit!$D$21)*(R26-$R27)/12 -> -519.1532 | AE26: =(X26+Z26+AC26+AD26)*Cockpit!$Q$33 -> 96.941657 | AF26: =AB26-AE26 -> 56.775009 | AH26: =$AL$9 -> 357400 | AI26: =$AL$10 -> 0.88975937 | AJ26: =AH26*AI26 -> 318000 | AK26: =$AL$11 -> 0.0198 | AL26: =$AL$12 -> 0.0175 | AM26: =AM27+$AM$21 -> 1359 | AN26: =AM26+Cockpit!$K$9 -> 1618.4933 | AO26: =-Cockpit!$K$12-Cockpit!$H$25*(Szenarien!AM26-Szenarien!$AL$13) -> -317.82667 | AP26: =Cockpit!$Q$21-AK26*(AJ26-$T$13)/12-(AK26-$U$13)*$T$13/12 -> -524.7 | AQ26: =Cockpit!$Q$22-AL26*(AJ26-$T$13)/12-(AL26-$V$13)*$T$13/12 -> -463.75 | AR26: =AN26+AO26+AP26+AQ26 -> 312.21667 | AS26: =Cockpit!$Q$29 -> -317.82667 | AT26: =Cockpit!$Q$31-Cockpit!$H$20*Cockpit!$H$21*(1+Cockpit!$D$21)*(AH26-$AH27)/12 -> -519.1532 | AU26: =(AN26+AP26+AS26+AT26)*Cockpit!$Q$33 -> 107.86166 | AV26: =AR26-AU26 -> 204.35501
